BEGIN:VCALENDAR
VERSION:2.0
PRODID:-//Minnesota Humanities Center - ECPv6.15.20//NONSGML v1.0//EN
CALSCALE:GREGORIAN
METHOD:PUBLISH
X-WR-CALNAME:Minnesota Humanities Center
X-ORIGINAL-URL:https://www.mnhum.org
X-WR-CALDESC:Events for Minnesota Humanities Center
REFRESH-INTERVAL;VALUE=DURATION:PT1H
X-Robots-Tag:noindex
X-PUBLISHED-TTL:PT1H
BEGIN:VTIMEZONE
TZID:America/Chicago
BEGIN:DAYLIGHT
TZOFFSETFROM:-0600
TZOFFSETTO:-0500
TZNAME:CDT
DTSTART:20240310T080000
END:DAYLIGHT
BEGIN:STANDARD
TZOFFSETFROM:-0500
TZOFFSETTO:-0600
TZNAME:CST
DTSTART:20241103T070000
END:STANDARD
BEGIN:DAYLIGHT
TZOFFSETFROM:-0600
TZOFFSETTO:-0500
TZNAME:CDT
DTSTART:20250309T080000
END:DAYLIGHT
BEGIN:STANDARD
TZOFFSETFROM:-0500
TZOFFSETTO:-0600
TZNAME:CST
DTSTART:20251102T070000
END:STANDARD
BEGIN:DAYLIGHT
TZOFFSETFROM:-0600
TZOFFSETTO:-0500
TZNAME:CDT
DTSTART:20260308T080000
END:DAYLIGHT
BEGIN:STANDARD
TZOFFSETFROM:-0500
TZOFFSETTO:-0600
TZNAME:CST
DTSTART:20261101T070000
END:STANDARD
END:VTIMEZONE
BEGIN:VEVENT
DTSTART;TZID=America/Chicago:20250626T090000
DTEND;TZID=America/Chicago:20250626T160000
DTSTAMP:20260421T185914
CREATED:20250602T152949Z
LAST-MODIFIED:20250617T214458Z
UID:10000515-1750928400-1750953600@www.mnhum.org
SUMMARY:St. Paul - Ancestral Art - Hmong Weaving & Textile Retreat
DESCRIPTION:Join us for a daylong retreat with master weaver from Thailand\, Ms. Li Sawangcharoensap (Lig Yaaj). Her presence will offer rare\, hands-on opportunities for Hmong Americans and the broader community to engage directly with an ancestral art form that has largely remained unseen outside Southeast Asia. We are excited to collaborate with RedGreen Rivers\, Minnesota Hmong Museum\, and Weaver’s Guild of Minnesota to host a unique daylong retreat in the ancestral art of traditional Hmong weaving. \nA delicious Southeast Asian lunch will be served. Participants are welcome to wear clothing representing their cultural heritage. \nDue to limited weaving tools\, space is limited to 20 adults.  \nChildren are welcome to join their guardian at no additional cost but may be limited to commercial art projects and supplies. Child spots are limited to 10.  Please contact MayKao Fredericks at maykao@mnhum.org to reserve a spot for your child.  \nK-12 Educators will receive 3 clock hours. \n \nAbout Ms. Li Sawangcharoensap (Lig Yaaj)\nMs. Li Sawangcharoensap (Lig Yaaj) is a master practitioner of the traditional Hmong art of processing and weaving hemp by hand—a centuries-old craft now endangered by industrialization and displacement. As a member of the Hemp Weaving Group of Khiri Rat\, she has dedicated her life to preserving and revitalizing this intricate practice\, which includes cultivating\, harvesting\, retting\, spinning\, and weaving hemp fiber entirely by hand. Her expertise and lived experience uniquely position her to educate others about this vital cultural heritage. In 2024\, her work was featured by RedGreen Rivers in Cloth Origins: Textiles from the Hmong Journey at the prestigious John Michael Kohler Arts Center. \nMs. Sawangcharoensap’s upcoming visit to Minnesota and Wisconsin will be her first time to the U.S. and will include a series of events celebrating Hmong women as cultural bearers and tradition keepers.  \nRegistration\nIf cost is a barrier\, please contact MayKao Fredericks at maykao@mnhum.org before registering. A limited number of scholarships are available. \nPlease register early and contact us if you are no longer able to attend.  \nRegistration Questions: registrations@mnhum.org | MHC Cancellation Policy \nRegister Now
URL:https://www.mnhum.org/event/ancestral-art-hmong-weaving-textile-retreat/
LOCATION:XIA Books & Cafe\, 422 University Ave W\, St. Paul\, MN\, 55103\, United States
CATEGORIES:CEUs/Clock Hours,Immersive Experiences,Kid Friendly
ATTACH;FMTTYPE=image/png:https://www.mnhum.org/wp-content/uploads/2025/06/event_hmong_weaving_2025.png
ORGANIZER;CN="MayKao Fredericks":MAILTO:maykao@mnhum.org
END:VEVENT
BEGIN:VEVENT
DTSTART;TZID=America/Chicago:20250627T140000
DTEND;TZID=America/Chicago:20250627T160000
DTSTAMP:20260421T185914
CREATED:20250522T184811Z
LAST-MODIFIED:20250611T190328Z
UID:10000512-1751032800-1751040000@www.mnhum.org
SUMMARY:St. Paul – Kumbayah\, The Juneteenth Story: Special Edition
DESCRIPTION:This theatrical experience\, written by Rose McGee\, takes audiences on a journey into the past\, addressing the origins of Juneteenth and the imagined impact on the lives of individuals hearing the news of the Emancipation Proclamation and that the Civil War was over. \n\nPresented in partnership with Sweet Potato Comfort Pie.\n\nRegistration\nThis performance is free to attend\, but registration is required.\n\nRegistration Questions: oshaughnessy@stkate.edu \n\nRegister Now\n\n\n\n\n\n\nThank you to our sponsors!
URL:https://www.mnhum.org/event/st-paul-kumbayah-the-juneteenth-story-special-edition/
LOCATION:The O’Shaughnessy at St. Catherine University\, 2004 Randolph Ave\, St. Paul\, MN\, 55105\, United States
CATEGORIES:Free,Juneteenth,Kid Friendly,Kumbayah,Public Programming
ATTACH;FMTTYPE=image/jpeg:https://www.mnhum.org/wp-content/uploads/2025/05/event_kumbayah_juneteenth_2025.jpg
ORGANIZER;CN="Rose McGee":MAILTO:rose@mnhum.org
END:VEVENT
BEGIN:VEVENT
DTSTART;TZID=America/Chicago:20250713T190000
DTEND;TZID=America/Chicago:20250713T210000
DTSTAMP:20260421T185914
CREATED:20250612T171435Z
LAST-MODIFIED:20250612T171801Z
UID:10000519-1752433200-1752440400@www.mnhum.org
SUMMARY:St. Paul - Summer on the Lawn: Shakespeare in Our Parks
DESCRIPTION:The Minnesota Humanities Center (MHC) enthusiastically welcomes Classical Actors Ensemble back to the MHC front lawn for the 11th season of Shakespeare in Our Parks. This season\, the Classical Actors Ensemble will present one of William Shakespeare’s lesser-known comedies\, “All’s Well That Ends Well.” Follow the trials and tribulations of the heroine Helena as she faces deception\, duress\, and death in her quest to win the heart of the snobbish and nowhere-near-good-enough-for-her Bertram. Guffaw\, jeer\, and cheer as a memorable cast of characters galivant through royal courts and battlefields and satirize social mores. \nPicnics\, lawn chairs\, sun umbrellas\, and blankets are welcome. Note that the performance is in an open field with minimal shade. Please plan accordingly. Restrooms will be available for use at the Minnesota Humanities Event Center. Can’t make it on July 13? Check out Classical Actors Ensemble’s full calendar for other performances across the Twin Cities this summer. \nFrom Classical Actors Ensemble: “The Theater is a sacred place. It is a public forum where actors and audience gather to contemplate what it means to be human. Shakespeare and his contemporaries grappled with that question in some of the English language’s best poetry\, leaving behind a canon of compelling stories with universal themes that provide invigorating challenge for actors and an awe-inspiring legacy for audiences. Classical Actors Ensemble performs the plays of the English Renaissance as they were originally intended: as popular entertainment for everyone. By demonstrating why these works of art are considered classic\, we freshly prove their relevance in today’s world.” \nThis event is part of MHC’s 2025 summer “Summer on the Lawn” series. \nRegistration\nRegistration is encouraged but not required. There is no cost to attend. \nRegister Now
URL:https://www.mnhum.org/event/summer-on-the-lawn-shakespeare-in-our-parks/
LOCATION:Minnesota Humanities Event Center\, 987 Ivy Avenue East\, Saint Paul\, MN\, 55106\, United States
CATEGORIES:Free,Public Programming,Summer on the Lawn
ATTACH;FMTTYPE=image/jpeg:https://www.mnhum.org/wp-content/uploads/2025/06/event_shakespeare_in_our_parks_2025.jpg
ORGANIZER;CN="Colin Nelson-Dusek":MAILTO:colin@mnhum.org
END:VEVENT
END:VCALENDAR