BEGIN:VCALENDAR
VERSION:2.0
PRODID:-//Minnesota Humanities Center - ECPv6.15.20//NONSGML v1.0//EN
CALSCALE:GREGORIAN
METHOD:PUBLISH
X-WR-CALNAME:Minnesota Humanities Center
X-ORIGINAL-URL:https://www.mnhum.org
X-WR-CALDESC:Events for Minnesota Humanities Center
REFRESH-INTERVAL;VALUE=DURATION:PT1H
X-Robots-Tag:noindex
X-PUBLISHED-TTL:PT1H
BEGIN:VTIMEZONE
TZID:America/Chicago
BEGIN:DAYLIGHT
TZOFFSETFROM:-0600
TZOFFSETTO:-0500
TZNAME:CDT
DTSTART:20240310T080000
END:DAYLIGHT
BEGIN:STANDARD
TZOFFSETFROM:-0500
TZOFFSETTO:-0600
TZNAME:CST
DTSTART:20241103T070000
END:STANDARD
BEGIN:DAYLIGHT
TZOFFSETFROM:-0600
TZOFFSETTO:-0500
TZNAME:CDT
DTSTART:20250309T080000
END:DAYLIGHT
BEGIN:STANDARD
TZOFFSETFROM:-0500
TZOFFSETTO:-0600
TZNAME:CST
DTSTART:20251102T070000
END:STANDARD
BEGIN:DAYLIGHT
TZOFFSETFROM:-0600
TZOFFSETTO:-0500
TZNAME:CDT
DTSTART:20260308T080000
END:DAYLIGHT
BEGIN:STANDARD
TZOFFSETFROM:-0500
TZOFFSETTO:-0600
TZNAME:CST
DTSTART:20261101T070000
END:STANDARD
END:VTIMEZONE
BEGIN:VEVENT
DTSTART;TZID=America/Chicago:20250913T130000
DTEND;TZID=America/Chicago:20250913T153000
DTSTAMP:20260421T175344
CREATED:20250814T230800Z
LAST-MODIFIED:20250814T230800Z
UID:10000560-1757768400-1757777400@www.mnhum.org
SUMMARY:St. Paul - Headscarf Story Circle Gathering
DESCRIPTION:The Minnesota Humanities Center (MHC) is excited to host Headscarf Story Circle – a series of offerings that recognize the strength and resiliency of women. Join us for our fourth offering as we gather together through the shared connection of the headscarf and its complexity. “Women Balancing Entrepreneurship and their own Wellness” is the theme. Well known community business advisor and consultant\, Mariam Mohamed serves as the MHC partner and co-designer of this event. Guests are encouraged to wear a headscarf or head dress that is symbolic of anything from a fashion statement\, cultural identity\, health related\, or memories\, and beliefs. \nLearn More About Headscarf Story Circles\nLearn more about Headscarf Story Circles program in this video produced by the Minnesota Humanities Center.\n  \n\n\n  \nRegistration\nRegistration Questions: registrations@mnhum.org  \nRegister Now
URL:https://www.mnhum.org/event/st-paul-headscarf-story-circle-gathering/
LOCATION:Minnesota Humanities Event Center\, 987 Ivy Avenue East\, Saint Paul\, MN\, 55106\, United States
CATEGORIES:Free,Headscarf Story Circle,Immersive Experiences
ATTACH;FMTTYPE=image/jpeg:https://www.mnhum.org/wp-content/uploads/2025/04/immersive_experiences_headscarf_story_circle_2025.jpg
ORGANIZER;CN="Rose McGee":MAILTO:rose@mnhum.org
END:VEVENT
BEGIN:VEVENT
DTSTART;TZID=America/Chicago:20250918T160000
DTEND;TZID=America/Chicago:20250918T173000
DTSTAMP:20260421T175344
CREATED:20250812T155554Z
LAST-MODIFIED:20260217T171101Z
UID:10000547-1758211200-1758216600@www.mnhum.org
SUMMARY:Online Pedagogy Session – Foundations and Framework
DESCRIPTION:This opening pedagogy session will provide a brief overview of the new Minnesota K–12 Academic Standards in Social Studies\, followed by an introduction to the structure and goals of the Navigating U.S. History Eras pedagogy sessions. Minnesota Department of Education (MDE) Social Studies Specialist Brittany Rawson-Haeg will guide participants in understanding how the series is designed to support inquiry-based\, standards-aligned approaches to teaching U.S. History. \nAll Pedagogy Sessions will be conducted via Zoom. Educators who participate in all Pedagogy Sessions will leave the year with a complete U.S. History course aligned to the new standards. \nEducators are invited to participate in companion Content Sessions. \nRegistration\nPedagogy Sessions are designed for high school U.S. History teachers and may also be relevant for 5th and 7th grade educators. Educators are welcome to register for individual sessions that align with their interests and schedules. Join us for one or more sessions throughout the year. \nThis event is free but registration is required. Separate registration is required for each offering. \nRegistration Questions: Brittany.Rawson-Haeg@state.mn.us \nRegister Now \nThis offering is part of Navigating the U.S. History Eras: Content\, Pedagogy\, and Inquiry in the Classroom is a yearlong professional learning opportunity supporting implementation of Minnesota’s 2021 K–12 Academic Standards in Social Studies presented by MHC and MDE.
URL:https://www.mnhum.org/event/online-pedagogy-session-era-one/
LOCATION:Online
CATEGORIES:Academic Standards,K-12 Education,Pedagogy Sessions,Professional Development,Social Studies Standards,US History Eras
ATTACH;FMTTYPE=image/jpeg:https://www.mnhum.org/wp-content/uploads/2025/08/event_us_history_pedagogy_session_2025.jpg
ORGANIZER;CN="Sung Ja Shin":MAILTO:sungja@mnhum.org
END:VEVENT
END:VCALENDAR