BEGIN:VCALENDAR
VERSION:2.0
PRODID:-//Minnesota Humanities Center - ECPv6.15.20//NONSGML v1.0//EN
CALSCALE:GREGORIAN
METHOD:PUBLISH
X-WR-CALNAME:Minnesota Humanities Center
X-ORIGINAL-URL:https://www.mnhum.org
X-WR-CALDESC:Events for Minnesota Humanities Center
REFRESH-INTERVAL;VALUE=DURATION:PT1H
X-Robots-Tag:noindex
X-PUBLISHED-TTL:PT1H
BEGIN:VTIMEZONE
TZID:America/Chicago
BEGIN:DAYLIGHT
TZOFFSETFROM:-0600
TZOFFSETTO:-0500
TZNAME:CDT
DTSTART:20250309T080000
END:DAYLIGHT
BEGIN:STANDARD
TZOFFSETFROM:-0500
TZOFFSETTO:-0600
TZNAME:CST
DTSTART:20251102T070000
END:STANDARD
BEGIN:DAYLIGHT
TZOFFSETFROM:-0600
TZOFFSETTO:-0500
TZNAME:CDT
DTSTART:20260308T080000
END:DAYLIGHT
BEGIN:STANDARD
TZOFFSETFROM:-0500
TZOFFSETTO:-0600
TZNAME:CST
DTSTART:20261101T070000
END:STANDARD
BEGIN:DAYLIGHT
TZOFFSETFROM:-0600
TZOFFSETTO:-0500
TZNAME:CDT
DTSTART:20270314T080000
END:DAYLIGHT
BEGIN:STANDARD
TZOFFSETFROM:-0500
TZOFFSETTO:-0600
TZNAME:CST
DTSTART:20271107T070000
END:STANDARD
END:VTIMEZONE
BEGIN:VEVENT
DTSTART;VALUE=DATE:20260410
DTEND;VALUE=DATE:20260412
DTSTAMP:20260422T020035
CREATED:20260318T205221Z
LAST-MODIFIED:20260318T205221Z
UID:10000640-1775779200-1775951999@www.mnhum.org
SUMMARY:St. Paul - IFest: International Festival of Minnesota
DESCRIPTION:After a multi-year hiatus\, a cherished cultural tradition is coming back with new life\, new leadership\, and renewed purpose. The International Festival of Minnesota (IFest) will bring together representatives from more than 70 nations and ethnic communities to celebrate the vibrant diversity of Minnesota and the world.  \nWith an expected 20\,000 attendees\, including 7\,000 students\, the festival will offer immersive experiences in global cuisine\, music\, dance\, artisan crafts\, storytelling\, and cultural demonstrations.\n \nThe Minnesota Humanities Center is proud to serve as the Official Education & Community Learning Partner for IFest. We have developed accessible and meaningful resources for educators and students to go deeper into the important mission of IFest and strengthen their cultural knowledge and fluency. Check out our new student toolkit and stay tuned for additional resources.   \nStudent Day: Friday\, April 10 – 9:00 a.m.-3:00 p.m. \nPublic Event: Friday\, April 10 – 9:00 a.m.-9:00 p.m. and Saturday\, April 11 – 9:00 a.m.-9:00 p.m. \nRegistration\nRegistration through the IFest website required. \nRegistration Questions: Contact IFest  \nStudent Day Admission \nPublic Event Admission
URL:https://www.mnhum.org/event/st-paul-ifest-international-festival-of-minnesota/
LOCATION:Saint Paul RiverCentre\, 175 Kellogg Blvd\, St. Paul\, MN\, 55102\, United States
CATEGORIES:K-12 Education
ATTACH;FMTTYPE=image/png:https://www.mnhum.org/wp-content/uploads/2026/03/event_international_festival_minnesota_2026.png
ORGANIZER;CN="Tiffany Orth":MAILTO:tiffany@mnhum.org
END:VEVENT
BEGIN:VEVENT
DTSTART;TZID=America/Chicago:20260412T140000
DTEND;TZID=America/Chicago:20260412T150000
DTSTAMP:20260422T020035
CREATED:20260407T143923Z
LAST-MODIFIED:20260407T144412Z
UID:10000646-1776002400-1776006000@www.mnhum.org
SUMMARY:Byron - MN DNR 59 Demonstration and Program on Invasive Species
DESCRIPTION:Learn from Conservation Officer Schlag and Canine Officer Trapper about the duties of protecting Minnesota’s natural resources. Watch a demonstration of the canine skills Trapper has been trained to do\, including how he finds invasive zebra mussels! \nThis event is free and open to all ages. Meet in the Nature Center. \nWe are Water MN is a project of the Minnesota Pollution Control Agency and the Minnesota Humanities Center in partnership with the Minnesota Historical Society; the Board of Water and Soil Resources; the Minnesota Departments of Agriculture\, Health\, and Natural Resources; and University of Minnesota Extension. \nWe are Water MN is funded by the Clean Water\, Land\, & Legacy Fund that was created with the vote of the people of Minnesota on November 4\, 2008.
URL:https://www.mnhum.org/event/byron-mn-dnr-59-demonstration-and-program-on-invasive-species/
LOCATION:Oxbow Park and Zollman Zoo\, 5731 County Rd 105 NW\, Byron\, MN\, 55920\, United States
CATEGORIES:Civic Renewal,Free,Greater Minnesota,Kid Friendly,We Are Water MN
ATTACH;FMTTYPE=image/jpeg:https://www.mnhum.org/wp-content/uploads/2026/04/event_we_are_water_mn_invasive_species.jpg
ORGANIZER;CN="Rachel Busse-Aswar":MAILTO:rachel@mnhum.org
END:VEVENT
BEGIN:VEVENT
DTSTART;TZID=America/Chicago:20260416T160000
DTEND;TZID=America/Chicago:20260416T173000
DTSTAMP:20260422T020035
CREATED:20250812T165652Z
LAST-MODIFIED:20260217T171014Z
UID:10000557-1776355200-1776360600@www.mnhum.org
SUMMARY:Online Pedagogy Session – Era Eight: Civil Rights Struggles
DESCRIPTION:Go beyond the 1960s to explore long civil rights movements\, from the Great Migration to Black Power\, and their relevance for students today. Using content and sources from Dr. Yohuru Williams\, Minnesota Department of Education (MDE) Social Studies Specialist Brittany Rawson-Haeg and experienced classroom educators will lead this hands-on workshop supporting high school U.S. History teachers in designing inquiry-based\, standards-aligned units. \nAll Pedagogy Sessions will be conducted via Zoom. Educators who participate in all Pedagogy Sessions will leave the year with a complete U.S. History course aligned to the new standards. \nEducators are invited to participate in companion Content Sessions. \nRegistration\nPedagogy Sessions are designed for high school U.S. History teachers and may also be relevant for 5th and 7th grade educators. Educators are welcome to register for individual sessions that align with their interests and schedules. Join us for one or more sessions throughout the year. \nThis event is free but registration is required. Separate registration is required for each offering. \nRegistration Questions: Brittany.Rawson-Haeg@state.mn.us \nRegister Now \nThis offering is part of Navigating the U.S. History Eras: Content\, Pedagogy\, and Inquiry in the Classroom is a yearlong professional learning opportunity supporting implementation of Minnesota’s 2021 –12 Academic Standards in Social Studies presented by MHC and MDE.
URL:https://www.mnhum.org/event/online-pedagogy-session-era-eight/
LOCATION:Online
CATEGORIES:Academic Standards,Free,K-12 Education,Online,Pedagogy Sessions,Professional Development,Social Studies Standards,US History Eras
ATTACH;FMTTYPE=image/jpeg:https://www.mnhum.org/wp-content/uploads/2025/08/event_us_history_pedagogy_session_2025.jpg
ORGANIZER;CN="Sung Ja Shin":MAILTO:sungja@mnhum.org
END:VEVENT
END:VCALENDAR