BEGIN:VCALENDAR
VERSION:2.0
PRODID:-//Minnesota Humanities Center - ECPv6.15.20//NONSGML v1.0//EN
CALSCALE:GREGORIAN
METHOD:PUBLISH
X-ORIGINAL-URL:https://www.mnhum.org
X-WR-CALDESC:Events for Minnesota Humanities Center
REFRESH-INTERVAL;VALUE=DURATION:PT1H
X-Robots-Tag:noindex
X-PUBLISHED-TTL:PT1H
BEGIN:VTIMEZONE
TZID:America/Chicago
BEGIN:DAYLIGHT
TZOFFSETFROM:-0600
TZOFFSETTO:-0500
TZNAME:CDT
DTSTART:20210314T080000
END:DAYLIGHT
BEGIN:STANDARD
TZOFFSETFROM:-0500
TZOFFSETTO:-0600
TZNAME:CST
DTSTART:20211107T070000
END:STANDARD
BEGIN:DAYLIGHT
TZOFFSETFROM:-0600
TZOFFSETTO:-0500
TZNAME:CDT
DTSTART:20220313T080000
END:DAYLIGHT
BEGIN:STANDARD
TZOFFSETFROM:-0500
TZOFFSETTO:-0600
TZNAME:CST
DTSTART:20221106T070000
END:STANDARD
BEGIN:DAYLIGHT
TZOFFSETFROM:-0600
TZOFFSETTO:-0500
TZNAME:CDT
DTSTART:20230312T080000
END:DAYLIGHT
BEGIN:STANDARD
TZOFFSETFROM:-0500
TZOFFSETTO:-0600
TZNAME:CST
DTSTART:20231105T070000
END:STANDARD
END:VTIMEZONE
BEGIN:VEVENT
DTSTART;VALUE=DATE:20220919
DTEND;VALUE=DATE:20221201
DTSTAMP:20260421T205322
CREATED:20220831T191042Z
LAST-MODIFIED:20250620T133630Z
UID:10000317-1663545600-1669852799@www.mnhum.org
SUMMARY:Minneapolis - Why Treaties Matter
DESCRIPTION:“Why Treaties Matter: Self-Government in the Dakota and Ojibwe Nations”—a traveling exhibit made in partnership with the Minnesota Indian Affairs Council and the Smithsonian’s National Museum of the American Indian—explores relationships between Dakota and Ojibwe Indian Nations and the U.S. government in this place we now call Minnesota.  \nWant to know more about Why Treaties Matter?\nLearn more about the Why Treaties Matter exhibit and partnership. \nLearn More
URL:https://www.mnhum.org/event/minneapolis-why-treaties-matter/
LOCATION:University of Minnesota Communty of Scholars Program Lounge\, 10 Church Street #375\, Minneapolis\, MN\, 55455\, United States
CATEGORIES:Civic Renewal,Exhibit,Free,Why Treaties Matter
ATTACH;FMTTYPE=image/jpeg:https://www.mnhum.org/wp-content/uploads/2022/06/event_why_treaties_matter.jpg
ORGANIZER;CN="Trygve Throntveit":MAILTO:trygve@mnhum.org
END:VEVENT
BEGIN:VEVENT
DTSTART;VALUE=DATE:20221013
DTEND;VALUE=DATE:20221206
DTSTAMP:20260421T205322
CREATED:20220505T151400Z
LAST-MODIFIED:20250814T174349Z
UID:10000260-1665619200-1670284799@www.mnhum.org
SUMMARY:Hastings – We Are Water MN
DESCRIPTION:Free with Admission\nThe We Are Water MN traveling exhibit examines water issues statewide and in local communities through personal stories\, histories\, and scientific information. It strengthens Minnesotans’ relationships with water\, exposes visitors to new perspectives\, and increases participation in water stewardship activities. \nHost Partner: Dakota County \nWant to know more about We Are Water MN?\nLearn more about the We Are Water MN exhibit\, partnership\, and programs. \nLEARN MORE
URL:https://www.mnhum.org/event/hastings-we-are-water-mn/
LOCATION:Pleasant Hill Library\, 1490 South Frontage Road\, Hastings\, Minnesota\, 55033\, United States
CATEGORIES:Exhibit,Free,Kid Friendly,We Are Water MN
ATTACH;FMTTYPE=image/jpeg:https://www.mnhum.org/wp-content/uploads/2022/04/event_we_are_water.jpg
ORGANIZER;CN="Rachel Busse-Aswar":MAILTO:rachel@mnhum.org
END:VEVENT
BEGIN:VEVENT
DTSTART;VALUE=DATE:20221013
DTEND;VALUE=DATE:20221206
DTSTAMP:20260421T205322
CREATED:20220505T153303Z
LAST-MODIFIED:20250814T174336Z
UID:10000261-1665619200-1670284799@www.mnhum.org
SUMMARY:Eagan - We Are Water MN
DESCRIPTION:Free with Admission\nThe We Are Water MN traveling exhibit examines water issues statewide and in local communities through personal stories\, histories\, and scientific information. It strengthens Minnesotans’ relationships with water\, exposes visitors to new perspectives\, and increases participation in water stewardship activities. \nHost Partner: Dakota County \nWant to know more about We Are Water MN?\nLearn more about the We Are Water MN exhibit\, partnership\, and programs. \nLEARN MORE
URL:https://www.mnhum.org/event/eagan-we-are-water-mn/
LOCATION:Lebanon Hills Visitor Center\, 860 Cliff Road\, Eagan\, MN\, 55123\, United States
CATEGORIES:Exhibit,Free,Kid Friendly,We Are Water MN
ATTACH;FMTTYPE=image/jpeg:https://www.mnhum.org/wp-content/uploads/2022/04/event_we_are_water.jpg
ORGANIZER;CN="Rachel Busse-Aswar":MAILTO:rachel@mnhum.org
END:VEVENT
BEGIN:VEVENT
DTSTART;TZID=America/Chicago:20221105T090000
DTEND;TZID=America/Chicago:20221105T120000
DTSTAMP:20260421T205322
CREATED:20220504T061031Z
LAST-MODIFIED:20230710T204625Z
UID:10000259-1667638800-1667649600@www.mnhum.org
SUMMARY:Online - Teaching Bdote
DESCRIPTION:Teaching Bdote: Tools for Teaching American Indian Content is designed for educators who have attended\, or are planning to attend\, Learning from Place: Bdote. This workshop is especially useful for developing unique classroom content to align with Minnesota State Social Studies Standards. \nOffered in collaboration with Saint Paul Public Schools\, this workshop will address the concerns and anxieties that non-indigenous educators may have around teaching Dakota content. A panel of teachers will share their experiences and learnings of leading their own Bdote tours with students. Educators will leave with new resources and content\, deeper understanding\, and ideas for how to lead a Bdote trip or to bring the experience into the classroom. \nTeaching Bdote will be facilitated and presented by Ramona Kitto Stately\, Ethan Neerdaels\, and the Saint Paul Public Schools Center for Equity and Culture. \nRegistration\nTo ensure that cost is not a barrier\, we have a limited number of complimentary spaces available for Minnesota residents. If you would like to receive a complimentary spot\, please register with the promo code FEEWAIVER (must be a Minnesota resident). \nIf you are a Saint Paul Public Schools educator\, please register with promo code SPPS22. \nRegistration Questions: registrations@mnhum.org | MHC Cancellation Policy \nRegistration Deadline: Friday\, November 4\, 2022 \nREGISTRATION FOR THIS EVENT HAS CLOSED
URL:https://www.mnhum.org/event/teaching-bdote/
LOCATION:Online
CATEGORIES:Online,Professional Development
ATTACH;FMTTYPE=image/jpeg:https://www.mnhum.org/wp-content/uploads/2022/05/event_teaching_bdote.jpg
ORGANIZER;CN="Eden Bart":MAILTO:eden@mnhum.org
END:VEVENT
BEGIN:VEVENT
DTSTART;TZID=America/Chicago:20221105T103000
DTEND;TZID=America/Chicago:20221105T123000
DTSTAMP:20260421T205322
CREATED:20220914T210840Z
LAST-MODIFIED:20250620T132640Z
UID:10000320-1667644200-1667651400@www.mnhum.org
SUMMARY:St. Paul - Objects of War: A Storytelling Circle
DESCRIPTION:Join the Minnesota Humanities Center on Saturday\, November 5 at 10:30 a.m. for a storytelling circle centered around “Objects of War.” Whether dog tags of a family member lost in service\, a good luck charm kept by a soldier\, or a family heirloom that traveled across the world by a refugee\, objects can hold deep meaning for those who have been impacted by war.  \nParticipants are invited to bring their own object to share that helps them tell the story of their own connection to war\, whether direct or indirect. Moderated by a Veteran and a refugee\, the conversation will examine why we hold on to certain material objects\, and how they can help us better understand the human experience of war. Noted photographer Xavier Tavera will be on hand to photograph interested participants with their objects. Co-sponsored by the Minnesota Historical Society and the Minnesota Assistance Council for Veterans. \nRegistration\nRegistration is required for this free event. Open to the public; lunch will be provided.  \nREGISTRATION FOR THIS EVENT HAS CLOSED
URL:https://www.mnhum.org/event/st-paul-objects-of-war/
LOCATION:Minnesota Humanities Event Center\, 987 Ivy Avenue East\, Saint Paul\, MN\, 55106\, United States
CATEGORIES:Free,Many Fronts,Public Programs,Refugees,Veterans
ATTACH;FMTTYPE=image/png:https://www.mnhum.org/wp-content/uploads/2022/09/event_objects_of_war.png
ORGANIZER;CN="Colin Nelson-Dusek":MAILTO:colin@mnhum.org
END:VEVENT
BEGIN:VEVENT
DTSTART;TZID=America/Chicago:20221112T090000
DTEND;TZID=America/Chicago:20221112T130000
DTSTAMP:20260421T205322
CREATED:20220503T184128Z
LAST-MODIFIED:20230606T172224Z
UID:10000244-1668243600-1668258000@www.mnhum.org
SUMMARY:Learning in Community: Hmong St. Paul
DESCRIPTION:There are nearly 300\,000 Asian Minnesotans\, more than 5% of our state’s population. Hmong\, Lao\, Cambodian\, and Vietnamese make up about 60% of the Asian population in Minnesota. Build your cultural understanding and awareness as you immerse yourself within St. Paul’s vibrant Hmong community through an interactive\, in-person experience. The day will begin and end at the Minnesota Humanities Center. We will travel by bus to Hmong Cultural Center’s new storefront museum for a tour and special presentation. We will then visit the iconic HmongTown Marketplace (a market of 125 small businesses and food vendors) where we will be greeted by the owner to learn about his story and have a guided tour of the market. There will be time for independent shopping and lunch. \nThis is a collaboration with Hmong Cultural Center and HmongTown Marketplace. \nSpace is limited to 50 participants. \nK-12 educators will receive 4 clock hours. \nPlease note: Registration cost does not include food. Participants are encouraged to support the financial recovery of small businesses by making purchases from the businesses they learn about on the tour. We recommend bringing cash\, as not all vendors accept credit cards. \nRegistration\nMembers of Minnesota’s Hmong community are welcome to register using promo code HMONGSTPAUL to waive the fee if they wish. \nIf cost is a barrier\, please contact Jessica Rust at jessica@mnhum.org before registering. \nRegistration Questions: registrations@mnhum.org | MHC Cancellation Policy \n  \nREGISTRATION FOR THIS EVENT HAS CLOSED
URL:https://www.mnhum.org/event/learning-in-community-hmong-st-paul/
LOCATION:Minnesota Humanities Event Center\, 987 Ivy Avenue East\, Saint Paul\, MN\, 55106\, United States
CATEGORIES:CEUs/Clock Hours,Immersive Experiences,Learning from Place,Professional Development,Public Programs
ATTACH;FMTTYPE=image/jpeg:https://www.mnhum.org/wp-content/uploads/2023/01/event_lfp_hmong_stpaul.jpg
ORGANIZER;CN="Eden Bart":MAILTO:eden@mnhum.org
END:VEVENT
BEGIN:VEVENT
DTSTART;TZID=America/Chicago:20221129T120000
DTEND;TZID=America/Chicago:20221129T133000
DTSTAMP:20260421T205322
CREATED:20221004T172220Z
LAST-MODIFIED:20250620T133719Z
UID:10000324-1669723200-1669728600@www.mnhum.org
SUMMARY:Bemidji - Treaties\, Strategies\, and Traditionalism
DESCRIPTION:This talk foregrounds Indigenous perspectives\, specifically those of the Anishinaabeg of Minnesota and Quebec\, on treaty signing\, economic activities\, and the seasonal round. Comparing Native and White perspectives on treaty signing throws into sharp relief the divergent understandings\, cultural differences\, and foreclosed opportunities that characterized these encounters. Participants will examine petitions and treaties from the mid- and late nineteenth centuries and put them in conversation with newer scholarship that emphasizes the Native perspective and a contextual approach to analysis.  This presentation will also encourage participants to consider the importance of how we interpret these petitions and treaties in terms of writing an accurate and more comprehensive history as well as their juridical implications in front of a conservative U.S. Supreme Court that has recently veered decidedly to the right.   \nRaised in Massachusetts\, Dr. Dennis Fisher is a descendant of Algonquin and Nipissing Anishinaabeg from Quebec. He was taught by his late mentor Stan Dumont Whiteduck and Elders at Kitigan Zibi — the largest and oldest Algonquin reserve in Canada.  He is a veteran and served as an emergency room medic in the United States Air Force.  He holds a PhD in History as well as a doctoral graduate portfolio in Native American and Indigenous Studies.  He has recently had an article published in American Indian Quarterly titled\, “War\, Wampum\, and Recognition: Algonquin Transborder Political Activism During the Early Twentieth Century\, 1919-1931.”  He is currently under contract with the University of British Columbia Press to publish his upcoming work\, To Not Sell One Perch:  Algonquin Politics and Culture at Kitigan Zibi During the Twentieth Century.  He has previously taught at White Earth Tribal and Community College and is currently Assistant Professor of Indigenous Studies at Bemidji State University. \nRegistration\nThis event is free\, but registration is required. \nREGISTRATION FOR THIS EVENT HAS CLOSED
URL:https://www.mnhum.org/event/treaties-strategies-traditionalism/
LOCATION:American Indian Resource Center\, Bemidji State University\, 1630 Birchmont Dr NE\, Bemidji\, MN\, 56601\, United States
CATEGORIES:Civic Renewal,Free,Greater Minnesota,Public Programs
ATTACH;FMTTYPE=image/jpeg:https://www.mnhum.org/wp-content/uploads/2022/10/event_treaties_strategies_traditionalism.jpg
ORGANIZER;CN="Trygve Throntveit":MAILTO:trygve@mnhum.org
END:VEVENT
END:VCALENDAR