BEGIN:VCALENDAR
VERSION:2.0
PRODID:-//Minnesota Humanities Center - ECPv6.15.20//NONSGML v1.0//EN
CALSCALE:GREGORIAN
METHOD:PUBLISH
X-WR-CALNAME:Minnesota Humanities Center
X-ORIGINAL-URL:https://www.mnhum.org
X-WR-CALDESC:Events for Minnesota Humanities Center
REFRESH-INTERVAL;VALUE=DURATION:PT1H
X-Robots-Tag:noindex
X-PUBLISHED-TTL:PT1H
BEGIN:VTIMEZONE
TZID:America/Chicago
BEGIN:DAYLIGHT
TZOFFSETFROM:-0600
TZOFFSETTO:-0500
TZNAME:CDT
DTSTART:20210314T080000
END:DAYLIGHT
BEGIN:STANDARD
TZOFFSETFROM:-0500
TZOFFSETTO:-0600
TZNAME:CST
DTSTART:20211107T070000
END:STANDARD
BEGIN:DAYLIGHT
TZOFFSETFROM:-0600
TZOFFSETTO:-0500
TZNAME:CDT
DTSTART:20220313T080000
END:DAYLIGHT
BEGIN:STANDARD
TZOFFSETFROM:-0500
TZOFFSETTO:-0600
TZNAME:CST
DTSTART:20221106T070000
END:STANDARD
BEGIN:DAYLIGHT
TZOFFSETFROM:-0600
TZOFFSETTO:-0500
TZNAME:CDT
DTSTART:20230312T080000
END:DAYLIGHT
BEGIN:STANDARD
TZOFFSETFROM:-0500
TZOFFSETTO:-0600
TZNAME:CST
DTSTART:20231105T070000
END:STANDARD
END:VTIMEZONE
BEGIN:VEVENT
DTSTART;VALUE=DATE:20221013
DTEND;VALUE=DATE:20221206
DTSTAMP:20260421T234337
CREATED:20220505T151400Z
LAST-MODIFIED:20250814T174349Z
UID:10000260-1665619200-1670284799@www.mnhum.org
SUMMARY:Hastings – We Are Water MN
DESCRIPTION:Free with Admission\nThe We Are Water MN traveling exhibit examines water issues statewide and in local communities through personal stories\, histories\, and scientific information. It strengthens Minnesotans’ relationships with water\, exposes visitors to new perspectives\, and increases participation in water stewardship activities. \nHost Partner: Dakota County \nWant to know more about We Are Water MN?\nLearn more about the We Are Water MN exhibit\, partnership\, and programs. \nLEARN MORE
URL:https://www.mnhum.org/event/hastings-we-are-water-mn/
LOCATION:Pleasant Hill Library\, 1490 South Frontage Road\, Hastings\, Minnesota\, 55033\, United States
CATEGORIES:Exhibit,Free,Kid Friendly,We Are Water MN
ATTACH;FMTTYPE=image/jpeg:https://www.mnhum.org/wp-content/uploads/2022/04/event_we_are_water.jpg
ORGANIZER;CN="Rachel Busse-Aswar":MAILTO:rachel@mnhum.org
END:VEVENT
BEGIN:VEVENT
DTSTART;VALUE=DATE:20221013
DTEND;VALUE=DATE:20221206
DTSTAMP:20260421T234337
CREATED:20220505T153303Z
LAST-MODIFIED:20250814T174336Z
UID:10000261-1665619200-1670284799@www.mnhum.org
SUMMARY:Eagan - We Are Water MN
DESCRIPTION:Free with Admission\nThe We Are Water MN traveling exhibit examines water issues statewide and in local communities through personal stories\, histories\, and scientific information. It strengthens Minnesotans’ relationships with water\, exposes visitors to new perspectives\, and increases participation in water stewardship activities. \nHost Partner: Dakota County \nWant to know more about We Are Water MN?\nLearn more about the We Are Water MN exhibit\, partnership\, and programs. \nLEARN MORE
URL:https://www.mnhum.org/event/eagan-we-are-water-mn/
LOCATION:Lebanon Hills Visitor Center\, 860 Cliff Road\, Eagan\, MN\, 55123\, United States
CATEGORIES:Exhibit,Free,Kid Friendly,We Are Water MN
ATTACH;FMTTYPE=image/jpeg:https://www.mnhum.org/wp-content/uploads/2022/04/event_we_are_water.jpg
ORGANIZER;CN="Rachel Busse-Aswar":MAILTO:rachel@mnhum.org
END:VEVENT
BEGIN:VEVENT
DTSTART;TZID=America/Chicago:20221210T140000
DTEND;TZID=America/Chicago:20221210T160000
DTSTAMP:20260421T234337
CREATED:20221109T211519Z
LAST-MODIFIED:20250620T132134Z
UID:10000325-1670680800-1670688000@www.mnhum.org
SUMMARY:St. Paul - Minnesota Writers Series: The Latitude of a Mercy
DESCRIPTION:Poet Stefan Lovasik is the next featured author in our new Minnesota Writers Series. Lovasik\, a Viet Nam combat veteran\, has published three poetry collections. His most recent\, The Latitude of a Mercy\, was published by New York Quarterly Books. His work has appeared in national magazines such as American Literary Review\, Consequence and New York Quarterly. He is a facilitator for Warrior Writers-Twin Cities and a staff editor for Pedestal Magazine. Lovasik’s work brings into striking focus the landscape of war; the lasting physical\, moral and psychological consequences of it; and the resilience of the human spirit. He will discuss his latest collection\, the power of writing as a tool for healing\, and his work on his upcoming memoir. Introducing the poet and doing her own reading will be fellow Veteran Chante Wolfe\, who is part of a Warriors Writers group with Lovasik. \nCo-sponsored by Veterans For Peace. \nRegistration\nThis event is free\, but registration is required. \nREGISTRATION FOR THIS EVENT HAS CLOSED
URL:https://www.mnhum.org/event/mn-writers-series-latitude-mercy/
LOCATION:Minnesota Humanities Event Center\, 987 Ivy Avenue East\, Saint Paul\, MN\, 55106\, United States
CATEGORIES:Books, Poetry, and Literature,Free,Many Fronts,Minnesota Writers Series,Public Programming,Public Programs
ATTACH;FMTTYPE=image/png:https://www.mnhum.org/wp-content/uploads/2022/11/event_mn_writers_series_latitude.png
ORGANIZER;CN="Corey China":MAILTO:corey@mnhum.org
END:VEVENT
END:VCALENDAR