BEGIN:VCALENDAR
VERSION:2.0
PRODID:-//Minnesota Humanities Center - ECPv6.15.20//NONSGML v1.0//EN
CALSCALE:GREGORIAN
METHOD:PUBLISH
X-ORIGINAL-URL:https://www.mnhum.org
X-WR-CALDESC:Events for Minnesota Humanities Center
REFRESH-INTERVAL;VALUE=DURATION:PT1H
X-Robots-Tag:noindex
X-PUBLISHED-TTL:PT1H
BEGIN:VTIMEZONE
TZID:America/Chicago
BEGIN:DAYLIGHT
TZOFFSETFROM:-0600
TZOFFSETTO:-0500
TZNAME:CDT
DTSTART:20220313T080000
END:DAYLIGHT
BEGIN:STANDARD
TZOFFSETFROM:-0500
TZOFFSETTO:-0600
TZNAME:CST
DTSTART:20221106T070000
END:STANDARD
BEGIN:DAYLIGHT
TZOFFSETFROM:-0600
TZOFFSETTO:-0500
TZNAME:CDT
DTSTART:20230312T080000
END:DAYLIGHT
BEGIN:STANDARD
TZOFFSETFROM:-0500
TZOFFSETTO:-0600
TZNAME:CST
DTSTART:20231105T070000
END:STANDARD
BEGIN:DAYLIGHT
TZOFFSETFROM:-0600
TZOFFSETTO:-0500
TZNAME:CDT
DTSTART:20240310T080000
END:DAYLIGHT
BEGIN:STANDARD
TZOFFSETFROM:-0500
TZOFFSETTO:-0600
TZNAME:CST
DTSTART:20241103T070000
END:STANDARD
END:VTIMEZONE
BEGIN:VEVENT
DTSTART;VALUE=DATE:20230302
DTEND;VALUE=DATE:20230425
DTSTAMP:20260421T191829
CREATED:20221206T153025Z
LAST-MODIFIED:20250814T174323Z
UID:10000329-1677715200-1682380799@www.mnhum.org
SUMMARY:Becker - We Are Water MN
DESCRIPTION:The We Are Water MN traveling exhibit examines water issues statewide and in local communities through personal stories\, histories\, and scientific information. It strengthens Minnesotans’ relationships with water\, exposes visitors to new perspectives\, and increases participation in water stewardship activities. \nHost Partner: The Mississippi River St. Cloud Watershed Collaborative \nWant to know more about We Are Water MN?\nLearn more about the We Are Water MN exhibit\, partnership\, and programs. \nLEARN MORE
URL:https://www.mnhum.org/event/becker-we-are-water-mn/
LOCATION:Sherburne History Center\, 10775 27th Ave SE\, Becker\, 55308\, United States
CATEGORIES:Exhibit,Free,Kid Friendly,We Are Water MN
ATTACH;FMTTYPE=image/jpeg:https://www.mnhum.org/wp-content/uploads/2022/04/event_we_are_water.jpg
ORGANIZER;CN="Rachel Busse-Aswar":MAILTO:rachel@mnhum.org
END:VEVENT
BEGIN:VEVENT
DTSTART;TZID=America/Chicago:20230421T150000
DTEND;TZID=America/Chicago:20230421T180000
DTSTAMP:20260421T191829
CREATED:20230329T153105Z
LAST-MODIFIED:20230606T173003Z
UID:10000352-1682089200-1682100000@www.mnhum.org
SUMMARY:St. Paul - Poetry Sparks!
DESCRIPTION:In celebration of National Poetry Month\, join Minnesota’s Poet Laureate Gwen Westerman\, at a poetry gathering just for poets. Hear about Gwen’s vision for poetry across the state\, get connected to other poets\, and let your creativity loose with some writing time. Stay after for a casual group meal\, and we’ll send you home feeling inspired\, centered\, and reinvigorated. We’ll provide the pens and the paper – bring yourself and come Spark! poetry connection and creativity with us! \n3:00 p.m. Event start\n6:00 p.m. Event close/Dinner served \nRegistration\nThis event is free but registration is required. Dinner after the event will be provided. Please note that this event is for poets only. \nCOVID-19 Policy: to help keep our artists safe\, all audience members are required to be masked inside the venue during the event regardless of vaccination status. Masks will not be required after the event while dinner is being served. \nRegistration Questions: registrations@mnhum.org | MHC Cancellation Policy \nRegistration for this event has closed. \nWant to know more about Minnesota’s Poet Laureate?\nLearn more about Gwen Nell Westerman and the history of Minnesota’s Poet Laureate.\n \nLearn More
URL:https://www.mnhum.org/event/poetry-sparks/
LOCATION:Minnesota Humanities Event Center\, 987 Ivy Avenue East\, Saint Paul\, MN\, 55106\, United States
CATEGORIES:Books, Poetry, and Literature,Free,Minnesota's Poet Laureate,Public Programming
ATTACH;FMTTYPE=image/png:https://www.mnhum.org/wp-content/uploads/2023/03/event_poetry_sparks.png
ORGANIZER;CN="Corey China":MAILTO:corey@mnhum.org
END:VEVENT
BEGIN:VEVENT
DTSTART;VALUE=DATE:20230427
DTEND;VALUE=DATE:20230620
DTSTAMP:20260421T191829
CREATED:20230309T162431Z
LAST-MODIFIED:20250814T174311Z
UID:10000348-1682553600-1687219199@www.mnhum.org
SUMMARY:Pine River - We Are Water MN
DESCRIPTION:The We Are Water MN traveling exhibit examines water issues statewide and in local communities through personal stories\, histories\, and scientific information. It strengthens Minnesotans’ relationships with water\, exposes visitors to new perspectives\, and increases participation in water stewardship activities. \nHost Partner: Happy Dancing Turtle \nWant to know more about We Are Water MN?\nLearn more about the We Are Water MN exhibit\, partnership\, and programs. \nLearn More
URL:https://www.mnhum.org/event/pine-river-we-are-water-mn/
LOCATION:Happy Dancing Turtle\, 2331 Dancing Wind Rd SW\, Ste 1\, Pine River\, MN\, 56474\, United States
CATEGORIES:Exhibit,Free,Greater Minnesota,Kid Friendly,We Are Water MN
ATTACH;FMTTYPE=image/jpeg:https://www.mnhum.org/wp-content/uploads/2022/04/event_we_are_water.jpg
ORGANIZER;CN="Rachel Busse-Aswar":MAILTO:rachel@mnhum.org
END:VEVENT
END:VCALENDAR