BEGIN:VCALENDAR
VERSION:2.0
PRODID:-//Minnesota Humanities Center - ECPv6.15.20//NONSGML v1.0//EN
CALSCALE:GREGORIAN
METHOD:PUBLISH
X-WR-CALNAME:Minnesota Humanities Center
X-ORIGINAL-URL:https://www.mnhum.org
X-WR-CALDESC:Events for Minnesota Humanities Center
REFRESH-INTERVAL;VALUE=DURATION:PT1H
X-Robots-Tag:noindex
X-PUBLISHED-TTL:PT1H
BEGIN:VTIMEZONE
TZID:America/Chicago
BEGIN:DAYLIGHT
TZOFFSETFROM:-0600
TZOFFSETTO:-0500
TZNAME:CDT
DTSTART:20220313T080000
END:DAYLIGHT
BEGIN:STANDARD
TZOFFSETFROM:-0500
TZOFFSETTO:-0600
TZNAME:CST
DTSTART:20221106T070000
END:STANDARD
BEGIN:DAYLIGHT
TZOFFSETFROM:-0600
TZOFFSETTO:-0500
TZNAME:CDT
DTSTART:20230312T080000
END:DAYLIGHT
BEGIN:STANDARD
TZOFFSETFROM:-0500
TZOFFSETTO:-0600
TZNAME:CST
DTSTART:20231105T070000
END:STANDARD
BEGIN:DAYLIGHT
TZOFFSETFROM:-0600
TZOFFSETTO:-0500
TZNAME:CDT
DTSTART:20240310T080000
END:DAYLIGHT
BEGIN:STANDARD
TZOFFSETFROM:-0500
TZOFFSETTO:-0600
TZNAME:CST
DTSTART:20241103T070000
END:STANDARD
END:VTIMEZONE
BEGIN:VEVENT
DTSTART;VALUE=DATE:20230817
DTEND;VALUE=DATE:20231010
DTSTAMP:20260421T102811
CREATED:20221221T154309Z
LAST-MODIFIED:20250814T174242Z
UID:10000337-1692230400-1696895999@www.mnhum.org
SUMMARY:Roseau - We Are Water MN
DESCRIPTION:The We Are Water MN traveling exhibit examines water issues statewide and in local communities through personal stories\, histories\, and scientific information. It strengthens Minnesotans’ relationships with water\, exposes visitors to new perspectives\, and increases participation in water stewardship activities. \nHost Partner: Roseau County Historical Society \nWant to know more about We Are Water MN?\nLearn more about the We Are Water MN exhibit\, partnership\, and programs. \nLEARN MORE
URL:https://www.mnhum.org/event/roseau-we-are-water-mn/
LOCATION:Roseau County Historical Society\, 121 Center Street East\, Roseau\, MN\, 56751\, United States
CATEGORIES:Civic Renewal,Exhibit,Free,Greater Minnesota,We Are Water MN
ATTACH;FMTTYPE=image/jpeg:https://www.mnhum.org/wp-content/uploads/2022/04/event_we_are_water.jpg
ORGANIZER;CN="Rachel Busse-Aswar":MAILTO:rachel@mnhum.org
END:VEVENT
BEGIN:VEVENT
DTSTART;TZID=America/Chicago:20231001T100000
DTEND;TZID=America/Chicago:20231001T120000
DTSTAMP:20260421T102811
CREATED:20230817T180420Z
LAST-MODIFIED:20230817T180459Z
UID:10000381-1696154400-1696161600@www.mnhum.org
SUMMARY:St. Paul - Our Ancestors Are Us: An Asian Adoptee Life Writing Workshop
DESCRIPTION:As part of the Minnesota Humanities Center’s writing and reflection offerings\, we are excited to collaborate with Jennifer Kwon Dobbs to host Our Ancestors Are Us: An Asian Adoptee Life Writing Workshop\, a project funded by the Metropolitan Regional Arts Council. \nAdoption from Asia involves a child’s removal from their kinship of birth and oftentimes disconnection from their ancestral culture and ways of knowing. This interactive workshop creates a generative\, adult adoptee-centered space in which to explore the unique ways that adoptee memory and experience can be empowering sources of creativity and literary witness. Participants will learn and share writing strategies to compose works of their own about their lives lived\, unlived\, and imagined otherwise as adoptees. \nLee Herrick – Special guest Lee Herrick is the California Poet Laureate. He is the author of three books of poems: Scar and Flower\, finalist for the 2020 Northern California Book Award; Gardening Secrets of the Dead; and This Many Miles from Desire. Born in Daejeon\, Korea and adopted as an infant\, Lee teaches at Fresno City College and in the low-residency MFA program at University of Nevada Reno at Lake Tahoe. \nJennifer Kwon Dobbs 허수진 – Born in Wonju\, Republic of Korea and adopted in Oklahoma\, Jennifer Kwon Dobbs 허수진 is the author of Interrogation Room (White Pine Press\, 2018)\, Paper Pavilion (White Pine\, 2007)\, and the chapbooks Notes from a Missing Person (Essay Press\, 2015) and Necro Citizens (hochroth Verlag\, 2019). Her work has received the 2023 American-Scandinavian Foundation’s Lief and Inger Sjöberg Prize for literary translation among other honors. Currently\, she is senior poetry editor of AGNI and professor and chair of English at St. Olaf College. www.jkwondobbs.com. \nRegistration\nThis event is open to all adult Asian diaspora adoptees who want to write or who identify as writers. Registration is limited to 40 participants. \nSnacks are included\, and a journal will be provided. \nRegistration Questions: registrations@mnhum.org  \nRegister Now
URL:https://www.mnhum.org/event/our-ancestors-are-us/
LOCATION:Minnesota Humanities Event Center\, 987 Ivy Avenue East\, Saint Paul\, MN\, 55106\, United States
CATEGORIES:Books, Poetry, and Literature,Free,Immersive Experiences,Public Programs
ATTACH;FMTTYPE=image/png:https://www.mnhum.org/wp-content/uploads/2023/08/event_asian_adoptee_writing_wksp.png
ORGANIZER;CN="Eden Bart":MAILTO:eden@mnhum.org
END:VEVENT
BEGIN:VEVENT
DTSTART;TZID=America/Chicago:20231005T083000
DTEND;TZID=America/Chicago:20231005T150000
DTSTAMP:20260421T102811
CREATED:20230907T181605Z
LAST-MODIFIED:20230907T181605Z
UID:10000387-1696494600-1696518000@www.mnhum.org
SUMMARY:Staples - Including An Indigenous Lens that Honors the Past\, Present\, and Future
DESCRIPTION:Did you know that Minnesota is home to 11 federally-recognized tribes? Do you know whose ancestral lands your school is now occupying? In this session of Excavating Excellence: A Speaker Series and Cohort offered by Sourcewell\, we will excavate a perspective that is too often minimized\, misrepresented\, or sometimes completely absent: the perspective of our nation’s first people. Join us as we hear first-hand accounts from a panel of regional\, native voices sharing about schooling experiences. In addition to our panel\, we will hear from experts from the Minnesota Humanities Center and Understand Native Minnesota as they lead us through how to find and implement resources from an Indigenous lens that honors the past\, present\, and future. \nThis session is part of the Excavating Excellence Speaker Series offered by Sourcewell.  \nRegistration\nRegistration Questions: education@sourcewell-mn.gov \nRegister Now
URL:https://www.mnhum.org/event/indigenous-lens/
LOCATION:Sourcewell\, 202 12th Street NE\, Staples\, MN\, 56479\, United States
CATEGORIES:K-12 Education,Professional Development
ATTACH;FMTTYPE=image/jpeg:https://www.mnhum.org/wp-content/uploads/2023/09/event_indigenous_lens.jpg
ORGANIZER;CN="Eden Bart":MAILTO:eden@mnhum.org
END:VEVENT
BEGIN:VEVENT
DTSTART;TZID=America/Chicago:20231005T180000
DTEND;TZID=America/Chicago:20231005T200000
DTSTAMP:20260421T102811
CREATED:20230215T143343Z
LAST-MODIFIED:20230920T210955Z
UID:10000283-1696528800-1696536000@www.mnhum.org
SUMMARY:St. Paul - Feeding Our Souls: The Essence of Latino Joy
DESCRIPTION:The aroma of inviting cuisine continues to fill the halls of the Minnesota Humanities Center (MHC) as we commemorate Latino Cultural Heritage Month through food. MHC’s very own head chef and kitchen manager Lorena Bonilla and distinguished chef and owner Nettie Colón at the RedHen Gastrolab Concepts will prepare and serve comfort foods from their rich culture joined by emcee and poet Lupe Castille. Participants will have a chance to partake in the flavors through engaging “taste circles” of the delectables and share memories of the power of food from their own experiences. \nChef Lorena Bonilla joined the Minnesota Humanities Center’s (MHC) Event Team in 2002. In 2010 she became the Head Chef and Kitchen Manager responsible for overseeing the MHC Event Center kitchen and making sure that customer satisfaction is high\, and food is delicious! She is responsible for the daily operation of the kitchen\, caters over 300 events\, and feeds thousands of people a year! She is the recipient of several culinary awards for her masterful creations served at MHC. When Chef Lorena is not cooking at MHC\, she is spending time with family and friends at home where she enjoys making traditional meals with them. At age five Chef Lorena and her family moved from Zacatecas\, Mexico to Bakersfield\, California where her father worked at Dole Fresh Vegetables Company. She recalls how the family always had access to a variety of fresh vegetables. “My Mom is my greatest cooking inspiration\,” says Chef Lorena\, “I grew up watching her make delicious food for the family. When I was around 12 years old\, I started chopping the many vegetables for her to make Mexican style dishes. I loved my own special role in the kitchen.” \nChef Lorena admits that she likes eating just as much as cooking. Her favorite thing to make and eat is Mexican soup – especially what she calls pesole which includes hominy added with chicken or pork. Sopa de fideo is a Mexican noddle soup that happens to be her son’s favorite dish when made by her. The Fajita Buffet is one of the most raving reviewed menu items at the MHC Event Center. Chef Lorena’s incredible fajitas are made just right – grilled chicken and beef served with seared peppers and onions\, refried beans\, Spanish-style rice pilaf\, warmed tortillas\, tortilla chips\, and a condiments bar including lettuce\, tomato\, onion\, cheese\, sour cream\, salsa\, and guacamole. \nChef Nettie Colόn is a Minneapolis transplant by way of New York and Puerto Rico and spent her early years living a reverse West Side Story. Born in New York City and raised in Puerto Rico\, Nettie Colón spent her formative years learning traditional cooking methods of the island with her grandmother\, Maria Brigida Llanes de Jesus\, and her friends. For all 48 grandchildren on her mother’s side\, time spent on her grandmother’s farm in the remote central mountain town of Utuado offered an idyllic childhood. She got the love of cooking from her abuela\, and to this day\, that influence is very much alive in every dish that she prepares. \nHer love of traveling comes from the time spent hopping around the island to eat with her family. Chef Nettie’s father is from Cayey\, where the sector of Guavate aka “The Pork Highway” is located. That is how she came to realize that people do travel for food\, especially in Puerto Rico. This passion of traveling for food has led her to work all over the United States & abroad\, with culinary adventures to West Indies\, Wales\, Spain\, France\, Sardinia\, Southern Italy\, Yucatan Peninsula\, Costa Rica & Panama. She was Chef de Cuisine at Lucias Restaurant & Wine Bar for a decade. She also taught the history of Mayan cuisine in the Biosphere Reserve of Sia’an Ka’an in Tulum\, Yucatan for 9 years where she fell in love with traditional Mayan cooking methods including Pibil\, which lead to exploration of underground techniques from around the world such as Pachamanca\, Curanto\, Hangi and others. \nShe is Chef/Owner of The Red Hen Gastrolab Concepts (Red Hen Gastrolab\, Red Hen Chinchorro & Red Hen Table) which is committed to the preservation of the relationships built around food traditions in the kitchen and at the table. She is also Resident Chef at The Break Room Minneapolis at The Historic Machine Shop\, a James Beard Foundation Chefs Boot Camp Alumni\, BA Craftmade Aprons “Project Black & Blue” Advocate\, Market Chef & Mill City Farmers Market Charitable Fund Board Member of The Mill City Farmers Market. \nLupe Castillo @1heartspeakslupe (She/Her) creator of HeartSpeaks: Voices of Cultura Healing & Writing Circles is a proclaimed XicanaIndia from the Southern lands. Lupe is a Poet\, whose recent written work is documented in the Northside Green “Our Urban Canopy” Art/Coloring Book\, published in June\, 2023 and featured at the 2023 State Fair. As a Culture Bearer\, HeartSpeaks provides activated radical collaborations in writing and spoken word artistry. Lupe is also a co-founding member of Palabristas\, a Spoken Word LatineCollective. Lupe is deepening her work as an Artist by partnering with other BIPOC & LatineArtist Collectives in the Twin Cities and beyond. She facilitates community gatherings and offers writing guidance where participants write about their connections to home\, family\, significant others\, spirituality\, Indigenous Identities\, Murals and Cultural Arts. \nRegistration\nDue to the focus of this program\, the fee is waived for Latino community members residing in Minnesota. You are invited to register with promo code COMMUNITY23. \nRegistration Questions: registrations@mnhum.org | MHC Cancellation Policy \nRegister Now
URL:https://www.mnhum.org/event/feeding-our-souls-latino-joy/
LOCATION:Minnesota Humanities Event Center\, 987 Ivy Avenue East\, Saint Paul\, MN\, 55106\, United States
CATEGORIES:Cultural Harmony,Feeding Our Souls,Immersive Experiences
ATTACH;FMTTYPE=image/png:https://www.mnhum.org/wp-content/uploads/2023/09/event_feeding_souls_latino_joy.png
ORGANIZER;CN="Rose McGee":MAILTO:rose@mnhum.org
END:VEVENT
BEGIN:VEVENT
DTSTART;TZID=America/Chicago:20231006T173000
DTEND;TZID=America/Chicago:20231006T200000
DTSTAMP:20260421T102811
CREATED:20230906T193338Z
LAST-MODIFIED:20230906T193338Z
UID:10000386-1696613400-1696622400@www.mnhum.org
SUMMARY:St. Paul - Poetry Sparks! Youth Writing Workshop
DESCRIPTION:Are you a young person (13-19 years of age) who writes poetry or aspires to start writing poetry? Do you want to connect with other youth writers? Then join us for the Poetry Sparks! Youth Writing Workshop with Minnesota’s Poet Laureate Gwen Nell Westerman\, and former St. Paul Youth Poet Laureate Chavah Gabrielle. During this in-person session\, you’ll have a chance to work with Gwen and Chavah to create a new piece of writing\, or workshop a piece you’ve been developing. You’ll also get a chance to read aloud and practice performing some poetry. We hope that once you’ve perfected your piece\, you’ll sign up for the Youth Voices Open Mic evening on November 4th.  Grab a friend and pen some lines with the Laureates! \nThis event is free however registration is required; a light dinner will be provided; participants must 13-19 years of age*. \n(We are also holding a virtual option on October 13\, 2023 from 6:00-8:00 p.m. over Zoom – sign up for one or both!) \n*Youth is ages 13-19 as defined by the National Youth Poet Laureate organization. \nRegistration\nRegistration Questions: registrations@mnhum.org  \nRegister Now
URL:https://www.mnhum.org/event/poetry-sparks-youth-writing-workshop/
LOCATION:Minnesota Humanities Event Center\, 987 Ivy Avenue East\, Saint Paul\, MN\, 55106\, United States
CATEGORIES:Books, Poetry, and Literature,Free,Kid Friendly,Minnesota's Poet Laureate,Public Programming,Public Programs
ATTACH;FMTTYPE=image/jpeg:https://www.mnhum.org/wp-content/uploads/2023/09/event_youth_writing_workshop.jpg
ORGANIZER;CN="Corey China":MAILTO:corey@mnhum.org
END:VEVENT
BEGIN:VEVENT
DTSTART;VALUE=DATE:20231012
DTEND;VALUE=DATE:20231205
DTSTAMP:20260421T102811
CREATED:20221206T152321Z
LAST-MODIFIED:20250814T174228Z
UID:10000328-1697068800-1701734399@www.mnhum.org
SUMMARY:Stillwater - We Are Water MN
DESCRIPTION:The We Are Water MN traveling exhibit examines water issues statewide and in local communities through personal stories\, histories\, and scientific information. It strengthens Minnesotans’ relationships with water\, exposes visitors to new perspectives\, and increases participation in water stewardship activities. \nHost Partner: ArtReach St. Croix \nWant to know more about We Are Water MN?\nLearn more about the We Are Water MN exhibit\, partnership\, and programs. \nLEARN MORE
URL:https://www.mnhum.org/event/stillwater-we-are-water-mn/
LOCATION:Stillwater Public Library\, 224 3rd Street North\, Stillwater\, MN\, 55082\, United States
CATEGORIES:Exhibit,Free,We Are Water MN
ATTACH;FMTTYPE=image/jpeg:https://www.mnhum.org/wp-content/uploads/2022/04/event_we_are_water.jpg
ORGANIZER;CN="Rachel Busse-Aswar":MAILTO:rachel@mnhum.org
END:VEVENT
BEGIN:VEVENT
DTSTART;TZID=America/Chicago:20231013T180000
DTEND;TZID=America/Chicago:20231013T200000
DTSTAMP:20260421T102811
CREATED:20230901T195851Z
LAST-MODIFIED:20231012T134121Z
UID:10000383-1697220000-1697227200@www.mnhum.org
SUMMARY:Online - Poetry Sparks! Youth Writing Workshop
DESCRIPTION:Are you a young person (13-19 years of age) who writes poetry or aspires to start writing poetry? Do you want to connect with other youth writers? Then join us for the Poetry Sparks! Youth Writing Workshop with Minnesota’s Poet Laureate Gwen Nell Westerman\, and former St. Paul Youth Poet Laureate\, Chavah Gabrielle. During this virtual session\, you’ll have a chance to work with Gwen and Chavah to create a new piece of writing\, or workshop a piece you’ve been developing. You’ll also get a chance to read aloud and practice performing some poetry. We hope that once you’ve perfected your piece\, you’ll sign up for the Youth Voices Open Mic evening on November 4th.  Grab a friend and pen some lines with the Laureates! \nThis event is free however registration is required; participants must 13-19 years of age*.  \n(We are also holding an in-person session on October 6\, 2023 from 6:00-8:00 p.m. at the Minnesota Humanities Center. Sign up for one or both!) \n*Youth is ages 13-19 as defined by the National Youth Poet Laureate organization.
URL:https://www.mnhum.org/event/online-poetry-sparks-youth-writing-workshop/
LOCATION:Online
CATEGORIES:Books, Poetry, and Literature,Free,Kid Friendly,Minnesota's Poet Laureate,Online,Public Programming,Public Programs
ATTACH;FMTTYPE=image/jpeg:https://www.mnhum.org/wp-content/uploads/2023/09/event_youth_writing_workshop.jpg
ORGANIZER;CN="Corey China":MAILTO:corey@mnhum.org
END:VEVENT
BEGIN:VEVENT
DTSTART;TZID=America/Chicago:20231021T173000
DTEND;TZID=America/Chicago:20231021T193000
DTSTAMP:20260421T102811
CREATED:20230629T142428Z
LAST-MODIFIED:20250620T132222Z
UID:10000373-1697909400-1697916600@www.mnhum.org
SUMMARY:St. Paul - Veterans Voices Month Celebration
DESCRIPTION:October is Veterans Voices Month in Minnesota. Veterans and civilians are invited to gather at Minnesota Humanities Center for a dinner and poetry reading honoring the experiences of those serving the U.S. military from the margins\, including women\, immigrants\, LGBTQ individuals\, Black\, and American Indian service members among others. This event will kick off the MHC’s upcoming NEH-funded series\, “Examining Military Service From the Margins.” Following dinner and a sneak peek into MHC’s plans to diversify how we think of military history and service\, U.S. Army Veteran poet Jessi M. Atherton\, who served during Operation Iraqi Freedom\, will read from her new collection\, The Time War Takes. This free event is part of the Minnesota Writers Series and Many Fronts: Veteran and Community Voices initiatives.  \nSCHEDULE:\n5:30-6:00 p.m. Opening Ceremony and Remarks\n6:00 p.m. Dinner\n6:30-7:30 p.m. Poetry reading and discussion  \nRegistration\nWhen registering\, please note whether you plan to attend both the dinner and poetry reading\, or just one or the other.  \nRegistration Questions: registrations@mnhum.org  \nRegister Now
URL:https://www.mnhum.org/event/veterans-voices-month-celebration/
LOCATION:Minnesota Humanities Event Center\, 987 Ivy Avenue East\, Saint Paul\, MN\, 55106\, United States
CATEGORIES:Books, Poetry, and Literature,Many Fronts,Public Programming,Veterans
ATTACH;FMTTYPE=image/png:https://www.mnhum.org/wp-content/uploads/2023/06/event_mws_time_war_takes.png
ORGANIZER;CN="Corey China":MAILTO:corey@mnhum.org
END:VEVENT
BEGIN:VEVENT
DTSTART;TZID=America/Chicago:20231022T153000
DTEND;TZID=America/Chicago:20231022T180000
DTSTAMP:20260421T102811
CREATED:20230901T202914Z
LAST-MODIFIED:20230911T215939Z
UID:10000384-1697988600-1697997600@www.mnhum.org
SUMMARY:St. Paul - From Mountains to Lakes: Stories Of Hmong Women
DESCRIPTION:In 2021\, Minnesota Humanities Center collaborated with several institutions\, scholars\, and artists to host From Mountains to Lakes: Hmong Educational Forum.  The event provided meaningful insight to include Hmong diaspora\, health disparities\, the importance of data disaggregation\, identity and intersectionality. Videos of these presentations are available to view online. \n Watch Now     \nThis year\, Minnesota Humanities Center is proud to collaborate with Hmong Women Achieving Together to host From Mountains to Lakes: Stories of Hmong Women.  Our first event is aimed at recognizing the perseverance and contributions of Hmong women in Minnesota since arriving to the US nearly 50 years ago.  Following the gathering\, there will be several intergenerational listening groups to identify stories and themes that are critical for community growth and on-going resiliency.  Learnings from this project will be shared publicly in 2024. \nRegistration\nHmong women are encouraged to participate.  \nA small number of spots are available for Non-Hmong women participants who would like to experience the gathering for community building learning purposes.  Please contact MayKao Fredericks at maykao@mnhum.org. \nRegistration Questions: registrations@mnhum.org \nRegister Now
URL:https://www.mnhum.org/event/from-mountains-to-lakes/
LOCATION:Minnesota Humanities Event Center\, 987 Ivy Avenue East\, Saint Paul\, MN\, 55106\, United States
ATTACH;FMTTYPE=image/png:https://www.mnhum.org/wp-content/uploads/2023/09/event_mountains_lakes_past_future.png
ORGANIZER;CN="MayKao Fredericks":MAILTO:maykao@mnhum.org
END:VEVENT
END:VCALENDAR