BEGIN:VCALENDAR
VERSION:2.0
PRODID:-//Minnesota Humanities Center - ECPv6.15.20//NONSGML v1.0//EN
CALSCALE:GREGORIAN
METHOD:PUBLISH
X-ORIGINAL-URL:https://www.mnhum.org
X-WR-CALDESC:Events for Minnesota Humanities Center
REFRESH-INTERVAL;VALUE=DURATION:PT1H
X-Robots-Tag:noindex
X-PUBLISHED-TTL:PT1H
BEGIN:VTIMEZONE
TZID:America/Chicago
BEGIN:DAYLIGHT
TZOFFSETFROM:-0600
TZOFFSETTO:-0500
TZNAME:CDT
DTSTART:20220313T080000
END:DAYLIGHT
BEGIN:STANDARD
TZOFFSETFROM:-0500
TZOFFSETTO:-0600
TZNAME:CST
DTSTART:20221106T070000
END:STANDARD
BEGIN:DAYLIGHT
TZOFFSETFROM:-0600
TZOFFSETTO:-0500
TZNAME:CDT
DTSTART:20230312T080000
END:DAYLIGHT
BEGIN:STANDARD
TZOFFSETFROM:-0500
TZOFFSETTO:-0600
TZNAME:CST
DTSTART:20231105T070000
END:STANDARD
BEGIN:DAYLIGHT
TZOFFSETFROM:-0600
TZOFFSETTO:-0500
TZNAME:CDT
DTSTART:20240310T080000
END:DAYLIGHT
BEGIN:STANDARD
TZOFFSETFROM:-0500
TZOFFSETTO:-0600
TZNAME:CST
DTSTART:20241103T070000
END:STANDARD
END:VTIMEZONE
BEGIN:VEVENT
DTSTART;TZID=America/Chicago:20231102T180000
DTEND;TZID=America/Chicago:20231102T200000
DTSTAMP:20260419T073938
CREATED:20230911T212238Z
LAST-MODIFIED:20231030T171528Z
UID:10000394-1698948000-1698955200@www.mnhum.org
SUMMARY:St. Paul – A Decade of Learning from Place: Bdote
DESCRIPTION:Join us as we honor and recognize ten years of Learning from Place: Bdote! We will pay tribute to the individuals who co-created this transformational experience with the Minnesota Humanities Center – Ramona Kitto Stately\, Ethan Neerdaels\, and Mona Smith – as well as reveal opportunities to continue the learning.  \nLearning from Place: Bdote started in collaboration with Saint Paul Public Schools\, following the creation of the Bdote Memory Map. The daylong immersive experience brings participants to sites of significance to Dakota people in the Twin Cities. Centered in Dakota stories and cultural knowledge\, the program has become a highly requested experience that expands one’s knowledge and understanding. Since its inception\, Learning from Place: Bdote has been delivered 100 times\, reaching 3\,000 participants from across industry sectors. \nA light meal of Indigenous food will be shared.  \nRegistration\nSOLD OUT – REGISTRATION FOR THIS EVENT HAS CLOSED
URL:https://www.mnhum.org/event/decade-of-bdote/
LOCATION:Minnesota Humanities Event Center\, 987 Ivy Avenue East\, Saint Paul\, MN\, 55106\, United States
CATEGORIES:Free,Immersive Experiences,Learning from Place,Public Programs
ATTACH;FMTTYPE=image/png:https://www.mnhum.org/wp-content/uploads/2023/09/event_decade_lfp_bdote.png
ORGANIZER;CN="Eden Bart":MAILTO:eden@mnhum.org
END:VEVENT
END:VCALENDAR