BEGIN:VCALENDAR
VERSION:2.0
PRODID:-//Minnesota Humanities Center - ECPv6.15.20//NONSGML v1.0//EN
CALSCALE:GREGORIAN
METHOD:PUBLISH
X-WR-CALNAME:Minnesota Humanities Center
X-ORIGINAL-URL:https://www.mnhum.org
X-WR-CALDESC:Events for Minnesota Humanities Center
REFRESH-INTERVAL;VALUE=DURATION:PT1H
X-Robots-Tag:noindex
X-PUBLISHED-TTL:PT1H
BEGIN:VTIMEZONE
TZID:America/Chicago
BEGIN:DAYLIGHT
TZOFFSETFROM:-0600
TZOFFSETTO:-0500
TZNAME:CDT
DTSTART:20230312T080000
END:DAYLIGHT
BEGIN:STANDARD
TZOFFSETFROM:-0500
TZOFFSETTO:-0600
TZNAME:CST
DTSTART:20231105T070000
END:STANDARD
BEGIN:DAYLIGHT
TZOFFSETFROM:-0600
TZOFFSETTO:-0500
TZNAME:CDT
DTSTART:20240310T080000
END:DAYLIGHT
BEGIN:STANDARD
TZOFFSETFROM:-0500
TZOFFSETTO:-0600
TZNAME:CST
DTSTART:20241103T070000
END:STANDARD
BEGIN:DAYLIGHT
TZOFFSETFROM:-0600
TZOFFSETTO:-0500
TZNAME:CDT
DTSTART:20250309T080000
END:DAYLIGHT
BEGIN:STANDARD
TZOFFSETFROM:-0500
TZOFFSETTO:-0600
TZNAME:CST
DTSTART:20251102T070000
END:STANDARD
END:VTIMEZONE
BEGIN:VEVENT
DTSTART;VALUE=DATE:20240815
DTEND;VALUE=DATE:20241008
DTSTAMP:20260420T175449
CREATED:20231218T203700Z
LAST-MODIFIED:20250814T174105Z
UID:10000400-1723680000-1728345599@www.mnhum.org
SUMMARY:Cass Lake - We Are Water MN
DESCRIPTION:The We Are Water MN traveling exhibit examines water issues statewide and in local communities through personal stories\, histories\, and scientific information. It strengthens Minnesotans’ relationships with water\, exposes visitors to new perspectives\, and increases participation in water stewardship activities. \nHost Partner: Leech Lake Tribal College \nWant to know more about We Are Water MN?\nLearn more about the We Are Water MN exhibit\, partnership\, and programs. \nLearn More
URL:https://www.mnhum.org/event/cass-lake-we-are-water-mn/
LOCATION:Leech Lake Tribal College\, 6945 Little Wolf Rd NW\, Cass Lake\, MN\, 56633\, United States
CATEGORIES:Civic Renewal,Exhibit,Free,Greater Minnesota,Kid Friendly,We Are Water MN
ATTACH;FMTTYPE=image/jpeg:https://www.mnhum.org/wp-content/uploads/2022/04/event_we_are_water.jpg
ORGANIZER;CN="Rachel Busse-Aswar":MAILTO:rachel@mnhum.org
END:VEVENT
BEGIN:VEVENT
DTSTART;TZID=America/Chicago:20240916T173000
DTEND;TZID=America/Chicago:20240916T200000
DTSTAMP:20260420T175449
CREATED:20240815T143311Z
LAST-MODIFIED:20240820T153658Z
UID:10000439-1726507800-1726516800@www.mnhum.org
SUMMARY:Austin - Sketches of Minnesota
DESCRIPTION:Join the Minnesota Humanities Center\, Danger Boat Productions\, and local host partners for the inaugural Sketches of Minnesota civic improv comedy tour! These free events will use laughter and comedy to celebrate Minnesota communities\, promote dialogue\, bridge divides\, and help find ways to work constructively across differences in today’s political environment. \nBeginning with a catered meal\, these gatherings will invite audience members to share what makes their town great\, what they think people get wrong about it\, what local divisions concern them\, and what future they imagine. An improv comedy troupe will listen in on the conversations\, taking everything they heard from residents and bringing it to life on stage through entirely unscripted improv comedy theater. \nHost Partner: Discover Austin \nThe work of the Minnesota Humanities Center is to create a stronger Minnesota by increasing our understanding of the beauty\, wisdom and stories of its people. Through partnerships\, we facilitate the spaces\, like Sketches of Minnesota\, that seek to build connections and deepen understanding of ourselves and our communities in pursuit of a more just society. \nRegistration\nThis event is free but registration is required.  \nRegister Now
URL:https://www.mnhum.org/event/austin-sketches-of-minnesota/
LOCATION:Hormel Historic Home\, 208 4th Ave NW\, Austin\, MN\, 55912\, United States
CATEGORIES:Civic Renewal,Free,Greater Minnesota,Public Programs,Sketches of Minnesota
ATTACH;FMTTYPE=image/png:https://www.mnhum.org/wp-content/uploads/2024/05/sketches_mn_presented_by_large.png
ORGANIZER;CN="Trygve Throntveit":MAILTO:trygve@mnhum.org
END:VEVENT
BEGIN:VEVENT
DTSTART;TZID=America/Chicago:20240921T130000
DTEND;TZID=America/Chicago:20240921T150000
DTSTAMP:20260420T175449
CREATED:20240802T164351Z
LAST-MODIFIED:20250418T153052Z
UID:10000438-1726923600-1726930800@www.mnhum.org
SUMMARY:Mankato - Minnesota Writers Series: It Took Courage
DESCRIPTION:Join us at the Blue Earth County Historical Society in Mankato as we welcome acclaimed scholar Dr. Christopher P. Lehman\, author of the recently published “It Took Courage: Eliza Winston’s Quest for Freedom” (Minnesota Historical Society Press\, 2024). Dr. Lehman will discuss the moving and impactful life of Eliza Winston with the event moderator\, Stacy Wells. \nDr. Lehman will be available for book signing and conversation after the event. Be sure to show up early for the event – the first 25 attendees will receive a complimentary copy of “It Took Courage” or “Slavery’s Reach: Southern Slaveholders in the North Star State\,” also by Dr. Lehman and the winner of the 2020 Minnesota Book Award for Minnesota Nonfiction. \nAbout the book:\n“It Took Courage” examines the life of Eliza Winston\, an enslaved woman from Mississippi who\, in 1860\, appealed for her freedom before a judge in Minnesota and won. Previous research and considerations of Winston have examined her life and the impact of her case from other perspectives\, including the abolitionists who helped Winston petition for her freedom and then claimed more credit than they were due\, as well as white Minnesotans who reacted violently after learning the decision of the case. While these accounts have centered on the effect of Winston’s freedom on Minnesota politics\, “It Took Courage” uncovers the life of Eliza Winston\, her resilience\, and her powerful self-advocacy. Dr. Lehman’s book offers us a new account of Eliza Winston\, from the tragedies of her youth to her enslavement by the family of President Andrew Jackson\, to her journey from the American South to Minnesota and the aftermath of the trial. \nAbout the author:\nChristopher P. Lehman is a professor of ethnic studies at St. Cloud State University\, where he has been a faculty member since 2002. An historian\, Dr. Lehman’s research focuses on American popular culture\, representation of African Americans throughout U.S. history\, and the struggle of African American equality. He is the author of seven historical nonfiction books and his most recent works\, “It Took Courage” and “Slavery’s Reach” investigate the profound impact that slavery had in Minnesota and across the United States. \nAbout the moderator:\nStacy Wells is a dedicated educator and equity thought leader with experience as a leader in the public and private sectors\, K-12 teacher and administrator\, higher education faculty member\, and consultant. She is the co-founder of Love & Struggle\, LLC\, which consults with organizations to embed equity and create racially just environments\, and co-author of “WRITE on RACE to Be RIGHT on RACE Resource Journaling Guide.” Stacy is the Chief Health Equity Director-Direct Care & Treatment at the Minnesota Department of Human Services. \nRegistration\nRegistration Questions: registrations@mnhum.org  \nRegister Now
URL:https://www.mnhum.org/event/minnesota-writers-series-it-took-courage/
LOCATION:Blue Earth County Historical Society\, 424 Warren Street\, Mankato\, MN\, 56001\, United States
CATEGORIES:Books, Poetry, and Literature,Free,Greater Minnesota,Minnesota Writers Series,Public Programming
ATTACH;FMTTYPE=image/png:https://www.mnhum.org/wp-content/uploads/2024/08/event_mn_writers_series_it_took_courage.png
ORGANIZER;CN="Colin Nelson-Dusek":MAILTO:colin@mnhum.org
END:VEVENT
END:VCALENDAR