BEGIN:VCALENDAR
VERSION:2.0
PRODID:-//Minnesota Humanities Center - ECPv6.15.20//NONSGML v1.0//EN
CALSCALE:GREGORIAN
METHOD:PUBLISH
X-ORIGINAL-URL:https://www.mnhum.org
X-WR-CALDESC:Events for Minnesota Humanities Center
REFRESH-INTERVAL;VALUE=DURATION:PT1H
X-Robots-Tag:noindex
X-PUBLISHED-TTL:PT1H
BEGIN:VTIMEZONE
TZID:America/Chicago
BEGIN:DAYLIGHT
TZOFFSETFROM:-0600
TZOFFSETTO:-0500
TZNAME:CDT
DTSTART:20240310T080000
END:DAYLIGHT
BEGIN:STANDARD
TZOFFSETFROM:-0500
TZOFFSETTO:-0600
TZNAME:CST
DTSTART:20241103T070000
END:STANDARD
BEGIN:DAYLIGHT
TZOFFSETFROM:-0600
TZOFFSETTO:-0500
TZNAME:CDT
DTSTART:20250309T080000
END:DAYLIGHT
BEGIN:STANDARD
TZOFFSETFROM:-0500
TZOFFSETTO:-0600
TZNAME:CST
DTSTART:20251102T070000
END:STANDARD
BEGIN:DAYLIGHT
TZOFFSETFROM:-0600
TZOFFSETTO:-0500
TZNAME:CDT
DTSTART:20260308T080000
END:DAYLIGHT
BEGIN:STANDARD
TZOFFSETFROM:-0500
TZOFFSETTO:-0600
TZNAME:CST
DTSTART:20261101T070000
END:STANDARD
END:VTIMEZONE
BEGIN:VEVENT
DTSTART;VALUE=DATE:20250619
DTEND;VALUE=DATE:20250812
DTSTAMP:20260420T061309
CREATED:20250422T212559Z
LAST-MODIFIED:20250814T173858Z
UID:10000504-1750291200-1754956799@www.mnhum.org
SUMMARY:Minneapolis - We Are Water MN
DESCRIPTION:The We Are Water MN traveling exhibit examines water issues statewide and in local communities through personal stories\, histories\, and scientific information. It strengthens Minnesotans’ relationships with water\, exposes visitors to new perspectives\, and increases participation in water stewardship activities. \nHost Partner: Minneapolis Downtown Improvement District \nWant to know more about We Are Water MN?\nLearn more about the We Are Water MN exhibit\, partnership\, and programs. \nLearn More
URL:https://www.mnhum.org/event/mpls-we-are-water-mn/
LOCATION:Nicollet Mall\, 809 Nicollet Mall\, Minneapolis\, MN\, 55402\, United States
CATEGORIES:Civic Renewal,Exhibit,Free,Kid Friendly,Public Programs,We Are Water MN
ATTACH;FMTTYPE=image/jpeg:https://www.mnhum.org/wp-content/uploads/2022/04/event_we_are_water.jpg
ORGANIZER;CN="Rachel Busse-Aswar":MAILTO:rachel@mnhum.org
END:VEVENT
BEGIN:VEVENT
DTSTART;TZID=America/Chicago:20250713T190000
DTEND;TZID=America/Chicago:20250713T210000
DTSTAMP:20260420T061309
CREATED:20250612T171435Z
LAST-MODIFIED:20250612T171801Z
UID:10000519-1752433200-1752440400@www.mnhum.org
SUMMARY:St. Paul - Summer on the Lawn: Shakespeare in Our Parks
DESCRIPTION:The Minnesota Humanities Center (MHC) enthusiastically welcomes Classical Actors Ensemble back to the MHC front lawn for the 11th season of Shakespeare in Our Parks. This season\, the Classical Actors Ensemble will present one of William Shakespeare’s lesser-known comedies\, “All’s Well That Ends Well.” Follow the trials and tribulations of the heroine Helena as she faces deception\, duress\, and death in her quest to win the heart of the snobbish and nowhere-near-good-enough-for-her Bertram. Guffaw\, jeer\, and cheer as a memorable cast of characters galivant through royal courts and battlefields and satirize social mores. \nPicnics\, lawn chairs\, sun umbrellas\, and blankets are welcome. Note that the performance is in an open field with minimal shade. Please plan accordingly. Restrooms will be available for use at the Minnesota Humanities Event Center. Can’t make it on July 13? Check out Classical Actors Ensemble’s full calendar for other performances across the Twin Cities this summer. \nFrom Classical Actors Ensemble: “The Theater is a sacred place. It is a public forum where actors and audience gather to contemplate what it means to be human. Shakespeare and his contemporaries grappled with that question in some of the English language’s best poetry\, leaving behind a canon of compelling stories with universal themes that provide invigorating challenge for actors and an awe-inspiring legacy for audiences. Classical Actors Ensemble performs the plays of the English Renaissance as they were originally intended: as popular entertainment for everyone. By demonstrating why these works of art are considered classic\, we freshly prove their relevance in today’s world.” \nThis event is part of MHC’s 2025 summer “Summer on the Lawn” series. \nRegistration\nRegistration is encouraged but not required. There is no cost to attend. \nRegister Now
URL:https://www.mnhum.org/event/summer-on-the-lawn-shakespeare-in-our-parks/
LOCATION:Minnesota Humanities Event Center\, 987 Ivy Avenue East\, Saint Paul\, MN\, 55106\, United States
CATEGORIES:Free,Public Programming,Summer on the Lawn
ATTACH;FMTTYPE=image/jpeg:https://www.mnhum.org/wp-content/uploads/2025/06/event_shakespeare_in_our_parks_2025.jpg
ORGANIZER;CN="Colin Nelson-Dusek":MAILTO:colin@mnhum.org
END:VEVENT
BEGIN:VEVENT
DTSTART;TZID=America/Chicago:20250725T130000
DTEND;TZID=America/Chicago:20250725T160000
DTSTAMP:20260420T061309
CREATED:20250530T211247Z
LAST-MODIFIED:20250714T145731Z
UID:10000514-1753448400-1753459200@www.mnhum.org
SUMMARY:Hampton - Learning from Place: Watt Munisotaram (Cambodian Temple)
DESCRIPTION:Join us for an immersive cultural learning experience at Watt Munisotaram\, the largest Cambodian Buddhist temple in the United States\, located in the serene countryside of Hampton\, Minnesota. Hosted in collaboration with the Cambodian American Partnership of Minnesota\, this event offers a rare opportunity to explore the intersection of history\, spirituality\, and community within one of Minnesota’s most vibrant cultural landmarks. \n\nEvent Highlights\n\n	Historical Context: Gain insight into Cambodia’s complex history\, including the impact of the Khmer Rouge genocide and the Vietnam War\, which led many Cambodians to seek refuge in Minnesota.\nTemple Origins & Architecture: Discover the origins of Watt Munisotaram and explore its stunning architecture. Learn how the temple was established and how it continues to serve as a spiritual and cultural anchor for the Cambodian American community.\n	Guided Tour: Walk the temple grounds with community members who will share their knowledge and experiences\, offering a deeper understanding of the site’s cultural and religious significance.\nCommunity Voices: Listen to personal stories from Cambodian Americans and hear directly from temple monks about their spiritual practices and daily lives.\n	Cambodian Cuisine: Enjoy a tasting of traditional Cambodian treats—an essential part of the cultural experience.\n\n \n\nMinnesota is home to the fifth-largest Cambodian population in the United States\, with approximately 12\,000 Cambodian Americans—most residing in the Twin Cities metro area. \n\nThis event offers a powerful way to engage with community while learning about Cambodian history\, culture\, and spirituality in a welcoming and enriching environment. \n\nLearn about Watt Munisotaram in the first segment on Buddhism from Prayers on the Prairie: Asian-Pacific Minnesota Religious Practices\, an educational video produced in partnership with the Minnesota Humanities Center and the Council on Asian Pacific Minnesotans. \n\n\n\n\n\n\n\n\n\n\n\n\n\n\n\n\n\n\n\n\n\nK-12 educators will receive 3 clock hours \n\nRegistration\nREGISTRATION FOR THIS IS CLOSED. JOIN OUR WAITLIST. \n\nRegistration Questions: registrations@mnhum.org \n\nJoin Our Waitlist
URL:https://www.mnhum.org/event/learning-from-place-watt-munisotaram-cambodian-temple/
LOCATION:Watt Munisotaram\, 2925 220th St E\, Empire\, 55031\, United States
CATEGORIES:CEUs/Clock Hours,Immersive Experiences,Learning from Place,Professional Development
ATTACH;FMTTYPE=image/jpeg:https://www.mnhum.org/wp-content/uploads/2025/05/event_lfp_watt_munisotaram_2025.jpg
ORGANIZER;CN="Eden Bart":MAILTO:eden@mnhum.org
END:VEVENT
BEGIN:VEVENT
DTSTART;TZID=America/Chicago:20250729T090000
DTEND;TZID=America/Chicago:20250729T150000
DTSTAMP:20260420T061309
CREATED:20250708T132407Z
LAST-MODIFIED:20250708T132407Z
UID:10000525-1753779600-1753801200@www.mnhum.org
SUMMARY:Staples - K-8 Social Studies Standards Workshop
DESCRIPTION:We invite K-8 social studies educators to a workshop that will provide an overview of the new 2021 Minnesota social studies standards. This workshop includes time for teachers to work together to bundle benchmarks into cohesive\, interdisciplinary instructional units. Participants will also have work time to start aligning these units with existing resources and primary sources. \nA collaboration between Sourcewell and the Minnesota Humanities Center\, this workshop will be led by Sourcewell education consultant Jen McLachlan and will feature Brittany Rawson Haeg\, Social Studies Content Lead for the Minnesota Department of Education. \nWorkshop Leader\nJen McLachlan serves as an education consultant at Sourcewell\, lending her expertise to programs such as ElevatePD\, New Teacher Academy\, and the Social Studies Network. With a background as a middle-level educator in both math and social studies\, as well as serving on a school board\, she is deeply passionate about empowering teachers to become innovators and catalysts for change. \nWorkshop Presenter\nBrittany Rawson Haeg is the Social Studies Content Specialist at the Minnesota Department of Education. She began her teaching career as a high school social studies teacher in Brooklyn\, New York. She taught middle and high school social studies in the Twin Cities. Prior to teaching\, she was a staff assistant in the New York City Department of Education Office of Intergovernmental Affairs. She believes in the power of social studies education to help students develop greater empathy and understanding. \nFor more information and to register\, visit the Sourcewell event listing.
URL:https://www.mnhum.org/event/k-8-social-studies-standards-workshop/
LOCATION:Sourcewell\, 202 12th Street NE\, Staples\, MN\, 56479\, United States
CATEGORIES:Greater Minnesota,K-12 Education,Professional Development
ATTACH;FMTTYPE=image/jpeg:https://www.mnhum.org/wp-content/uploads/2025/07/event_k8_social_studies_standards_sourcewell_2025.jpg
ORGANIZER;CN="Eden Bart":MAILTO:eden@mnhum.org
END:VEVENT
END:VCALENDAR