BEGIN:VCALENDAR
VERSION:2.0
PRODID:-//Minnesota Humanities Center - ECPv6.15.20//NONSGML v1.0//EN
CALSCALE:GREGORIAN
METHOD:PUBLISH
X-ORIGINAL-URL:https://www.mnhum.org
X-WR-CALDESC:Events for Minnesota Humanities Center
REFRESH-INTERVAL;VALUE=DURATION:PT1H
X-Robots-Tag:noindex
X-PUBLISHED-TTL:PT1H
BEGIN:VTIMEZONE
TZID:America/Chicago
BEGIN:DAYLIGHT
TZOFFSETFROM:-0600
TZOFFSETTO:-0500
TZNAME:CDT
DTSTART:20250309T080000
END:DAYLIGHT
BEGIN:STANDARD
TZOFFSETFROM:-0500
TZOFFSETTO:-0600
TZNAME:CST
DTSTART:20251102T070000
END:STANDARD
BEGIN:DAYLIGHT
TZOFFSETFROM:-0600
TZOFFSETTO:-0500
TZNAME:CDT
DTSTART:20260308T080000
END:DAYLIGHT
BEGIN:STANDARD
TZOFFSETFROM:-0500
TZOFFSETTO:-0600
TZNAME:CST
DTSTART:20261101T070000
END:STANDARD
BEGIN:DAYLIGHT
TZOFFSETFROM:-0600
TZOFFSETTO:-0500
TZNAME:CDT
DTSTART:20270314T080000
END:DAYLIGHT
BEGIN:STANDARD
TZOFFSETFROM:-0500
TZOFFSETTO:-0600
TZNAME:CST
DTSTART:20271107T070000
END:STANDARD
END:VTIMEZONE
BEGIN:VEVENT
DTSTART;VALUE=DATE:20260423
DTEND;VALUE=DATE:20260615
DTSTAMP:20260419T185759
CREATED:20251222T205635Z
LAST-MODIFIED:20251222T205635Z
UID:10000610-1776902400-1781481599@www.mnhum.org
SUMMARY:St. Paul - We Are Water MN
DESCRIPTION:The We Are Water MN traveling exhibit examines water issues statewide and in local communities through personal stories\, histories\, and scientific information. It strengthens Minnesotans’ relationships with water\, exposes visitors to new perspectives\, and increases participation in water stewardship activities. \nHost Partner: Capitol Region Watershed District \nStop two on the We Are Water MN 2026 tour brings us to the Midway neighborhood of Saint Paul\, where the exhibit is hosted by Capitol Region Watershed District (CRWD). CRWD is a local unit of government dedicated to protecting\, managing and improving the water resources of the District\, which includes parts of Falcon Heights\, Lauderdale\, Maplewood\, Roseville and Saint Paul. All the water in this district eventually flows to the Mississippi River\, and being hosted at CRWD will offer a chance for visitors to learn more about ways their actions directly impact water in their local community. This hosting will also offer a unique opportunity to spend time in the CRWD offices\, which use green building principles\, including stormwater management and energy-saving practices\, to conserve natural resources. The grounds include a watershed learning center\, a pocket park\, and interactive features designed to draw in neighbors and visitors. \nFun fact: Watershed Districts are unique parts of government\, because they aren’t defined by political boundaries. Instead\, they follow the water! Water flows naturally\, so these districts cross city/county lines to provide holistic\, science-based water management for areas draining to a common lake\, stream\, or river. \nAbout We Are Water MN?\nWe are Water MN is a project of the Minnesota Pollution Control Agency and the Minnesota Humanities Center in partnership with the Minnesota Historical Society; the Board of Water and Soil Resources; the Minnesota Departments of Agriculture\, Health\, and Natural Resources; and University of Minnesota Extension. \nLearn more about the We Are Water MN exhibit\, partnership\, and programs. \nLearn More
URL:https://www.mnhum.org/event/st-paul-we-are-water-mn/
LOCATION:Capitol Region Watershed District\, 595 Aldine St\, St. Paul\, MN\, 55104\, United States
CATEGORIES:Civic Renewal,Exhibit,Free,Kid Friendly,We Are Water MN
ATTACH;FMTTYPE=image/jpeg:https://www.mnhum.org/wp-content/uploads/2022/04/event_we_are_water.jpg
ORGANIZER;CN="Rachel Busse-Aswar":MAILTO:rachel@mnhum.org
END:VEVENT
BEGIN:VEVENT
DTSTART;VALUE=DATE:20260430
DTEND;VALUE=DATE:20260502
DTSTAMP:20260419T185759
CREATED:20260302T222644Z
LAST-MODIFIED:20260302T222644Z
UID:10000634-1777507200-1777679999@www.mnhum.org
SUMMARY:Breezy Point - Minnesota Council of Teachers of English (MCTE) Spring Conference
DESCRIPTION:The Minnesota Humanities Center will be at the Minnesota Council of Teachers of English (MCTE) Conference this year. We will be presenting the following session: \n\nDrop Everything and Read Indigenous with the Native American Lives Series\n\nAbout the Conference\nThis year’s theme\, Every Voice\, invites us to embrace dialogue\, diverse perspectives\, inclusivity\, and the joys and challenges of teaching ELA in this time—and what better place to do so than on the shores of Pelican Lake at Breezy Point Resort\, where reflection and connection come naturally. \nThere will also be 30+ Breakout Sessions over this 2-day event—including topics such as writing\, media literacy\, diverse books\, rural issues\, and implementation of the standards and READ Act. Strands include elementary\, middle level\, high school\, and college-level presentations on a variety of reading and literacy related topics each day. Come join in the fun! \nRegistration\nThe full MCTE Conference runs from April 30- May 1. Registration and payment through MCTE for the full conference are required to attend. \nRegister Now
URL:https://www.mnhum.org/event/mcte-spring-conference/
LOCATION:Breezy Point Resort\, 9252 Breezy Point Drive\, Breezy Point\, 56472\, United States
CATEGORIES:K-12 Education
ATTACH;FMTTYPE=image/png:https://www.mnhum.org/wp-content/uploads/2026/03/event_mcte_spring_conference_2026.png
ORGANIZER;CN="Corey China":MAILTO:corey@mnhum.org
END:VEVENT
BEGIN:VEVENT
DTSTART;TZID=America/Chicago:20260501T150000
DTEND;TZID=America/Chicago:20260501T180000
DTSTAMP:20260419T185759
CREATED:20260409T173920Z
LAST-MODIFIED:20260409T173943Z
UID:10000652-1777647600-1777658400@www.mnhum.org
SUMMARY:St. Paul - Learning from Place: Little Africa Plaza
DESCRIPTION:Minnesota is home to a vibrant and growing African diaspora representing many countries\, languages\, and cultural traditions. In St. Paul\, Little Africa has emerged as a cultural corridor where this diversity is expressed and rooted through entrepreneurship\, community leadership\, art\, and food. \nParticipants will gather at Little Africa Plaza and hear from community leaders and culture bearers about the vision behind the new development and the role of African entrepreneurs in shaping the corridor. The experience will include an Ethiopian coffee ceremony and a cooking demonstration featuring injera\, the traditional Ethiopian flatbread prepared by Mamas Market & Deli. Participants will then sample Afro fusion sandwiches and tour the market to learn about traditional foods and spices. Through this experience\, participants will learn how food traditions carry stories of family\, culture\, and community. \nParticipants will also visit the African Museum\, Art and Culture Center\, where they will learn about ongoing efforts to elevate African art within the Little Africa cultural corridor and explore opportunities to support this vision through volunteer and event participation. \nK-12 Educators will receive 3 clock hours upon completion of the event. \nThis experience is presented in collaboration with African Economic Development Solutions (AEDS)\, a non-profit organization that supports African immigrant entrepreneurs and has helped advance the vision for Little Africa Plaza and the surrounding cultural corridor. \nRegistration\nTo ensure that cost is not a barrier\, we have a limited number of complimentary spaces available for Minnesota residents. If you would like to receive a complimentary spot\, please register with the discount code FEEWAIVER. \nRegistration Questions: registrations@mnhum.org | MHC Cancellation Policy \nRegister Now
URL:https://www.mnhum.org/event/st-paul-learning-from-place-little-africa-plaza/
LOCATION:Little Africa Plaza\, 678 Snelling Ave N\, St. Paul\, 55104\, United States
CATEGORIES:CEUs/Clock Hours,Immersive Experiences,Learning from Place,Professional Development
ATTACH;FMTTYPE=image/png:https://www.mnhum.org/wp-content/uploads/2026/04/event_lfp_little_africa_plaza.png
ORGANIZER;CN="Eden Bart":MAILTO:eden@mnhum.org
END:VEVENT
BEGIN:VEVENT
DTSTART;TZID=America/Chicago:20260505T090000
DTEND;TZID=America/Chicago:20260505T130000
DTSTAMP:20260419T185759
CREATED:20260325T215323Z
LAST-MODIFIED:20260327T164501Z
UID:10000643-1777971600-1777986000@www.mnhum.org
SUMMARY:St. Paul - Project Citizen Student Showcase
DESCRIPTION:See Students Put Democracy into Action! \nJoin us for the first annual Project Citizen Student Showcase hosted by the Minnesota Humanities Center. For many years\, Project Citizen and We the People were led in Minnesota by the Learning Law and Democracy organization\, whose work helped build a strong foundation for civic education. This year’s showcase – which launches MHC’s leadership as the program’s state coordinator – is a smaller-scale pilot\, highlighting how students engage in real-world public policy projects. Middle and high school teams will present issues that matter to them\, proposing solutions and demonstrating how youth can participate meaningfully in democracy—beyond simulations or listening sessions. \nHighlights of the Day: \n\nStudent Displays: See the research and proposals that students have prepared\, highlighting issues that matter to them\nExplore Exhibits: Visit the Justice & Democracy Center’s thought-provoking exhibits\, including Justice Denied about the 1920 Duluth lynchings\nKeynote Speaker: Hear from a civic leader who inspires and supports youth engagement\nLunch & Networking: Connect with educators\, community members\, and civic-minded guests\n\nWho Should Attend: \n\nEducators exploring ways to bring Project Citizen to their classrooms next school year\nPotential judges and volunteers interested in supporting future showcases\nCommunity members and stakeholders interested in civic education and student engagement\n\nLearn More:\nVisit the Minnesota Center for Civic Education program page for information about Project Citizen\, upcoming info sessions\, and future showcases. \nRegistration\nThis event is free\, however registration is required. Space is limited for this pilot showcase\, so early registration is strongly encouraged. \nRegistration Questions: registrations@mnhum.org  \nRegister Now
URL:https://www.mnhum.org/event/st-paul-project-citizen-student-showcase/
LOCATION:Justice & Democracy Center\, Warren E. Burger Federal Building and U.S. Courthouse\, 316 North Robert Street\, St. Paul\, 55101\, United States
CATEGORIES:Free,K-12 Education,Project Citizen
ATTACH;FMTTYPE=image/png:https://www.mnhum.org/wp-content/uploads/2026/03/event_project_citizen_2026.png
ORGANIZER;CN="Eden Bart":MAILTO:eden@mnhum.org
END:VEVENT
BEGIN:VEVENT
DTSTART;TZID=America/Chicago:20260505T160000
DTEND;TZID=America/Chicago:20260505T173000
DTSTAMP:20260419T185759
CREATED:20250812T170028Z
LAST-MODIFIED:20260217T171112Z
UID:10000558-1777996800-1778002200@www.mnhum.org
SUMMARY:Online Content Session – Era Nine: Contested Freedoms
DESCRIPTION:Evaluate how recent U.S. history—1990s to present—shaped American debates over democracy\, rights\, and responses to global and domestic crises.  Led by Dr. Walter Greason and moderated by Dr. Katharine Gerbner\, this session will provide deep historical context\, source analysis\, and thematic framing. \n\n\nView Dr. Walter Greason’s Bio\n\n\n\n\n\n\n\n\n\n\n\n\nWalter Greason teaches American and world history\, using media ecology\, economics\, and African diaspora studies. His areas of research include urban planning\, Afrofuturism\, and multimedia user experience design. He is an author\, editor\, and contributor to more than twenty books\, mostly notably the award-winning books Suburban Erasure and The Black Reparations Project.  His work on the Timothy Thomas Fortune Cultural Center has garnered international acclaim for the innovative use of digital technology\, leading to multiple urban revitalization projects in Minnesota\, Florida\, New Jersey\, and Louisiana. He has written for or appeared as the feature guest on media outlets ranging from the Washington Post\, USA Today\, the Canadian Broadcast Channel\, the Philadelphia Daily News\, the Huffington Post\, National Public Radio\, Historians at the Movies\, the New York Times Read Along\, WURD Philadelphia\, and Today with Dr. Kaye (WEEA\, Baltimore). He was a Future Faculty Fellow at Temple University where he completed his Ph.D. in History and a Presidential Scholar at Villanova University where he studied History\, English\, Philosophy\, Peace and Justice Studies\, and Africana Studies. His most recent project\, The Graphic History of Hip Hop\, with Afrofuturist illustrator Tim Fielder\, has been featured at the United Nations\, the Smithsonian Institution’s National Museum for African American History and Culture\, the Metropolitan Museum of Art in New York City\, the Schomburg Center in the New York Public Library system\, and San Diego Comic-Con in 2024.  \n\n\n\nHe is the Wallace Professor of History in the Department of History at Macalester College in Saint Paul\, Minnesota\, and holds research affiliate positions with Brandeis University’s Institute for Economic and Racial Equity\, Rutgers University’s Institute for the Study of Global Racial Justice\, the Center for New American History at the University of Richmond\, and the University of Minnesota’s College of Design.  \n\n\n\n\n\nAll Content Sessions will be conducted via Zoom and a Minnesota Department of Education (MDE)-hosted Canvas learning community. Each session’s lectures and discussions will be recorded and registered participants will receive access to the Canvas course with session recordings\, curated resources\, and collaborative planning tools. \n\nHigh school U.S. History teachers and 5th and 7th grade educators are invited to participate in companion Pedagogy Sessions. \n\nRegistration\nContent Sessions are open to all K–12 educators interested in historical content and source-based instruction. Educators are welcome to register for individual sessions that align with their interests and schedules. Join us for one or more sessions throughout the year.  \n\nThis event is free but registration is required. Separate registration is required for each offering. \n\nRegistration Questions: Brittany.Rawson-Haeg@state.mn.us  \n\nRegister Now \n\nThis offering is part of Navigating the U.S. History Eras: Content\, Pedagogy\, and Inquiry in the Classroom is a yearlong professional learning opportunity supporting implementation of Minnesota’s 2021 K–12 Academic Standards in Social Studies presented by MHC and MDE.
URL:https://www.mnhum.org/event/online-content-session-era-nine/
LOCATION:Online
CATEGORIES:Academic Standards,Content Sessions,Free,K-12 Education,Online,Professional Development,Social Studies Standards,US History Eras
ATTACH;FMTTYPE=image/jpeg:https://www.mnhum.org/wp-content/uploads/2025/08/event_us_history_content_session_2025.jpg
ORGANIZER;CN="Sung Ja Shin":MAILTO:sungja@mnhum.org
END:VEVENT
BEGIN:VEVENT
DTSTART;TZID=America/Chicago:20260506T090000
DTEND;TZID=America/Chicago:20260506T150000
DTSTAMP:20260419T185759
CREATED:20260217T214108Z
LAST-MODIFIED:20260217T214108Z
UID:10000625-1778058000-1778079600@www.mnhum.org
SUMMARY:Sartell - Social Studies Standards Workshop: K-5 Educators and Leaders
DESCRIPTION:We invite K-5 teachers and school leaders to a one-day social studies workshop. Participants will engage in a structured examination of the 2021 social studies standards\, focusing on key content shifts\, vertical alignment across grade levels\, and their impact on curriculum design. Throughout the workshop\, collaborative teams will strengthen their understanding of high-quality instructional practices and the instructional shifts needed to support student learning. \nThis workshop is a collaboration between Resource Training and Solutions and the Minnesota Humanities Center\, and will also feature Brittany Rawson-Haeg\, Social Studies Content Lead for the Minnesota Department of Education. \nK-5 educators will receive 5.25 clock hours upon completion the session. \nRegistration\nRegistration for this event is managed by Resource Training Solutions. Registration fee includes lunch. Registration closes Monday\, May 4\, 2026. \nRegistration Questions: info@resourcecoop-mn.gov  \nRegister Now
URL:https://www.mnhum.org/event/sartell-social-studies-standards-workshop-k-5-educators-and-leaders/
LOCATION:Resource Training & Solution\, 137 23rd Street S\, Sartell\, 56377\, United States
CATEGORIES:Academic Standards,Greater Minnesota,K-12 Education,Social Studies Standards
ATTACH;FMTTYPE=image/jpeg:https://www.mnhum.org/wp-content/uploads/2025/10/event_social_studies_standards.jpg
ORGANIZER;CN="Mychi Nguyen":MAILTO:mychi@mnhum.org
END:VEVENT
BEGIN:VEVENT
DTSTART;TZID=America/Chicago:20260520T073000
DTEND;TZID=America/Chicago:20260520T083000
DTSTAMP:20260419T185759
CREATED:20251017T180500Z
LAST-MODIFIED:20251017T180500Z
UID:10000599-1779262200-1779265800@www.mnhum.org
SUMMARY:Online - What’s Next? Looking Towards Implementation
DESCRIPTION:Join for conversation and brainstorming about next steps in social studies standards implementation. Spend time reflecting on the work done this year\, and the changes anticipated for next school year. \nThe Minnesota Department of Education\, in partnership with the Minnesota Humanities Center\, will host virtual and in-person sessions to support planning for and implementation of the 2021 K-12 Academic Standards in Social Studies\, held monthly during the 2025–26 school year. These sessions are open to anyone with building or district-level responsibilities for curriculum planning and development in all social studies content areas\, including curriculum directors\, department leads\, and teachers. Pre-registration is required for in-person sessions. \nVirtual sessions will have content similar to in-person sessions\, and whenever possible will feature the same speakers.  \nIn-person sessions will be an hour longer than virtual sessions and will allow time for supported collaborative work and networking.  \nWhile districts are encouraged to have a representative at each monthly session\, either in-person or virtual\, participants do not need to commit to attending all nine sessions. Participants are also welcome to attend either session type throughout the year\, as is best suited to their needs and schedule. \nK-12 educators will receive 1 clock hour. \nRegistration\nRegistration Questions: brittany.rawson-haeg@state.mn.us  \nRegister Now
URL:https://www.mnhum.org/event/online-whats-next-looking-towards-implementation/
LOCATION:https://www.mnhum.org/event/online-whats-next-looking-towards-implementation/
CATEGORIES:Free,K-12 Education,Online,Professional Development,Social Studies Curriculum Leaders Network
ATTACH;FMTTYPE=image/jpeg:https://www.mnhum.org/wp-content/uploads/2025/10/event_social_studies_standards.jpg
ORGANIZER;CN="Sung Ja Shin":MAILTO:sungja@mnhum.org
END:VEVENT
BEGIN:VEVENT
DTSTART;TZID=America/Chicago:20260520T183000
DTEND;TZID=America/Chicago:20260520T200000
DTSTAMP:20260419T185759
CREATED:20260407T143033Z
LAST-MODIFIED:20260413T140318Z
UID:10000645-1779301800-1779307200@www.mnhum.org
SUMMARY:Columbia Heights - NUESTRO NORTE Community Screening
DESCRIPTION:Join us for the public premiere and celebration of NUESTRO NORTE. \nNUESTRO NORTE is a cinematic portrait of five community leaders from across metro and greater Minnesota\, their lived stories interwoven with symbolic fiction scenes and original musical performances. More than a documentary\, the film seeks to offer a collective vision\, celebrating Latine leadership while reflecting on history\, diversity\, community investment\, innovation\, and the strength of intergenerational ties. \nThe evening will feature a panel reflection with cast members and special acknowledgements. \nThis project was produced in collaboration with LatinoLEAD\, Dual Studios\, and the talented film director Martín Blanco with guidance from the project’s Task Force: Sandy Vargas\, Elsa Vega Perez\, and Jessica Lopez Lyman. \n\n\n\n\n\n \nRegistration\nThis event is free\, however registration is required. \nRegistration Questions: registrations@mnhum.org  \nRegister Now
URL:https://www.mnhum.org/event/columbia-heights-nuestro-norte-community-screening/
LOCATION:Heights Theater\, 3951 Central Ave NE\, Columbia Heights\, MN\, 55421\, United States
CATEGORIES:Free,Immersive Experiences
ATTACH;FMTTYPE=image/jpeg:https://www.mnhum.org/wp-content/uploads/2026/03/event_nuestro_norte.jpg
ORGANIZER;CN="MayKao Fredericks":MAILTO:maykao@mnhum.org
END:VEVENT
BEGIN:VEVENT
DTSTART;TZID=America/Chicago:20260520T190000
DTEND;TZID=America/Chicago:20260520T203000
DTSTAMP:20260419T185759
CREATED:20260415T170609Z
LAST-MODIFIED:20260415T170609Z
UID:10000658-1779303600-1779309000@www.mnhum.org
SUMMARY:Hopkins - Minnesota Writers Off the Page: Kristin Collier
DESCRIPTION:In her striking new memoir\, “What Debt Demands: Family\, Betrayal\, and Precarity in a Broken System\,” Grand Central Publishing (2025). Kristin Collier recounts the moment she discovered she owed $200\,000—not from debt she incurred\, but from loans her mother had taken out in her name without her knowledge. She reflects on the emotional and financial toll of this betrayal\, and the lasting impact it has had on her life. Collier’s story also broadens into a powerful exploration of the collective burden of debt in today’s society. She will be joined in conversation by fellow writer Jennifer Eli Bowen\, author of “The Book of Kin: On Absence\, Love\, and Being There.”  \nFollowing the discussion\, audience members are invited to participate in a Q&A session and have further informal conversation with the featured speakers. Light refreshments will be provided\, copies of “What Debt Demands: Family\, Betrayal\, and Precarity in a Broken System” will be available for purchase\, and the evening will finish with a book signing. \nAbout the Author\nKristin Collier is the author of “What Debt Demands: Family\, Betrayal\, and Precarity in a Broken System\,” Grand Central Publishing (2025). She has received funding from the Minnesota State Arts Board\, a Jack Hazard fellowship\, and a Yaddo artist residency. Her writing has been published in journals such as the Los Angeles Review of Books\, Oprah Daily\, and Longreads. She is an organizer with the Debt Collective and a visiting scholar and TREC community engagement fellow at Metro State University. \nAbout the Moderator\nJennifer Eli Bowen is a writer\, arts instructor\, and editor\, whose most recent essay collection “The Book of Kin: On Absence\, Love\, and Being There\,” Milkweed Press (2025) has been shortlisted for the MN Book Awards in the Memoir/Creative Non-fiction category. Her work has received a Pushcart Prize\, The Arts and Letters Prize\, The Tim McGinnis Award\, and has appeared in The Sun\, The Iowa Review\, Orion\, and Kenyon Review\, among others. Jennifer is the Founding Artist Director of the Minnesota Prison Writing Workshop. She teaches creative writing in prisons across the state of Minnesota\, and occasionally at local colleges. She also edits creative prose and conducts interviews. Jen lives in St. Paul\, a block in any direction from sidewalk poetry and snow. \nThis event is presented in partnership with Cream & Amber\, a unique book store where reading and beer come together and people can connect with each other. This event is part of the Minnesota Writers Off the Page series\, bringing the inspirational voices of Minnesota’s authors directly to readers. \nRegistration\nThis event is free\, however registration is required. \nRegistration Questions: registrations@mnhum.org  \nRegister Now
URL:https://www.mnhum.org/event/hopkins-minnesota-writers-off-the-page-kristin-collier/
LOCATION:Cream & Amber\, 1605 Mainstreet\, Hopkins\, MN\, 55343\, United States
CATEGORIES:Free,Minnesota Writers Off the Page,Public Programming
ATTACH;FMTTYPE=image/png:https://www.mnhum.org/wp-content/uploads/2026/04/event_mn_writers_kristin_collier_2026.png
ORGANIZER;CN="Corey China":MAILTO:corey@mnhum.org
END:VEVENT
BEGIN:VEVENT
DTSTART;TZID=America/Chicago:20260521T160000
DTEND;TZID=America/Chicago:20260521T173000
DTSTAMP:20260419T185759
CREATED:20250812T170256Z
LAST-MODIFIED:20260217T171007Z
UID:10000559-1779379200-1779384600@www.mnhum.org
SUMMARY:Online Pedagogy Session – Era Nine: Contested Freedoms
DESCRIPTION:Evaluate how recent U.S. history—1990s to present—shaped American debates over democracy\, rights\, and responses to global and domestic crises. Using content and sources from Dr. Walter Greason\, Minnesota Department of Education (MDE) Social Studies Specialist Brittany Rawson-Haeg and experienced classroom educators will lead this hands-on workshop supporting high school U.S. History teachers in designing inquiry-based\, standards-aligned units. \nAll Pedagogy Sessions will be conducted via Zoom. Educators who participate in all Pedagogy Sessions will leave the year with a complete U.S. History course aligned to the new standards. \nEducators are invited to participate in companion Content Sessions. \nRegistration\nPedagogy Sessions are designed for high school U.S. History teachers and may also be relevant for 5th and 7th grade educators. Educators are welcome to register for individual sessions that align with their interests and schedules. Join us for one or more sessions throughout the year. \nThis event is free but registration is required. Separate registration is required for each offering. \nRegistration Questions: Brittany.Rawson-Haeg@state.mn.us \nRegister Now \nThis offering is part of Navigating the U.S. History Eras: Content\, Pedagogy\, and Inquiry in the Classroom is a yearlong professional learning opportunity supporting implementation of Minnesota’s 2021 K–12 Academic Standards in Social Studies presented by MHC and MDE.
URL:https://www.mnhum.org/event/online-pedagogy-session-era-nine/
LOCATION:Online
CATEGORIES:Academic Standards,Free,K-12 Education,Online,Pedagogy Sessions,Professional Development,Social Studies Standards,US History Eras
ATTACH;FMTTYPE=image/jpeg:https://www.mnhum.org/wp-content/uploads/2025/08/event_us_history_pedagogy_session_2025.jpg
ORGANIZER;CN="Sung Ja Shin":MAILTO:sungja@mnhum.org
END:VEVENT
BEGIN:VEVENT
DTSTART;TZID=America/Chicago:20260529T150000
DTEND;TZID=America/Chicago:20260529T180000
DTSTAMP:20260419T185759
CREATED:20260409T213448Z
LAST-MODIFIED:20260409T213448Z
UID:10000654-1780066800-1780077600@www.mnhum.org
SUMMARY:St. Paul - Learning from Place: Little Mekong Cultural District
DESCRIPTION:St. Paul’s Little Mekong Cultural District invites participants into a vibrant Southeast Asian cultural corridor shaped by migration\, resilience\, and entrepreneurship along University Avenue. Beginning at XIA Books & Cafe\, participants are welcomed by community leader Va-Megn Thoj\, who grounds the journey in the story of the Mekong River and its connection to identity and place\, while guiding the group through the neighborhood. Along the walk\, participants encounter the bold\, colorful murals by local artist Kao Lee Thao\, hear reflections on the Vietnamese refugee experience\, and learn how community-rooted organizations continue to support families across generations. The experience comes alive through the sights and smells of a Lao owned local grocery store\, where participants sample exotic fruits and learn about favorite rice and fish sauce brands\, along with staple ingredients. At the Hmong Cultural Center\, participants deepen their understanding of heritage through storytelling and the sound of the qeej\, a traditional Hmong instrument whose breath and movement carry ancestral voice and ceremony. The journey continues through local Cambodian and Thai restaurants\, where dishes such as somlaw kao kou\, a savory Cambodian soup with green papaya\, eggplant\, and pumpkin\, evoke memories\, family traditions\, and stories of food across generations and borders. The experience closes with group reflection\, inviting participants to connect these sensory and human experiences to a deeper understanding of community\, culture\, and belonging. \nK-12 Educators will receive 3 clock hours upon completion of the event. \nThis experience is presented in collaboration with Asian Economic Development Association (AEDA)\, a non-profit organization whose mission is to create economic and cultural opportunities for Twin Cities Asian American. \nRegistration\nTo ensure that cost is not a barrier\, we have a limited number of complimentary spaces available for Minnesota residents. If you would like to receive a complimentary spot\, please register with the discount code FEEWAIVER. \nRegistration Questions: registrations@mnhum.org | MHC Cancellation Policy \nRegister Now
URL:https://www.mnhum.org/event/st-paul-learning-from-place-little-mekong-cultural-district/
LOCATION:XIA Books & Cafe\, 422 University Ave W\, St. Paul\, MN\, 55103\, United States
CATEGORIES:CEUs/Clock Hours,Immersive Experiences,Learning from Place,Professional Development
ATTACH;FMTTYPE=image/jpeg:https://www.mnhum.org/wp-content/uploads/2026/04/event_lfp_little_mekong.jpg
END:VEVENT
END:VCALENDAR