BEGIN:VCALENDAR
VERSION:2.0
PRODID:-//Minnesota Humanities Center - ECPv6.15.20//NONSGML v1.0//EN
CALSCALE:GREGORIAN
METHOD:PUBLISH
X-WR-CALNAME:Minnesota Humanities Center
X-ORIGINAL-URL:https://www.mnhum.org
X-WR-CALDESC:Events for Minnesota Humanities Center
REFRESH-INTERVAL;VALUE=DURATION:PT1H
X-Robots-Tag:noindex
X-PUBLISHED-TTL:PT1H
BEGIN:VTIMEZONE
TZID:America/Chicago
BEGIN:DAYLIGHT
TZOFFSETFROM:-0600
TZOFFSETTO:-0500
TZNAME:CDT
DTSTART:20210314T080000
END:DAYLIGHT
BEGIN:STANDARD
TZOFFSETFROM:-0500
TZOFFSETTO:-0600
TZNAME:CST
DTSTART:20211107T070000
END:STANDARD
BEGIN:DAYLIGHT
TZOFFSETFROM:-0600
TZOFFSETTO:-0500
TZNAME:CDT
DTSTART:20220313T080000
END:DAYLIGHT
BEGIN:STANDARD
TZOFFSETFROM:-0500
TZOFFSETTO:-0600
TZNAME:CST
DTSTART:20221106T070000
END:STANDARD
BEGIN:DAYLIGHT
TZOFFSETFROM:-0600
TZOFFSETTO:-0500
TZNAME:CDT
DTSTART:20230312T080000
END:DAYLIGHT
BEGIN:STANDARD
TZOFFSETFROM:-0500
TZOFFSETTO:-0600
TZNAME:CST
DTSTART:20231105T070000
END:STANDARD
END:VTIMEZONE
BEGIN:VEVENT
DTSTART;TZID=America/Chicago:20220221T190000
DTEND;TZID=America/Chicago:20220221T203000
DTSTAMP:20260421T215656
CREATED:20220608T163613Z
LAST-MODIFIED:20230710T205625Z
UID:10000295-1645470000-1645475400@www.mnhum.org
SUMMARY:St. Paul - Commemorate Black Music Featuring Thomasina Petrus
DESCRIPTION:The Minnesota Humanities Center is thrilled to collaborate with its community partners in a series of events Commemorating Black History & Culture 2022 across the City of Saint Paul. Join us for music\, song\, and conversation with legendary vocalist Thomasina Petrus on her career\, life\, and her play on the incomparable Billie Holliday. Minnesota Humanities Center CEO Kevin Lindsey will host the evening. \nThis event is one of four in the Black History and Culture: Art\, Music\, & Literature Exhibition 2022\, presented by Saint Paul Public Library\, Minnesota Humanities Center\, Ujamma Place\, and Public Art Saint Paul. \nLearn More \nRegistration\nREGISTRATION FOR THIS EVENT HAS CLOSED
URL:https://www.mnhum.org/event/thomasina-petrus/
LOCATION:Minnesota Humanities Event Center\, 987 Ivy Avenue East\, Saint Paul\, MN\, 55106\, United States
CATEGORIES:Free,Public Programs
ATTACH;FMTTYPE=image/jpeg:https://www.mnhum.org/wp-content/uploads/2022/06/event_thomasina_petrus.jpg
ORGANIZER;CN="Eden Bart":MAILTO:eden@mnhum.org
END:VEVENT
BEGIN:VEVENT
DTSTART;TZID=America/Chicago:20220223T190000
DTEND;TZID=America/Chicago:20220223T203000
DTSTAMP:20260421T215656
CREATED:20220608T162954Z
LAST-MODIFIED:20230710T205709Z
UID:10000294-1645642800-1645648200@www.mnhum.org
SUMMARY:St. Paul - Commemorate Black Art Featuring Ta-coumba T. Aiken
DESCRIPTION:The Minnesota Humanities Center is thrilled to collaborate with its community partners in a series of events Commemorating Black History & Culture 2022 across the City of Saint Paul. Join us for conversation with gifted Twin Cities artist Ta-coumba T. Aiken as he reflects on his extraordinary work\, creating art in these tumultuous times\, and the next phase of his career. Minnesota Humanities Center CEO Kevin Lindsey will host the evening. \nThis event is one of four in the Black History and Culture: Art\, Music\, & Literature Exhibition 2022\, presented by Saint Paul Public Library\, Minnesota Humanities Center\, Ujamma Place\, and Public Art Saint Paul. \nLEARN MORE \nRegistration\nREGISTRATION FOR THIS EVENT HAS CLOSED
URL:https://www.mnhum.org/event/st-paul-commemorate-black-art-featuring-ta-coumba-t-aiken/
LOCATION:Minnesota Humanities Event Center\, 987 Ivy Avenue East\, Saint Paul\, MN\, 55106\, United States
CATEGORIES:Free,Public Programs
ATTACH;FMTTYPE=image/jpeg:https://www.mnhum.org/wp-content/uploads/2022/06/event_ta_coumba.jpg
ORGANIZER;CN="Eden Bart":MAILTO:eden@mnhum.org
END:VEVENT
BEGIN:VEVENT
DTSTART;TZID=America/Chicago:20220228T180000
DTEND;TZID=America/Chicago:20220228T200000
DTSTAMP:20260421T215656
CREATED:20220608T161311Z
LAST-MODIFIED:20240826T151944Z
UID:10000291-1646071200-1646078400@www.mnhum.org
SUMMARY:Online – Feeding Our Souls: The Essence of Black Joy
DESCRIPTION:It has been over a year since the murder of Mr. George Floyd. In response to this horrific incident\, Minnesota Humanities created what went on to become the award-winning series\, “How Can We Breathe” where community members came together after being impacted by the devastation that ripped throughout the streets\, businesses\, and homes. “Feeding Our Souls: The Essence of Black Joy” will focus on the uplifting beat that spreads across generations despite the struggles of systemic racism. What is the root of self-determination and faith that Black people proclaim? Through the art and culture of food\, music\, publishing\, family legacies\, and more\, participants will examine the actualization of “hope.” \nFeaturing chefs LaChelle Cunningham and Mateo Mackbee; Ramsey County Commissioner W. Toni Carter and St. Paul Mayor Melvin Carter\, III; Anthony R. Scott and Dr. Chaunda L. Scott\, two of the editors of the book “Minnesota Blacks in the 21st Century”; and the music of Ginger Commodore. \nDue to the focus of this program\, the fee is waived for Black community members residing in Minnesota. You are invited to register with promo code COMMUNITY22. \nTo ensure that cost is not a barrier\, we have a limited number of complimentary spaces available for Minnesota residents. If you would like to receive a complimentary spot\, please register with the promo code FEEWAIVER (must be a Minnesota resident). \nThis event will be ASL interpreted. \nRegistration\nRegistration Questions: registrations@mnhum.org | MHC Cancellation Policy\n \nREGISTRATION FOR THIS EVENT HAS CLOSED
URL:https://www.mnhum.org/event/feeding-our-souls/
LOCATION:Online
CATEGORIES:Cultural Harmony,Feeding Our Souls,Immersive Experiences,Online,Public Programs
ATTACH;FMTTYPE=image/jpeg:https://www.mnhum.org/wp-content/uploads/2022/06/MHC-Black-Joy-2Final-1.jpg
ORGANIZER;CN="Eden Bart":MAILTO:eden@mnhum.org
END:VEVENT
END:VCALENDAR