BEGIN:VCALENDAR
VERSION:2.0
PRODID:-//Minnesota Humanities Center - ECPv6.15.20//NONSGML v1.0//EN
CALSCALE:GREGORIAN
METHOD:PUBLISH
X-WR-CALNAME:Minnesota Humanities Center
X-ORIGINAL-URL:https://www.mnhum.org
X-WR-CALDESC:Events for Minnesota Humanities Center
REFRESH-INTERVAL;VALUE=DURATION:PT1H
X-Robots-Tag:noindex
X-PUBLISHED-TTL:PT1H
BEGIN:VTIMEZONE
TZID:America/Chicago
BEGIN:DAYLIGHT
TZOFFSETFROM:-0600
TZOFFSETTO:-0500
TZNAME:CDT
DTSTART:20210314T080000
END:DAYLIGHT
BEGIN:STANDARD
TZOFFSETFROM:-0500
TZOFFSETTO:-0600
TZNAME:CST
DTSTART:20211107T070000
END:STANDARD
BEGIN:DAYLIGHT
TZOFFSETFROM:-0600
TZOFFSETTO:-0500
TZNAME:CDT
DTSTART:20220313T080000
END:DAYLIGHT
BEGIN:STANDARD
TZOFFSETFROM:-0500
TZOFFSETTO:-0600
TZNAME:CST
DTSTART:20221106T070000
END:STANDARD
BEGIN:DAYLIGHT
TZOFFSETFROM:-0600
TZOFFSETTO:-0500
TZNAME:CDT
DTSTART:20230312T080000
END:DAYLIGHT
BEGIN:STANDARD
TZOFFSETFROM:-0500
TZOFFSETTO:-0600
TZNAME:CST
DTSTART:20231105T070000
END:STANDARD
END:VTIMEZONE
BEGIN:VEVENT
DTSTART;TZID=America/Chicago:20220423T090000
DTEND;TZID=America/Chicago:20220423T150000
DTSTAMP:20260421T185316
CREATED:20220608T151341Z
LAST-MODIFIED:20220928T192224Z
UID:10000275-1650704400-1650726000@www.mnhum.org
SUMMARY:St. Paul – Telling My Story!
DESCRIPTION:This full day writing retreat is open to all members of the Black community\, writers at all levels and nonwriters alike. After a year and a half of conversations with 16 local writers from our Minnesota literary community\, including African Caribbean\, African American\, and those from multiethnic parentage as well as from the continent of Africa\, the Minnesota Black Publishing Arts Collaborative would like to engage the Black community in the process of naming strength and finding healing through writing. This opportunity will help provide a safe and comfortable space to start the writing process\, remove some of the barriers of confidence\, and provide a roadmap on where or how to start.   \nTo make the writing process accessible and enjoyable\, Ebony Adedayo (founder of the Aya Collective\, a space that centers the expertise and experience of Black women\, and program manager at the Jan Serie Center for Scholarship and Teaching at Macalester College) and Pamela Fletcher Bush (executive director of Saint Paul Almanac) will gently lead workshop participants in guided writing exercises and discussion that will demonstrate the love for writing and how it can be used as a tool.   \nBecause we know that stories humanize us\, the workshop will feature writers T. Aaron Cisco and Junauda Petrus-Nasah\, who will read their works to illustrate how using one’s unique voice to tell personal stories brings necessary healing. They have used the pen to help them process and heal from significant events that have interrupted and or impacted their lives.  \nThis writing retreat is being offered by the Minnesota Black Publishing Arts Collaborative in collaboration with the Minnesota Humanities Center.   \nContinental breakfast and lunch are included. A journal will be provided. Registration will be limited to 40 participants.  \nRegistration\nYou are welcome to register using promo code COMMUNITY to waive the fee if you wish. \nRegistration Questions: registrations@mnhum.org | MHC Cancellation Policy \nRegistration Deadline Date: Saturday\, April 16\, 2022 \n  \nREGISTRATION FOR THIS OFFERING HAS CLOSED
URL:https://www.mnhum.org/event/st-paul-telling-my-story/
LOCATION:Minnesota Humanities Event Center\, 987 Ivy Avenue East\, Saint Paul\, MN\, 55106\, United States
CATEGORIES:Books, Poetry, and Literature,Public Programs
ATTACH;FMTTYPE=image/jpeg:https://www.mnhum.org/wp-content/uploads/2022/06/event_telling_my_story.jpg
ORGANIZER;CN="Eden Bart":MAILTO:eden@mnhum.org
END:VEVENT
END:VCALENDAR