BEGIN:VCALENDAR
VERSION:2.0
PRODID:-//Minnesota Humanities Center - ECPv6.15.20//NONSGML v1.0//EN
CALSCALE:GREGORIAN
METHOD:PUBLISH
X-ORIGINAL-URL:https://www.mnhum.org
X-WR-CALDESC:Events for Minnesota Humanities Center
REFRESH-INTERVAL;VALUE=DURATION:PT1H
X-Robots-Tag:noindex
X-PUBLISHED-TTL:PT1H
BEGIN:VTIMEZONE
TZID:America/Chicago
BEGIN:DAYLIGHT
TZOFFSETFROM:-0600
TZOFFSETTO:-0500
TZNAME:CDT
DTSTART:20210314T080000
END:DAYLIGHT
BEGIN:STANDARD
TZOFFSETFROM:-0500
TZOFFSETTO:-0600
TZNAME:CST
DTSTART:20211107T070000
END:STANDARD
BEGIN:DAYLIGHT
TZOFFSETFROM:-0600
TZOFFSETTO:-0500
TZNAME:CDT
DTSTART:20220313T080000
END:DAYLIGHT
BEGIN:STANDARD
TZOFFSETFROM:-0500
TZOFFSETTO:-0600
TZNAME:CST
DTSTART:20221106T070000
END:STANDARD
BEGIN:DAYLIGHT
TZOFFSETFROM:-0600
TZOFFSETTO:-0500
TZNAME:CDT
DTSTART:20230312T080000
END:DAYLIGHT
BEGIN:STANDARD
TZOFFSETFROM:-0500
TZOFFSETTO:-0600
TZNAME:CST
DTSTART:20231105T070000
END:STANDARD
END:VTIMEZONE
BEGIN:VEVENT
DTSTART;TZID=America/Chicago:20220810T090000
DTEND;TZID=America/Chicago:20220810T153000
DTSTAMP:20260421T124519
CREATED:20220504T055314Z
LAST-MODIFIED:20230209T152034Z
UID:10000258-1660122000-1660145400@www.mnhum.org
SUMMARY:St. Paul – Educator Workshop: Black Freedom Struggles
DESCRIPTION:Black Freedom Struggles\, with Adam Bledsoe and Lauretta Dawolo-Towns\nThis workshop will explore Black struggle as a global phenomenon with particular emphasis on historical and current movements led by Black communities. During this interactive workshop we will investigate Black freedom struggles from around the world\, paying special attention to these Black forms of struggle as expressions of Black agency and self-definition. The workshop will help broaden our understanding of Black freedom struggles beyond well-known moments like the emancipation of slavery and Juneteenth\, as we delve into topics like maroon communities\, work stoppages\, and self-defense from locations including the U.S.\, Brazil\, Cuba\, and Angola. We will also emphasize how historical struggles continue to influence present-day politics. Through large and small group projects and hands-on activities we will think through how to best incorporate these often-unknown struggles into classroom curriculum. Participants will have access to new resources\, materials\, and tools to help improve student learning in the classroom. \n  \nScholar Adam Bledsoe is an assistant professor in the Geography\, Environment & Society Department at the University of Minnesota. Born and raised in the Twin Cities\, Adam’s intellectual and political commitments revolve around the ways in which Afro-Diasporic communities analyze and critique dominant forms of politics\, while also conceiving of\, and enacting\, their own political formations. His work has taken him around the United States\, the Caribbean\, Central America\, and South America\, where he has learned from\, and exchanged ideas with\, a variety of Black communities. \n  \nLead Teacher Lauretta Dawolo Towns earned her B.A. in English and American & Racial Multicultural Studies with a Media Studies minor at St. Olaf College in 2004. Her professional background is in community and ethnic media\, specializing in coverage of underrepresented and underserved populations. In 2016\, she received a Master of Arts in Education from Augsburg University after earning a teaching license in Communication Arts and Literature. She currently teaches 8th grade English Language Arts at Roseville Middle School\, and also teaches in the Adult Basic Education program in the same district. Lauretta lives in Inver Grove Heights with her husband and two sons. \n   \nFor the full Learning Journey experience\, we recommend signing up for these Learning in Community offerings: Kumbayah: The Juneteenth Story. \n  \nRegistration\nIf cost is a barrier\, please contact Jessica Rust at jessica@mnhum.org before registering. \nK-12 educators will receive 6 clock hours. \nRegistration Questions: registrations@mnhum.org | MHC Cancellation Policy \n  \nREGISTRATION FOR THIS EVENT HAS CLOSED
URL:https://www.mnhum.org/event/black-freedom-struggles/
LOCATION:Minnesota Humanities Event Center\, 987 Ivy Avenue East\, Saint Paul\, MN\, 55106\, United States
CATEGORIES:Civic Renewal,Educator Institute,Professional Development
ATTACH;FMTTYPE=image/jpeg:https://www.mnhum.org/wp-content/uploads/2022/05/event_educator_institute.jpg
ORGANIZER;CN="Corey China":MAILTO:corey@mnhum.org
END:VEVENT
END:VCALENDAR