BEGIN:VCALENDAR
VERSION:2.0
PRODID:-//Minnesota Humanities Center - ECPv6.15.20//NONSGML v1.0//EN
CALSCALE:GREGORIAN
METHOD:PUBLISH
X-WR-CALNAME:Minnesota Humanities Center
X-ORIGINAL-URL:https://www.mnhum.org
X-WR-CALDESC:Events for Minnesota Humanities Center
REFRESH-INTERVAL;VALUE=DURATION:PT1H
X-Robots-Tag:noindex
X-PUBLISHED-TTL:PT1H
BEGIN:VTIMEZONE
TZID:America/Chicago
BEGIN:DAYLIGHT
TZOFFSETFROM:-0600
TZOFFSETTO:-0500
TZNAME:CDT
DTSTART:20230312T080000
END:DAYLIGHT
BEGIN:STANDARD
TZOFFSETFROM:-0500
TZOFFSETTO:-0600
TZNAME:CST
DTSTART:20231105T070000
END:STANDARD
BEGIN:DAYLIGHT
TZOFFSETFROM:-0600
TZOFFSETTO:-0500
TZNAME:CDT
DTSTART:20240310T080000
END:DAYLIGHT
BEGIN:STANDARD
TZOFFSETFROM:-0500
TZOFFSETTO:-0600
TZNAME:CST
DTSTART:20241103T070000
END:STANDARD
BEGIN:DAYLIGHT
TZOFFSETFROM:-0600
TZOFFSETTO:-0500
TZNAME:CDT
DTSTART:20250309T080000
END:DAYLIGHT
BEGIN:STANDARD
TZOFFSETFROM:-0500
TZOFFSETTO:-0600
TZNAME:CST
DTSTART:20251102T070000
END:STANDARD
END:VTIMEZONE
BEGIN:VEVENT
DTSTART;TZID=America/Chicago:20240710T150000
DTEND;TZID=America/Chicago:20240710T170000
DTSTAMP:20260420T041332
CREATED:20240614T153937Z
LAST-MODIFIED:20240614T153937Z
UID:10000429-1720623600-1720630800@www.mnhum.org
SUMMARY:St. Paul - Juneteenth Reckoning with Slavery: Minnesota African American History
DESCRIPTION:K-12 educators are invited to attend this special film screening and discussion. Co-produced by OMG Studios and the Minnesota Humanities Center\, this documentary challenges our understanding of slavery\, its impact on Minnesota\, and how we reconcile our past by taking viewers on a present-day journey to Ghana\, to the quarters of Harriet and Dred Scott\, and into conversations with current and future scholars. Featuring Akwamu Traditional Area’s King Odeneho Kwafo Akoto\, III and Queen Mother Nana Afrakoma\, II\, of West Africa\, Ghana\, St. Paul Mayor Melvin Carter III\, MN Humanities CEO Kevin Lindsey\, St. Cloud State University American Studies Chair and Minnesota Book Award Winner Dr. Christopher Lehman\, and Minnesota creative treasures T. Mychael Rambo\, Thomasina Petrus and concluding with voices of the Black Youth Healing Arts Center (BYHAC). \nFollowing the 40-minute film\, there will be a facilitated conversation on how to intentionally bring this history into classrooms. \nK-12 educators will receive 2 clock hours. \nThis year’s documentary film is brought to audiences by Ujamaa Place\, St. Paul Public Library\, and the City of St. Paul. \nRegistration\nThere is no cost to attend this event\, however registration is required. Refreshments will be provided. \nRegistration Questions: registrations@mnhum.org  \nRegister Now
URL:https://www.mnhum.org/event/juneteenth-reckoning-with-slavery/
LOCATION:Minnesota Humanities Event Center\, 987 Ivy Avenue East\, Saint Paul\, MN\, 55106\, United States
CATEGORIES:Free,Juneteenth,K-12 Education,Professional Development
ATTACH;FMTTYPE=image/jpeg:https://www.mnhum.org/wp-content/uploads/2024/04/event_juneteenth_reckoning_slavery.jpg
ORGANIZER;CN="Eden Bart":MAILTO:eden@mnhum.org
END:VEVENT
BEGIN:VEVENT
DTSTART;TZID=America/Chicago:20240722T160000
DTEND;TZID=America/Chicago:20240722T170000
DTSTAMP:20260420T041332
CREATED:20240711T222507Z
LAST-MODIFIED:20240711T222507Z
UID:10000435-1721664000-1721667600@www.mnhum.org
SUMMARY:Online - Resistance\, Resilience & Reimagination Information Session
DESCRIPTION:Join teachers of color and American Indian teachers from across the state in a year-long program designed to engage participants in navigating education systems with resistance\, resilience\, and reimagination. A partnership between Intermediate School District 917\, Metro State University\, and MHC\, this PELSB (Minnesota Professional Educator Licensing and Standards Board) funded program provides free of cost and paid stipend opportunities for participants. \nRegister for one of four information sessions to learn more about this opportunity for teachers of color and American Indian teachers.   \n\nMonday July 22\, 2024\, 4:00 – 5:00 p.m.\nMonday July 22\, 2024\, 5:00 – 6:00 p.m.\nMonday August 5\, 2024\, 12:00 – 1:00 p.m.\nMonday August 5\, 2024\, 4:00 – 5:00 p.m.\n\nRegistration\nRegistration Questions: registrations@mnhum.org  \nRegister Now
URL:https://www.mnhum.org/event/resistance-resilience-reimagination-information-session-1/
LOCATION:Online
CATEGORIES:Educator Institute,K-12 Education,Online,Professional Development
ATTACH;FMTTYPE=image/jpeg:https://www.mnhum.org/wp-content/uploads/2024/07/event_resistance_resilience_reimagination_info.jpg
ORGANIZER;CN="Corey China":MAILTO:corey@mnhum.org
END:VEVENT
BEGIN:VEVENT
DTSTART;TZID=America/Chicago:20240722T170000
DTEND;TZID=America/Chicago:20240722T180000
DTSTAMP:20260420T041332
CREATED:20240711T222514Z
LAST-MODIFIED:20240711T222514Z
UID:10000433-1721667600-1721671200@www.mnhum.org
SUMMARY:Online - Resistance\, Resilience & Reimagination Information Session
DESCRIPTION:Join teachers of color and American Indian teachers from across the state in a year-long program designed to engage participants in navigating education systems with resistance\, resilience\, and reimagination. A partnership between Intermediate School District 917\, Metro State University\, and MHC\, this PELSB (Minnesota Professional Educator Licensing and Standards Board) funded program provides free of cost and paid stipend opportunities for participants. \nRegister for one of four information sessions to learn more about this opportunity for teachers of color and American Indian teachers.   \n\nMonday July 22\, 2024\, 4:00 – 5:00 p.m.\nMonday July 22\, 2024\, 5:00 – 6:00 p.m.\nMonday August 5\, 2024\, 12:00 – 1:00 p.m.\nMonday August 5\, 2024\, 4:00 – 5:00 p.m.\n\nRegistration\nRegistration Questions: registrations@mnhum.org  \nRegister Now
URL:https://www.mnhum.org/event/resistance-resilience-reimagination-information-session-2/
LOCATION:Online
CATEGORIES:Educator Institute,K-12 Education,Online,Professional Development
ATTACH;FMTTYPE=image/jpeg:https://www.mnhum.org/wp-content/uploads/2024/07/event_resistance_resilience_reimagination_info.jpg
ORGANIZER;CN="Corey China":MAILTO:corey@mnhum.org
END:VEVENT
END:VCALENDAR