BEGIN:VCALENDAR
VERSION:2.0
PRODID:-//Minnesota Humanities Center - ECPv6.15.20//NONSGML v1.0//EN
CALSCALE:GREGORIAN
METHOD:PUBLISH
X-WR-CALNAME:Minnesota Humanities Center
X-ORIGINAL-URL:https://www.mnhum.org
X-WR-CALDESC:Events for Minnesota Humanities Center
REFRESH-INTERVAL;VALUE=DURATION:PT1H
X-Robots-Tag:noindex
X-PUBLISHED-TTL:PT1H
BEGIN:VTIMEZONE
TZID:America/Chicago
BEGIN:DAYLIGHT
TZOFFSETFROM:-0600
TZOFFSETTO:-0500
TZNAME:CDT
DTSTART:20220313T080000
END:DAYLIGHT
BEGIN:STANDARD
TZOFFSETFROM:-0500
TZOFFSETTO:-0600
TZNAME:CST
DTSTART:20221106T070000
END:STANDARD
BEGIN:DAYLIGHT
TZOFFSETFROM:-0600
TZOFFSETTO:-0500
TZNAME:CDT
DTSTART:20230312T080000
END:DAYLIGHT
BEGIN:STANDARD
TZOFFSETFROM:-0500
TZOFFSETTO:-0600
TZNAME:CST
DTSTART:20231105T070000
END:STANDARD
BEGIN:DAYLIGHT
TZOFFSETFROM:-0600
TZOFFSETTO:-0500
TZNAME:CDT
DTSTART:20240310T080000
END:DAYLIGHT
BEGIN:STANDARD
TZOFFSETFROM:-0500
TZOFFSETTO:-0600
TZNAME:CST
DTSTART:20241103T070000
END:STANDARD
END:VTIMEZONE
BEGIN:VEVENT
DTSTART;TZID=America/Chicago:20230216T180000
DTEND;TZID=America/Chicago:20230216T200000
DTSTAMP:20260421T071305
CREATED:20230110T193627Z
LAST-MODIFIED:20230606T192054Z
UID:10000339-1676570400-1676577600@www.mnhum.org
SUMMARY:St. Paul - Feeding Our Souls: The Essence of Black Joy
DESCRIPTION:Engage in the cultural richness of food\, music\, and stories that define the essence of Black joy. Experience generations of family Creole recipes prepared by Chef Mateo Mackbee\, Owner of Krewe Restaurant in St. Joseph\, MN to soulful healthy roots and blackeye peas prepared by Chef Lachelle Cunningham of North Minneapolis. Special music will be provided by Twin Cities’ vocalist\, Ginger Commodore. \nChef Mateo Mackbee is a multiple award-winning chef whose restaurant Krewe\, located in St. Joseph\, MN\, was recently selected by Minneapolis Star Tribune as one of the 4 Best Restaurants worthy of traveling. Although raised in Minnesota\, Mackbee’s childhood summers always included several hot steamy weeks in his mother’s hometown visiting relatives and experiencing Creole and New Orleans style food while learning to love its local foods\, culture\, music\, and sense of community. \nChef Lachelle Cunningham is a dynamic force on the Twin Cities’ food scene and is known for cooking globally inspired comfort food that thwarts unhealthy stereotypes and fuses in global flavors. She is owner of Chelles’ Kitchen Catering\, the founding Executive Chef of Breaking Bread Cafe in North Minneapolis. Her most recent creation is Healthy Roots Institute with a mission focused on healing and social justice through food education\, culinary arts\, and entrepreneurship. \nGinger Commodore is a Twin Cities’ vocalist\, songwriter\, and actress. She performs jazz\, blues\, rhythm and blues\, contemporary\, and gospel music with regular appearances at The Dakota Jazz Club and Crooners Supper Club. Her theater work includes Penumbra Theatre\, Mixed Blood Theatre\, Children’s Theatre Company\, Minnesota Opera\, The Capri Theater\, and more. Recently she debuted as Musical Director for the musical “Memphis” at Bloomington Center for the Arts. \nRegistration\nDue to the focus of this program\, the fee is waived for Black community members residing in Minnesota. You are invited to register with promo code COMMUNITY23. \nRegistration Questions: registrations@mnhum.org | MHC Cancellation Policy \nREGISTRATION FOR THIS EVENT HAS CLOSED
URL:https://www.mnhum.org/event/feeding-our-souls-black-joy/
LOCATION:Minnesota Humanities Event Center\, 987 Ivy Avenue East\, Saint Paul\, MN\, 55106\, United States
CATEGORIES:Cultural Harmony,Feeding Our Souls,Immersive Experiences,Public Programs
ATTACH;FMTTYPE=image/jpeg:https://www.mnhum.org/wp-content/uploads/2023/01/event_feeding_our_souls_black_joy.jpg
ORGANIZER;CN="Rose McGee":MAILTO:rose@mnhum.org
END:VEVENT
END:VCALENDAR