BEGIN:VCALENDAR
VERSION:2.0
PRODID:-//Minnesota Humanities Center - ECPv6.15.20//NONSGML v1.0//EN
CALSCALE:GREGORIAN
METHOD:PUBLISH
X-WR-CALNAME:Minnesota Humanities Center
X-ORIGINAL-URL:https://www.mnhum.org
X-WR-CALDESC:Events for Minnesota Humanities Center
REFRESH-INTERVAL;VALUE=DURATION:PT1H
X-Robots-Tag:noindex
X-PUBLISHED-TTL:PT1H
BEGIN:VTIMEZONE
TZID:America/Chicago
BEGIN:DAYLIGHT
TZOFFSETFROM:-0600
TZOFFSETTO:-0500
TZNAME:CDT
DTSTART:20220313T080000
END:DAYLIGHT
BEGIN:STANDARD
TZOFFSETFROM:-0500
TZOFFSETTO:-0600
TZNAME:CST
DTSTART:20221106T070000
END:STANDARD
BEGIN:DAYLIGHT
TZOFFSETFROM:-0600
TZOFFSETTO:-0500
TZNAME:CDT
DTSTART:20230312T080000
END:DAYLIGHT
BEGIN:STANDARD
TZOFFSETFROM:-0500
TZOFFSETTO:-0600
TZNAME:CST
DTSTART:20231105T070000
END:STANDARD
BEGIN:DAYLIGHT
TZOFFSETFROM:-0600
TZOFFSETTO:-0500
TZNAME:CDT
DTSTART:20240310T080000
END:DAYLIGHT
BEGIN:STANDARD
TZOFFSETFROM:-0500
TZOFFSETTO:-0600
TZNAME:CST
DTSTART:20241103T070000
END:STANDARD
END:VTIMEZONE
BEGIN:VEVENT
DTSTART;TZID=America/Chicago:20230622T180000
DTEND;TZID=America/Chicago:20230622T203000
DTSTAMP:20260421T015936
CREATED:20230613T153926Z
LAST-MODIFIED:20230821T140729Z
UID:10000365-1687456800-1687465800@www.mnhum.org
SUMMARY:St. Paul - Learning from Place: Slow Roll'n Rondo\, led by Cultural Wellness Center
DESCRIPTION:The Minnesota Humanities Center is proud to feature Slow Roll’n Rondo\, a program of the Cultural Wellness Center.  Join members of the diverse\, multi-generational\, and intersectional Rondo Community as you explore the opportunities and possibilities of an African American Cultural Enterprise District connected by a land bridge. This is a community-led development process designed to achieve the aspirations of the Rondo community to right past wrongs\, revitalize Rondo\, and honor African American Cultural contributions that have sustained the Rondo Community and will serve as a model for restorative participatory community development. \nExplore a journey through the community’s history and into the future during a conversationally-paced biking experience. You will get to know the places\, people\, and possibilities that will lead to a vibrant future. Special guests may include Seitu Jones\, Commissioner Toni Carter\, Mr. Marvin Anderson\, and Mayor\, Melvin Carter along with members of his staff. \nThe evening will include a community meal featuring Black chefs and food grown in community gardens. \nThe event starts at Hallie Q Brown Community Center parking lot at 270 North Kent Street\, Saint Paul\, MN 55102. \nThe Cultural Wellness Center offers experiential learning opportunities that actively boost well-being\, improve relationships\, build communities\, and train organizations. \nRegistration\nREGISTRATION FOR THIS EVENT HAS CLOSED
URL:https://www.mnhum.org/event/lfp-slow-rolln-rondo/
LOCATION:Hallie Q. Brown Community Center\, 270 North Kent Street\, Saint Paul\, MN\, 55102\, United States
CATEGORIES:Free,Immersive Experiences,Learning from Place
ATTACH;FMTTYPE=image/jpeg:https://www.mnhum.org/wp-content/uploads/2023/06/event_lfp_slow_roll_rondo.jpg
ORGANIZER;CN="Eden Bart":MAILTO:eden@mnhum.org
END:VEVENT
BEGIN:VEVENT
DTSTART;TZID=America/Chicago:20230622T190000
DTEND;TZID=America/Chicago:20230622T210000
DTSTAMP:20260421T015936
CREATED:20230426T202506Z
LAST-MODIFIED:20230821T140705Z
UID:10000358-1687460400-1687467600@www.mnhum.org
SUMMARY:Rochester - Kumbayah The Juneteenth Story
DESCRIPTION:In 2021\, Juneteenth was written into law as a national day of observance. Following\, on February 3rd\, 2023\, Juneteenth became an official state holiday in Minnesota.  Although awareness has grown\, many people are still unfamiliar with why we celebrate Juneteenth and the insight it offers in addressing current social injustice. Minnesota Humanities Center and Sweet Potato Comfort Pie are proud to bring Kumbayah The Juneteenth Story to Rochester area communities in collaboration with the following local organizations: Mayo Clinic\, Rochester Branch of the NAACP\, and Rochester Public Schools.\n  \n\nKumbayah The Juneteenth Story from iDream.tv on Vimeo. \n \nKumbayah The Juneteenth Story\, written by Rose McGee\, is a 90-minute fictitious\, two-act play that addresses a factual and traumatic time in our history – when news was deliberately withheld that Black people were no longer to be kept as slaves in this country. Storytelling and music weave together mesmerizing scenes. Although tragedy is depicted\, this play within a play is tremendously uplifting. The story begins with a Prologue set in the early 1800s in a small West African village where a young mother and her small son are being abducted from their home by slave catchers. Act One: Scene One is set in present time in a popular North Minneapolis soul-food restaurant where a group of youths and adults ultimately end up discussing what Juneteenth means. Before long they all agree to attend a play about Juneteenth. The story then shifts into 1863 on the Turner Plantation in Tyler\, Texas with the character Frederick Douglass as Narrator.  \nAlthough interpretation is best suited for ages 8 and up\, children of all ages are welcome to attend.  \nRegistration\nThe evening performance is free to attend\, but registration is required. \nRegistration Questions: registrations@mnhum.org \nREGISTRATION FOR THIS EVENT HAS CLOSED
URL:https://www.mnhum.org/event/rochester-kumbayah/
LOCATION:Mayo Civic Center\, 30 Civic Center Drive SE\, Rochester\, MN\, 55904\, United States
CATEGORIES:Free,Greater Minnesota,Immersive Experiences,Juneteenth,Kumbayah,Public Programs
ATTACH;FMTTYPE=image/jpeg:https://www.mnhum.org/wp-content/uploads/2023/04/event_kumbayah_juneteenth.jpg
ORGANIZER;CN="Jessica Rust":MAILTO:jessica@mnhum.org
END:VEVENT
END:VCALENDAR