BEGIN:VCALENDAR
VERSION:2.0
PRODID:-//Minnesota Humanities Center - ECPv6.15.20//NONSGML v1.0//EN
CALSCALE:GREGORIAN
METHOD:PUBLISH
X-WR-CALNAME:Minnesota Humanities Center
X-ORIGINAL-URL:https://www.mnhum.org
X-WR-CALDESC:Events for Minnesota Humanities Center
REFRESH-INTERVAL;VALUE=DURATION:PT1H
X-Robots-Tag:noindex
X-PUBLISHED-TTL:PT1H
BEGIN:VTIMEZONE
TZID:America/Chicago
BEGIN:DAYLIGHT
TZOFFSETFROM:-0600
TZOFFSETTO:-0500
TZNAME:CDT
DTSTART:20230312T080000
END:DAYLIGHT
BEGIN:STANDARD
TZOFFSETFROM:-0500
TZOFFSETTO:-0600
TZNAME:CST
DTSTART:20231105T070000
END:STANDARD
BEGIN:DAYLIGHT
TZOFFSETFROM:-0600
TZOFFSETTO:-0500
TZNAME:CDT
DTSTART:20240310T080000
END:DAYLIGHT
BEGIN:STANDARD
TZOFFSETFROM:-0500
TZOFFSETTO:-0600
TZNAME:CST
DTSTART:20241103T070000
END:STANDARD
BEGIN:DAYLIGHT
TZOFFSETFROM:-0600
TZOFFSETTO:-0500
TZNAME:CDT
DTSTART:20250309T080000
END:DAYLIGHT
BEGIN:STANDARD
TZOFFSETFROM:-0500
TZOFFSETTO:-0600
TZNAME:CST
DTSTART:20251102T070000
END:STANDARD
END:VTIMEZONE
BEGIN:VEVENT
DTSTART;TZID=America/Chicago:20240208T180000
DTEND;TZID=America/Chicago:20240208T200000
DTSTAMP:20260420T125448
CREATED:20240104T165814Z
LAST-MODIFIED:20240122T195921Z
UID:10000342-1707415200-1707422400@www.mnhum.org
SUMMARY:St. Paul - Feeding Our Souls: The Essence of Black Joy
DESCRIPTION:Minnesota Humanities Center is excited to host\, “Feeding Our Souls\, the Essence of Cultural Joy\,” food series. Food has always played a pivotal role in shaping our identities and communities. It binds families\, showcases heritage\, and promotes understanding. Our program delves into this unique intersection of food and culture\, inviting participants to explore the rich narratives behind every dish. Join us at the Minnesota Humanities Center\, where beloved local chefs and cooks will showcase dishes that speak about their cultural backgrounds. Through interactive “taste circles” attendees will be encouraged to share their own memories and traditions related to food\, further enriching a collective experience. \nOur first event in recognition of Black History Month is Feeding Our Souls\, the Essence of Black Joy. Participants will engage in the cultural richness of food\, music\, and historical research that defines the essence of Black joy.  \nFeatured Chef – Chef Gerard Klass’ culinary expertise is inspired by the richness of his Caribbean and African American heritage. Prior to co-founding Soul Bowl with his wife Brittney\, he had over 10 years of experience at Kaskaid Hospitality as Executive Chef where he opened new restaurant concepts in the South\, East Coast and Midwest. Soul Bowl has been featured in a number of local\, regional and national publications and was awarded one of the top 50 restaurants in Minnesota by Minneapolis Saint Paul Magazine two years in a row. \nFood Commentary – Steven Montomery is a social studies/ethnic studies content lead for the Minneapolis Public Schools and designed lessons for educators with a creative approach to teaching the richness and history of Black cuisine. Steven’s family upbringing influenced his interest in food stories that led to his passion for finding ways to inspire students to expand their own pride\, self-identity and confidence in themselves. \nSpecial Performance – Ginger Commodore is a singer\, songwriter\, & actress. She performs jazz\, blues\, rhythm and blues\, contemporary\, and gospel music and regularly appears at local club venues The Dakota Jazz Club & Crooners Supper Club. Ginger is also currently a Teaching Artist with the Vocal Essence Witness Program. \nRegistration\nRegistration Questions: registrations@mnhum.org \nRegister Now
URL:https://www.mnhum.org/event/feeding-our-souls-the-essence-of-black-joy/
LOCATION:Minnesota Humanities Event Center\, 987 Ivy Avenue East\, Saint Paul\, MN\, 55106\, United States
CATEGORIES:Cultural Harmony,Feeding Our Souls,Public Programs
ATTACH;FMTTYPE=image/png:https://www.mnhum.org/wp-content/uploads/2024/01/event_feeding_souls_black_joy-1.png
ORGANIZER;CN="Rose McGee":MAILTO:rose@mnhum.org
END:VEVENT
END:VCALENDAR