BEGIN:VCALENDAR
VERSION:2.0
PRODID:-//Minnesota Humanities Center - ECPv6.15.20//NONSGML v1.0//EN
CALSCALE:GREGORIAN
METHOD:PUBLISH
X-WR-CALNAME:Minnesota Humanities Center
X-ORIGINAL-URL:https://www.mnhum.org
X-WR-CALDESC:Events for Minnesota Humanities Center
REFRESH-INTERVAL;VALUE=DURATION:PT1H
X-Robots-Tag:noindex
X-PUBLISHED-TTL:PT1H
BEGIN:VTIMEZONE
TZID:America/Chicago
BEGIN:DAYLIGHT
TZOFFSETFROM:-0600
TZOFFSETTO:-0500
TZNAME:CDT
DTSTART:20240310T080000
END:DAYLIGHT
BEGIN:STANDARD
TZOFFSETFROM:-0500
TZOFFSETTO:-0600
TZNAME:CST
DTSTART:20241103T070000
END:STANDARD
BEGIN:DAYLIGHT
TZOFFSETFROM:-0600
TZOFFSETTO:-0500
TZNAME:CDT
DTSTART:20250309T080000
END:DAYLIGHT
BEGIN:STANDARD
TZOFFSETFROM:-0500
TZOFFSETTO:-0600
TZNAME:CST
DTSTART:20251102T070000
END:STANDARD
BEGIN:DAYLIGHT
TZOFFSETFROM:-0600
TZOFFSETTO:-0500
TZNAME:CDT
DTSTART:20260308T080000
END:DAYLIGHT
BEGIN:STANDARD
TZOFFSETFROM:-0500
TZOFFSETTO:-0600
TZNAME:CST
DTSTART:20261101T070000
END:STANDARD
END:VTIMEZONE
BEGIN:VEVENT
DTSTART;TZID=America/Chicago:20250621T120000
DTEND;TZID=America/Chicago:20250621T180000
DTSTAMP:20260419T134615
CREATED:20250522T185458Z
LAST-MODIFIED:20250523T144753Z
UID:10000510-1750507200-1750528800@www.mnhum.org
SUMMARY:St. Paul – Juneteenth Family Day with Anika Foundation
DESCRIPTION:Minnesota Humanities Center is proud to sponsor the Anika Foundation Juneteenth Family Celebration! Join us for family friendly fun\, games\, and community. \nThis event is free and open to all. \nLearn More
URL:https://www.mnhum.org/event/st-paul-juneteenth-family-day-with-anika-foundation/
LOCATION:State Capitol\, 75 Rev. Dr. Martin Luther King\, Jr. Blvd\, St. Paul\, MN\, 55155\, United States
CATEGORIES:Family Day,Free,Juneteenth,Kid Friendly,Public Programming
ATTACH;FMTTYPE=image/png:https://www.mnhum.org/wp-content/uploads/2025/05/event_juneteenth_anika_foundation_2025.png
ORGANIZER;CN="Casey DeMarais":MAILTO:casey@mnhum.org
END:VEVENT
END:VCALENDAR