BEGIN:VCALENDAR
VERSION:2.0
PRODID:-//Minnesota Humanities Center - ECPv6.15.20//NONSGML v1.0//EN
CALSCALE:GREGORIAN
METHOD:PUBLISH
X-ORIGINAL-URL:https://www.mnhum.org
X-WR-CALDESC:Events for Minnesota Humanities Center
REFRESH-INTERVAL;VALUE=DURATION:PT1H
X-Robots-Tag:noindex
X-PUBLISHED-TTL:PT1H
BEGIN:VTIMEZONE
TZID:America/Chicago
BEGIN:DAYLIGHT
TZOFFSETFROM:-0600
TZOFFSETTO:-0500
TZNAME:CDT
DTSTART:20230312T080000
END:DAYLIGHT
BEGIN:STANDARD
TZOFFSETFROM:-0500
TZOFFSETTO:-0600
TZNAME:CST
DTSTART:20231105T070000
END:STANDARD
BEGIN:DAYLIGHT
TZOFFSETFROM:-0600
TZOFFSETTO:-0500
TZNAME:CDT
DTSTART:20240310T080000
END:DAYLIGHT
BEGIN:STANDARD
TZOFFSETFROM:-0500
TZOFFSETTO:-0600
TZNAME:CST
DTSTART:20241103T070000
END:STANDARD
BEGIN:DAYLIGHT
TZOFFSETFROM:-0600
TZOFFSETTO:-0500
TZNAME:CDT
DTSTART:20250309T080000
END:DAYLIGHT
BEGIN:STANDARD
TZOFFSETFROM:-0500
TZOFFSETTO:-0600
TZNAME:CST
DTSTART:20251102T070000
END:STANDARD
END:VTIMEZONE
BEGIN:VEVENT
DTSTART;TZID=America/Chicago:20241102T093000
DTEND;TZID=America/Chicago:20241102T120000
DTSTAMP:20260420T164459
CREATED:20230817T135111Z
LAST-MODIFIED:20240920T214004Z
UID:10000380-1730539800-1730548800@www.mnhum.org
SUMMARY:Online - Teaching Bdote: Tools for Teaching Dakota Content
DESCRIPTION:Teaching Bdote: Tools for Teaching Dakota Content is designed for educators who have attended\, or are planning to attend\, Learning from Place: Bdote. This workshop is especially useful for developing unique classroom content to align with Minnesota State Social Studies Standards. \nOffered in collaboration with Saint Paul Public Schools\, this online workshop will address the concerns and anxieties that non-Indigenous educators may have around teaching Dakota history. Educators will leave with new resources and content\, deeper understanding\, and ideas for how to lead a Bdote trip or to bring the experience into the classroom. \nTeaching Bdote will be facilitated and presented by Ramona Kitto Stately\, Ethan Neerdaels\, and the Saint Paul Public Schools Office of Teaching and Learning. \nRegistration\nIf cost is a concern\, we have a limited number of complimentary spaces available for Minnesota residents. To request a complimentary spot\, please register with Discount Code WAIVE24. \nThrough our partnership with Saint Paul Public Schools\, the fee is waived for all SPPS educators. Please register with Discount Code SPPS24. \nRegistration Questions: registrations@mnhum.org | MHC Cancellation Policy \nRegister Now
URL:https://www.mnhum.org/event/online-teaching-bdote/
LOCATION:Online
CATEGORIES:K-12 Education,Online,Professional Development
ATTACH;FMTTYPE=image/jpeg:https://www.mnhum.org/wp-content/uploads/2023/08/event_teaching_bdote_2024.jpg
ORGANIZER;CN="Eden Bart":MAILTO:eden@mnhum.org
END:VEVENT
BEGIN:VEVENT
DTSTART;TZID=America/Chicago:20241107T123000
DTEND;TZID=America/Chicago:20241107T150000
DTSTAMP:20260420T164459
CREATED:20240920T214615Z
LAST-MODIFIED:20241031T175330Z
UID:10000444-1730982600-1730991600@www.mnhum.org
SUMMARY:Online - Beyond Learning from Place: Bdote - Action Planning & Engagement for Accomplices
DESCRIPTION:Since 2013\, the Minnesota Humanities Center has collaborated with Dakota community members to offer Learning from Place: Bdote\, an immersive experience that brings people to sites of significance to Dakota people in the Twin Cities. Over 3\,400 people have participated in this transformative offering\, leaving many wanting to learn and do more.  We are excited to partner with Native Governance Center to host the first of our Beyond Learning from Place: Bdote online workshops.  \nWorkshop Overview:\nAction Planning and Engagement for Accomplices\nPresented by Native Governance Center – nativegov.org \nAre you interested in taking action to support Native communities? Do you feel unsure about how to get started on building relationships and potential partnerships with Native nations? Join Native Governance Center\, a Native-led nonprofit organization\, for a deep dive into best practices for meaningful engagement. This interactive presentation will equip participants with tools for creating supportive action steps using Native Governance Center’s action planning framework. Attendees will also learn how to get into a good headspace and understand protocol before partnering with Native nations. Expect content grounded in real-life examples and ample opportunities to engage with presenters and fellow attendees in a welcoming\, beginner-friendly environment. This presentation is perfect for those wondering “what’s next” after attending a Bdote tour. \nNative Governance Center Presenters: \n\nCree Rose Dueker (Chippewa Cree Tribe): Program Manager for Community Engagement\nSage Phillips (Penobscot Nation): Program Coordinator for Community Engagement\n\nRegistration\nRegistration Questions: registrations@mnhum.org \nRegister Now
URL:https://www.mnhum.org/event/online-beyond-learning-from-place-bdote-action-planning-engagement-for-accomplices/
LOCATION:Online
CATEGORIES:Immersive Experiences,Learning from Place
ATTACH;FMTTYPE=image/png:https://www.mnhum.org/wp-content/uploads/2024/02/event_beyond_lfp_bdote.png
ORGANIZER;CN="Eden Bart":MAILTO:eden@mnhum.org
END:VEVENT
END:VCALENDAR