BEGIN:VCALENDAR
VERSION:2.0
PRODID:-//Minnesota Humanities Center - ECPv6.15.20//NONSGML v1.0//EN
CALSCALE:GREGORIAN
METHOD:PUBLISH
X-WR-CALNAME:Minnesota Humanities Center
X-ORIGINAL-URL:https://www.mnhum.org
X-WR-CALDESC:Events for Minnesota Humanities Center
REFRESH-INTERVAL;VALUE=DURATION:PT1H
X-Robots-Tag:noindex
X-PUBLISHED-TTL:PT1H
BEGIN:VTIMEZONE
TZID:America/Chicago
BEGIN:DAYLIGHT
TZOFFSETFROM:-0600
TZOFFSETTO:-0500
TZNAME:CDT
DTSTART:20240310T080000
END:DAYLIGHT
BEGIN:STANDARD
TZOFFSETFROM:-0500
TZOFFSETTO:-0600
TZNAME:CST
DTSTART:20241103T070000
END:STANDARD
BEGIN:DAYLIGHT
TZOFFSETFROM:-0600
TZOFFSETTO:-0500
TZNAME:CDT
DTSTART:20250309T080000
END:DAYLIGHT
BEGIN:STANDARD
TZOFFSETFROM:-0500
TZOFFSETTO:-0600
TZNAME:CST
DTSTART:20251102T070000
END:STANDARD
BEGIN:DAYLIGHT
TZOFFSETFROM:-0600
TZOFFSETTO:-0500
TZNAME:CDT
DTSTART:20260308T080000
END:DAYLIGHT
BEGIN:STANDARD
TZOFFSETFROM:-0500
TZOFFSETTO:-0600
TZNAME:CST
DTSTART:20261101T070000
END:STANDARD
END:VTIMEZONE
BEGIN:VEVENT
DTSTART;TZID=America/Chicago:20251113T123000
DTEND;TZID=America/Chicago:20251113T150000
DTSTAMP:20260419T232856
CREATED:20251007T173858Z
LAST-MODIFIED:20251007T173858Z
UID:10000588-1763037000-1763046000@www.mnhum.org
SUMMARY:Online - Beyond Learning from Place: Featuring Native Governance Center
DESCRIPTION:Beyond Learning from Place workshops offer participants supplemental learning opportunities after attending a Learning from Place experience. This session is designed to support Bdote trip participants as well as anyone seeking guidance in developing authentic\, respectful relationships with Native Nations. \nWe are excited to partner with Native Governance Center to host this Beyond Learning from Place online workshop. \nWorkshop Overview:\nAction Planning and Engagement for Accomplices \nJoin Native Governance Center\, a Native-led nonprofit\, for a practical and interactive session on building authentic partnerships and taking actionable next steps. This workshop will equip participants with tools for creating supportive action steps using Native Governance Center’s action planning framework. Attendees will also learn how to prepare themselves and understand protocol before partnering with Native Nations. While rooted in working with Native Nations and communities\, these tools can also support meaningful engagement with other groups. \nExpect real-life examples and plenty of opportunities for discussion in a welcoming\, beginner-friendly space. \nLearning Objectives\nParticipants will: \n\nDeepen their understanding of how to prepare for and approach partnerships with Native Nations\, with principles that can inform engagement in other contexts.\nGain practical tools for developing personal or organizational action steps using NGC’s action planning framework.\nExchange ideas with fellow participants in small groups to refine and inspire their own action steps.\n\nNative Governance Center Presenters: \n\nCree Rose Dueker (Chippewa Cree Tribe): Program Manager for Community Engagement\nJessica Glidden (Boise Forte Band of Chippewa): Program Manager for Leadership Development\n\nK-12 Educators will receive 2.5 clock hours. \nRegistration\nRegistration Questions: registrations@mnhum.org  \nRegister Now
URL:https://www.mnhum.org/event/online-beyond-learning-from-place-featuring-native-governance-center/
CATEGORIES:Free,K-12 Education,Online,Professional Development
ATTACH;FMTTYPE=image/jpeg:https://www.mnhum.org/wp-content/uploads/2025/10/event_beyond_lfp_2025.jpg
ORGANIZER;CN="Eden Bart":MAILTO:eden@mnhum.org
LOCATION:https://www.mnhum.org/event/online-beyond-learning-from-place-featuring-native-governance-center/
END:VEVENT
BEGIN:VEVENT
DTSTART;TZID=America/Chicago:20251115T093000
DTEND;TZID=America/Chicago:20251115T113000
DTSTAMP:20260419T232856
CREATED:20251007T160040Z
LAST-MODIFIED:20251008T155842Z
UID:10000587-1763199000-1763206200@www.mnhum.org
SUMMARY:Online – Teaching Bdote Educator Workshop
DESCRIPTION:The Teaching Bdote Educator Workshop is designed for educators who have attended Learning from Place: Bdote and are preparing to incorporate the experience into their classroom or lead their own classroom field trip. Whether you are looking for a refresher or preparing for your first teacher-led trip\, this workshop will provide the guidance\, resources\, and confidence you need. \nOffered in collaboration with Saint Paul Public Schools\, this interactive session supports educators in aligning Bdote field trips with the 2021 Minnesota Social Studies Standards and the inquiry-based model of learning. Facilitators will also address the common questions and anxieties that non-Indigenous educators may experience when teaching Dakota history\, grounding the work in Dakota voices and perspectives. \nFacilitators include current classroom educators who have recently led Bdote field trips and Ramona Kitto Stately (Santee Dakota). Ramona\, MHC’s primary lead for Learning from Place: Bdote\, provides cultural expertise and guidance on teaching Dakota history with care. \nParticipants will: \n\nLearn from classroom teachers who have recently led Bdote field trips.\nHear candid reflections from non-Indigenous educators about teaching Bdote.\nGain insights from Ramona Kitto Stately on centering Dakota knowledge and perspectives.\nAccess resources and lesson materials to support both classroom learning and field trip planning.\n\nIntended Audience: While all are welcome\, this workshop is especially geared toward teachers in grades 4–7. \nK-12 Educators will receive 2 clock hours. \nRegistration\nSPPS teachers: Register using discount code SPPS25 to waive the fee. \nRegistration Questions: registrations@mnhum.org | MHC Cancellation Policy \nRegister Now
URL:https://www.mnhum.org/event/online-teaching-bdote-educator-workshop/
CATEGORIES:K-12 Education,Online,Professional Development
ATTACH;FMTTYPE=image/jpeg:https://www.mnhum.org/wp-content/uploads/2025/10/event_teaching_bdote_2025.jpg
ORGANIZER;CN="Eden Bart":MAILTO:eden@mnhum.org
LOCATION:https://www.mnhum.org/event/online-teaching-bdote-educator-workshop/
END:VEVENT
BEGIN:VEVENT
DTSTART;TZID=America/Chicago:20251119T180000
DTEND;TZID=America/Chicago:20251119T203000
DTSTAMP:20260419T232856
CREATED:20250930T151653Z
LAST-MODIFIED:20251110T180431Z
UID:10000579-1763575200-1763584200@www.mnhum.org
SUMMARY:St. Paul – Celebrating Native Language and Culture Through the Joy of Games
DESCRIPTION:Put the cellphones away and join us for an evening of fun\, food\, and cultural connection. This National Native American Heritage Month\, the Minnesota Humanities Center welcomes Tony Drews and Nashke Native Games for a lively\, intergenerational game night. \nUnlike mainstream board games that reflect dominant cultural experiences\, Nashke Native Games center Ojibwe language\, stories\, and values\, offering a playful way to engage with culture\, strengthen family and community bonds\, and support language preservation. The evening begins with a light dinner from Trickster Tacos and conversation from 6:00–6:30 p.m.\, followed by games starting at 6:30 p.m. \nAs part of the evening\, guests will also have a chance to participate in a raffle for prizes\, including items from Nashke Native Games and books from Native American Lives\, the Minnesota Humanities Center’s biography series highlighting Native voices. One title\, “Charles Albert Bender: National Baseball Hall of Fame Pitcher\,” tells the story of Bender and his passion for baseball – a reminder that games\, in all forms\, bring people together. \nEducators and cultural leaders will discover practical ideas for integrating play into classrooms and community work. Whether you come with family\, friends\, or on your own\, you’ll leave with new words\, fresh insights\, and a deeper appreciation for the power of play in preserving culture and fostering connection. Everyone is welcome—families\, educators\, and community members ages 10 and up. \nK-12 Educators will receive 2 clock hours. \nRegistration\nRegistration for this event has SOLD OUT. Please join the waitlist. If a spot becomes available\, we will contact you in the order received. \nRegistration Questions: registrations@mnhum.org \nJoin the Waitlist
URL:https://www.mnhum.org/event/st-paul-celebrating-native-language-and-culture-through-the-joy-of-games/
LOCATION:Minnesota Humanities Event Center\, 987 Ivy Avenue East\, Saint Paul\, MN\, 55106\, United States
CATEGORIES:CEUs/Clock Hours,Free,Immersive Experiences,Kid Friendly
ATTACH;FMTTYPE=image/jpeg:https://www.mnhum.org/wp-content/uploads/2025/09/event_native_game_night_2025.jpg
ORGANIZER;CN="Eden Bart":MAILTO:eden@mnhum.org
END:VEVENT
END:VCALENDAR