BEGIN:VCALENDAR
VERSION:2.0
PRODID:-//Minnesota Humanities Center - ECPv6.15.20//NONSGML v1.0//EN
CALSCALE:GREGORIAN
METHOD:PUBLISH
X-WR-CALNAME:Minnesota Humanities Center
X-ORIGINAL-URL:https://www.mnhum.org
X-WR-CALDESC:Events for Minnesota Humanities Center
REFRESH-INTERVAL;VALUE=DURATION:PT1H
X-Robots-Tag:noindex
X-PUBLISHED-TTL:PT1H
BEGIN:VTIMEZONE
TZID:America/Chicago
BEGIN:DAYLIGHT
TZOFFSETFROM:-0600
TZOFFSETTO:-0500
TZNAME:CDT
DTSTART:20250309T080000
END:DAYLIGHT
BEGIN:STANDARD
TZOFFSETFROM:-0500
TZOFFSETTO:-0600
TZNAME:CST
DTSTART:20251102T070000
END:STANDARD
BEGIN:DAYLIGHT
TZOFFSETFROM:-0600
TZOFFSETTO:-0500
TZNAME:CDT
DTSTART:20260308T080000
END:DAYLIGHT
BEGIN:STANDARD
TZOFFSETFROM:-0500
TZOFFSETTO:-0600
TZNAME:CST
DTSTART:20261101T070000
END:STANDARD
BEGIN:DAYLIGHT
TZOFFSETFROM:-0600
TZOFFSETTO:-0500
TZNAME:CDT
DTSTART:20270314T080000
END:DAYLIGHT
BEGIN:STANDARD
TZOFFSETFROM:-0500
TZOFFSETTO:-0600
TZNAME:CST
DTSTART:20271107T070000
END:STANDARD
END:VTIMEZONE
BEGIN:VEVENT
DTSTART;TZID=America/Chicago:20260307T090000
DTEND;TZID=America/Chicago:20260307T120000
DTSTAMP:20260419T181729
CREATED:20260211T225023Z
LAST-MODIFIED:20260225T212023Z
UID:10000626-1772874000-1772884800@www.mnhum.org
SUMMARY:St. Paul - Teaching Bdote Educator Workshop
DESCRIPTION:The Teaching Bdote Educator Workshop is designed for educators who have attended or plan to attend Learning from Place: Bdote and are preparing to incorporate the experience into their classroom or to lead their own classroom field trip. Whether you are looking for a refresher or preparing for your first teacher-led trip\, this workshop will provide the guidance\, resources\, and confidence you need. \nOffered in collaboration with Saint Paul Public Schools\, this interactive\, in-person session supports educators in aligning Bdote field trips with the 2021 Minnesota Social Studies Standards and the inquiry-based model of learning. Participants will also receive an overview of newly developed Bdote lesson plans\, including a closer look at one lesson that is nearing completion and explicitly aligned to the standards. These lessons are designed to support classroom learning before and after a Bdote field trip. \nThe workshop will be facilitated by Saint Paul Public Schools and Minnesota Humanities Center staff and will address common questions and anxieties that non-Indigenous educators may experience when teaching Dakota history\, grounding the work in Dakota voices and perspectives. \nRamona Kitto Stately (Santee Dakota) will share Dakota perspectives and guidance on teaching Dakota history with care. Participant reflections from classroom educators who have recently led Bdote field trips will be shared through short video segments from a previous Teaching Bdote session\, offering candid insights and practical guidance grounded in real classroom experience. \nParticipants will: \n\nLearn from recorded reflections and practical guidance from classroom educators on teaching Bdote\, preparing students\, and leading field trips.\nLearn from Dakota perspectives on centering Indigenous knowledge and place-based histories.\nExplore new and emerging Bdote lesson plans aligned to Minnesota Social Studies Standards.\nAccess resources and lesson materials to support both classroom learning and field trip planning.\n\nIntended Audience: While all are welcome\, this workshop is especially geared toward teachers in grades 4–7. \nK-12 educators will receive 3 clock hours upon completion of the workshop. \nContinental Breakfast will be provided. \nRegistration\nSaint Paul Public School teachers: Register using discount code SPPS26 to waive the fee. \nRegistration Questions: registrations@mnhum.org | Cancellation Policy \nRegister Now
URL:https://www.mnhum.org/event/st-paul-teaching-bdote-educator-workshop/
LOCATION:Minnesota Humanities Event Center\, 987 Ivy Avenue East\, Saint Paul\, MN\, 55106\, United States
CATEGORIES:K-12 Education,Professional Development
ATTACH;FMTTYPE=image/jpeg:https://www.mnhum.org/wp-content/uploads/2025/10/event_teaching_bdote_2025.jpg
ORGANIZER;CN="Eden Bart":MAILTO:eden@mnhum.org
END:VEVENT
BEGIN:VEVENT
DTSTART;TZID=America/Chicago:20260318T080000
DTEND;TZID=America/Chicago:20260320T170000
DTSTAMP:20260419T181729
CREATED:20260217T204948Z
LAST-MODIFIED:20260309T143057Z
UID:10000628-1773820800-1774026000@www.mnhum.org
SUMMARY:Prior Lake - 41st Annual Minnesota Indian Education Association Conference
DESCRIPTION:The Minnesota Humanities Center will be at the annual Minnesota Indian Education Association (MIEA) Conference this year – stop by our table to connect with us\, explore educator resources\, and learn more about our work with educators. \nYou can also find us co-presenting at the following sessions: \n\nDrop Everything and Read Indigenous with the Native American Lives Series\nStory\, Place\, and Identity: An Educator Guide to Native Artists Featured in the Native American Lives Series\nFrom Bdote to the Classroom: Teaching Dakota History through Place-Based Learning\n\nAbout MIEA\nThe primary goal of MIEA is to create and uphold a robust communication network while fostering quality education and unity among American Indians. This objective serves to ensure the continuous flow of information and heightened awareness regarding both local and statewide educational endeavors. Specifically\, MIEA is dedicated to persistent awareness and proactive efforts that cater to the distinct educational and culturally specific needs of American Indian students across the state. Through these concerted actions\, MIEA aims to significantly contribute to the educational and cultural enrichment of American Indian communities.  \nRegistration\nThe full MIEA Conference runs from March 18-20. Registration and payment through MIEA for the full conference are required to attend. \nRegistration Questions: info@minnesotaindianeducation.org \nRegister Now
URL:https://www.mnhum.org/event/prior-lake-41st-annual-minnesota-indian-education-association-conference/
LOCATION:Mystic Lake Center\, 2400 Mystic Lake Boulevard NW\, Prior Lake\, MN\, 55372\, United States
CATEGORIES:K-12 Education
ATTACH;FMTTYPE=image/jpeg:https://www.mnhum.org/wp-content/uploads/2025/02/event_miea_conference_2025.jpg
ORGANIZER;CN="Eden Bart":MAILTO:eden@mnhum.org
END:VEVENT
BEGIN:VEVENT
DTSTART;TZID=America/Chicago:20260324T180000
DTEND;TZID=America/Chicago:20260324T193000
DTSTAMP:20260419T181729
CREATED:20251209T220554Z
LAST-MODIFIED:20260309T142629Z
UID:10000605-1774375200-1774380600@www.mnhum.org
SUMMARY:Roseville - Minnesota Writers Off the Page: Carson Faust
DESCRIPTION:Minnesota Writers Off the Page and Makwa Coffee’s Native Author Book Club are joining forces for a special evening with Carson Faust\, author of “If the Dead Belong Here\,” which has just been shortlisted for the Minnesota Book Awards in the Novel/Short Story category!  For this intergenerational\, supernatural thriller\, Faust will be in discussion with author Dennis E. Staples\, and along with readings from the book\, they will discuss ghosts\, hauntings\, the craft of horror/thriller\, and how their Indigenous backgrounds inform their writing. Following the discussion\, audience members are invited to participate in a Q&A session\, and have further informal conversation with the featured speakers. Light refreshments will be available for purchase through the cafe. Copies of “If the Dead Belong Here” will be available for purchase\, and the evening will finish with a book signing. \nAbout the Speakers\nCarson Faust is two-spirit and an enrolled member of the Edisto Natchez-Kusso Tribe of South Carolina. He is the recipient of artist fellowships from the McKnight Foundation and the Jerome Foundation. His fiction has appeared in TriQuarterly\, ANMLY\, and Waxwing\, among other journals\, and has been anthologized in “Never Whistle at Night: An Indigenous Dark Fiction Anthology.” He lives in Minnesota\, where he works in philanthropy. \nDennis E. Staples is an Ojibwe writer from Bemidji\, Minnesota\, and the author of “This Town Sleeps” and “Passing Through a Prairie Country.” He holds an MFA in fiction from the Institute of American Indian Arts and is a graduate of the 2018 Clarion West Writers Workshop and a recipient of the Octavia E. Butler Memorial Scholarship. His work has appeared in Asimov’s Science Fiction and Nightmare magazine. He is a member of the Red Lake Nation. \nThis event is presented in partnership with Makwa Coffee\, a community centered craft coffee shop in Roseville\, MN. This event is part of the Minnesota Writers Off the Page series\, bringing the inspirational voices of Minnesota’s authors directly to readers. \nRegistration\nThis event is free\, however registration is required. \nRegistration Questions: registrations@mnhum.org  \nRegister Now
URL:https://www.mnhum.org/event/roseville-minnesota-writers-off-the-page-carson-faust/
LOCATION:Autumn Grove Park\, 1365 Lydia Avenue W\, Roseville\, 55113\, United States
CATEGORIES:Free,Minnesota Writers Off the Page,Public Programming
ATTACH;FMTTYPE=image/png:https://www.mnhum.org/wp-content/uploads/2025/12/event_mn_writers_carson_faust_2026.png
ORGANIZER;CN="Corey China":MAILTO:corey@mnhum.org
END:VEVENT
END:VCALENDAR