BEGIN:VCALENDAR
VERSION:2.0
PRODID:-//Minnesota Humanities Center - ECPv6.15.20//NONSGML v1.0//EN
CALSCALE:GREGORIAN
METHOD:PUBLISH
X-ORIGINAL-URL:https://www.mnhum.org
X-WR-CALDESC:Events for Minnesota Humanities Center
REFRESH-INTERVAL;VALUE=DURATION:PT1H
X-Robots-Tag:noindex
X-PUBLISHED-TTL:PT1H
BEGIN:VTIMEZONE
TZID:America/Chicago
BEGIN:DAYLIGHT
TZOFFSETFROM:-0600
TZOFFSETTO:-0500
TZNAME:CDT
DTSTART:20250309T080000
END:DAYLIGHT
BEGIN:STANDARD
TZOFFSETFROM:-0500
TZOFFSETTO:-0600
TZNAME:CST
DTSTART:20251102T070000
END:STANDARD
BEGIN:DAYLIGHT
TZOFFSETFROM:-0600
TZOFFSETTO:-0500
TZNAME:CDT
DTSTART:20260308T080000
END:DAYLIGHT
BEGIN:STANDARD
TZOFFSETFROM:-0500
TZOFFSETTO:-0600
TZNAME:CST
DTSTART:20261101T070000
END:STANDARD
BEGIN:DAYLIGHT
TZOFFSETFROM:-0600
TZOFFSETTO:-0500
TZNAME:CDT
DTSTART:20270314T080000
END:DAYLIGHT
BEGIN:STANDARD
TZOFFSETFROM:-0500
TZOFFSETTO:-0600
TZNAME:CST
DTSTART:20271107T070000
END:STANDARD
END:VTIMEZONE
BEGIN:VEVENT
DTSTART;TZID=America/Chicago:20260318T080000
DTEND;TZID=America/Chicago:20260320T170000
DTSTAMP:20260419T171147
CREATED:20260217T204948Z
LAST-MODIFIED:20260309T143057Z
UID:10000628-1773820800-1774026000@www.mnhum.org
SUMMARY:Prior Lake - 41st Annual Minnesota Indian Education Association Conference
DESCRIPTION:The Minnesota Humanities Center will be at the annual Minnesota Indian Education Association (MIEA) Conference this year – stop by our table to connect with us\, explore educator resources\, and learn more about our work with educators. \nYou can also find us co-presenting at the following sessions: \n\nDrop Everything and Read Indigenous with the Native American Lives Series\nStory\, Place\, and Identity: An Educator Guide to Native Artists Featured in the Native American Lives Series\nFrom Bdote to the Classroom: Teaching Dakota History through Place-Based Learning\n\nAbout MIEA\nThe primary goal of MIEA is to create and uphold a robust communication network while fostering quality education and unity among American Indians. This objective serves to ensure the continuous flow of information and heightened awareness regarding both local and statewide educational endeavors. Specifically\, MIEA is dedicated to persistent awareness and proactive efforts that cater to the distinct educational and culturally specific needs of American Indian students across the state. Through these concerted actions\, MIEA aims to significantly contribute to the educational and cultural enrichment of American Indian communities.  \nRegistration\nThe full MIEA Conference runs from March 18-20. Registration and payment through MIEA for the full conference are required to attend. \nRegistration Questions: info@minnesotaindianeducation.org \nRegister Now
URL:https://www.mnhum.org/event/prior-lake-41st-annual-minnesota-indian-education-association-conference/
LOCATION:Mystic Lake Center\, 2400 Mystic Lake Boulevard NW\, Prior Lake\, MN\, 55372\, United States
CATEGORIES:K-12 Education
ATTACH;FMTTYPE=image/jpeg:https://www.mnhum.org/wp-content/uploads/2025/02/event_miea_conference_2025.jpg
ORGANIZER;CN="Eden Bart":MAILTO:eden@mnhum.org
END:VEVENT
END:VCALENDAR