BEGIN:VCALENDAR
VERSION:2.0
PRODID:-//Minnesota Humanities Center - ECPv6.15.20//NONSGML v1.0//EN
CALSCALE:GREGORIAN
METHOD:PUBLISH
X-WR-CALNAME:Minnesota Humanities Center
X-ORIGINAL-URL:https://www.mnhum.org
X-WR-CALDESC:Events for Minnesota Humanities Center
REFRESH-INTERVAL;VALUE=DURATION:PT1H
X-Robots-Tag:noindex
X-PUBLISHED-TTL:PT1H
BEGIN:VTIMEZONE
TZID:America/Chicago
BEGIN:DAYLIGHT
TZOFFSETFROM:-0600
TZOFFSETTO:-0500
TZNAME:CDT
DTSTART:20240310T080000
END:DAYLIGHT
BEGIN:STANDARD
TZOFFSETFROM:-0500
TZOFFSETTO:-0600
TZNAME:CST
DTSTART:20241103T070000
END:STANDARD
BEGIN:DAYLIGHT
TZOFFSETFROM:-0600
TZOFFSETTO:-0500
TZNAME:CDT
DTSTART:20250309T080000
END:DAYLIGHT
BEGIN:STANDARD
TZOFFSETFROM:-0500
TZOFFSETTO:-0600
TZNAME:CST
DTSTART:20251102T070000
END:STANDARD
BEGIN:DAYLIGHT
TZOFFSETFROM:-0600
TZOFFSETTO:-0500
TZNAME:CDT
DTSTART:20260308T080000
END:DAYLIGHT
BEGIN:STANDARD
TZOFFSETFROM:-0500
TZOFFSETTO:-0600
TZNAME:CST
DTSTART:20261101T070000
END:STANDARD
END:VTIMEZONE
BEGIN:VEVENT
DTSTART;TZID=America/Chicago:20250919T180000
DTEND;TZID=America/Chicago:20250919T210000
DTSTAMP:20260419T095018
CREATED:20250731T204858Z
LAST-MODIFIED:20250731T204858Z
UID:10000540-1758304800-1758315600@www.mnhum.org
SUMMARY:Winona - Shorelines and Storylines: An Artist Gathering
DESCRIPTION:Join us for a special evening of reflection\, story\, and shared warmth around the fire (weather permitting). This gathering offers an opportunity to connect with the artists of Once Upon A Shore through a special panel conversation moderated by guest exhibition curator\, Heid E. Erdrich. Enjoy passed appetizers\, and purchase drinks from Minnesota Marine Art Museum (MMAM)’s Water Bar Cafe & Provisions. The Minnesota Humanities Center is excited to partner with MMAM to highlight artists Gwen Nell Westerman\, Tashia Hart\, and Cole Redhorse Taylor who have contributed to the Native American Lives Series\, books by and about Dakota and Ojibwe Minnesotans\, for middle grade readers. Guests are also invited to purchase a variety of books created by exhibition artists\, including the newest publications Ella Cara Deloria: Dakota Language Protector\, Charles Albert Bender: National Baseball Hall of Fame Pitcher\, Peggy Flanagan: Lieutenant Governor\, and Carrie Cavender Schommer: Dakota Language Teacher\, and have your copy signed and personalized. \nRegistration\nShorelines and Storylines is organized by the Minnesota Marine Art Museum. Registration through the Minnesota Marine Art Museum is required to attend. \nRegister Now
URL:https://www.mnhum.org/event/winona-shorelines-and-storylines-an-artist-gathering/
LOCATION:Minnesota Marine Art Museum\, 800 Riverview Drive\, Winona\, 55987\, United States
CATEGORIES:Books, Poetry, and Literature,Free,Greater Minnesota,Native American Lives Series,Public Programming
ATTACH;FMTTYPE=image/jpeg:https://www.mnhum.org/wp-content/uploads/2025/07/event_once_upon_a_shore_2025.jpg
ORGANIZER;CN="Corey China":MAILTO:corey@mnhum.org
END:VEVENT
END:VCALENDAR