BEGIN:VCALENDAR
VERSION:2.0
PRODID:-//Minnesota Humanities Center - ECPv6.15.20//NONSGML v1.0//EN
CALSCALE:GREGORIAN
METHOD:PUBLISH
X-WR-CALNAME:Minnesota Humanities Center
X-ORIGINAL-URL:https://www.mnhum.org
X-WR-CALDESC:Events for Minnesota Humanities Center
REFRESH-INTERVAL;VALUE=DURATION:PT1H
X-Robots-Tag:noindex
X-PUBLISHED-TTL:PT1H
BEGIN:VTIMEZONE
TZID:America/Chicago
BEGIN:DAYLIGHT
TZOFFSETFROM:-0600
TZOFFSETTO:-0500
TZNAME:CDT
DTSTART:20210314T080000
END:DAYLIGHT
BEGIN:STANDARD
TZOFFSETFROM:-0500
TZOFFSETTO:-0600
TZNAME:CST
DTSTART:20211107T070000
END:STANDARD
BEGIN:DAYLIGHT
TZOFFSETFROM:-0600
TZOFFSETTO:-0500
TZNAME:CDT
DTSTART:20220313T080000
END:DAYLIGHT
BEGIN:STANDARD
TZOFFSETFROM:-0500
TZOFFSETTO:-0600
TZNAME:CST
DTSTART:20221106T070000
END:STANDARD
BEGIN:DAYLIGHT
TZOFFSETFROM:-0600
TZOFFSETTO:-0500
TZNAME:CDT
DTSTART:20230312T080000
END:DAYLIGHT
BEGIN:STANDARD
TZOFFSETFROM:-0500
TZOFFSETTO:-0600
TZNAME:CST
DTSTART:20231105T070000
END:STANDARD
END:VTIMEZONE
BEGIN:VEVENT
DTSTART;TZID=America/Chicago:20221001T100000
DTEND;TZID=America/Chicago:20221001T160000
DTSTAMP:20260419T093902
CREATED:20220713T141937Z
LAST-MODIFIED:20221003T132056Z
UID:10000308-1664618400-1664640000@www.mnhum.org
SUMMARY:POSTPONED - Mankato - Poetry in the Parks
DESCRIPTION:What does nature mean to you? Students in grades 5-8 are invited to join Minnesota’s Poet Laureate Gwen Westerman and fellow poet Michael Torres* for a daylong writing workshop at Minnesota State Parks. Alongside the poets\, students will explore the beauty of nature and write their own poems. Students will receive instruction and encouragement to write in their home languages as well as English.  \nEach workshop will run from 10:00 a.m. – 4:00 p.m. and has space for 20 students in grades 5 – 8 (academic year 2022-23).  Pens and notebooks will be provided\, and students will be given prompts in advance. Refreshments will include morning and afternoon snacks and lunch.  \nBus transportation will be provided from Blue Earth County Library to Minneopa State Park. \n*At select locations
URL:https://www.mnhum.org/event/mankato-poetry-in-the-parks/
LOCATION:Blue Earth County Library\, 100 East Main Street\, Mankato\, MN\, 56001\, United States
CATEGORIES:Books, Poetry, and Literature,Free,Greater Minnesota,Kid Friendly,Public Programs
ATTACH;FMTTYPE=image/jpeg:https://www.mnhum.org/wp-content/uploads/2022/07/poetry_parks.jpg
END:VEVENT
END:VCALENDAR