BEGIN:VCALENDAR
VERSION:2.0
PRODID:-//Minnesota Humanities Center - ECPv6.15.20//NONSGML v1.0//EN
CALSCALE:GREGORIAN
METHOD:PUBLISH
X-ORIGINAL-URL:https://www.mnhum.org
X-WR-CALDESC:Events for Minnesota Humanities Center
REFRESH-INTERVAL;VALUE=DURATION:PT1H
X-Robots-Tag:noindex
X-PUBLISHED-TTL:PT1H
BEGIN:VTIMEZONE
TZID:America/Chicago
BEGIN:DAYLIGHT
TZOFFSETFROM:-0600
TZOFFSETTO:-0500
TZNAME:CDT
DTSTART:20250309T080000
END:DAYLIGHT
BEGIN:STANDARD
TZOFFSETFROM:-0500
TZOFFSETTO:-0600
TZNAME:CST
DTSTART:20251102T070000
END:STANDARD
BEGIN:DAYLIGHT
TZOFFSETFROM:-0600
TZOFFSETTO:-0500
TZNAME:CDT
DTSTART:20260308T080000
END:DAYLIGHT
BEGIN:STANDARD
TZOFFSETFROM:-0500
TZOFFSETTO:-0600
TZNAME:CST
DTSTART:20261101T070000
END:STANDARD
BEGIN:DAYLIGHT
TZOFFSETFROM:-0600
TZOFFSETTO:-0500
TZNAME:CDT
DTSTART:20270314T080000
END:DAYLIGHT
BEGIN:STANDARD
TZOFFSETFROM:-0500
TZOFFSETTO:-0600
TZNAME:CST
DTSTART:20271107T070000
END:STANDARD
END:VTIMEZONE
BEGIN:VEVENT
DTSTART;TZID=America/Chicago:20260423T170000
DTEND;TZID=America/Chicago:20260423T190000
DTSTAMP:20260424T162438
CREATED:20260407T193451Z
LAST-MODIFIED:20260423T202855Z
UID:10000649-1776963600-1776970800@www.mnhum.org
SUMMARY:St. Paul – We Are Water MN Opening Reception at Capitol Region Watershed District
DESCRIPTION:Capitol Region Watershed District (CRWD) invites you to the We Are Water MN Reception at our Watershed Learning Center. The We Are Water MN exhibit includes personal stories from 15 community members about their connection to water. We welcome our community storytellers and their families to experience their water stories in the exhibit for the first time and meet each other. \nWe are also debuting Confluence of Care\, a vibrant new mural on our rainwater cistern created by artist Christina Vang. Christina will share her inspiration and process. \nBrief remarks by CRWD and Christina Vang\, followed by an introduction of our community storytellers\, will begin at 5:30 PM. \nLight appetizers will be provided. \nWe Are Water MN is a project of the Minnesota Pollution Control Agency and the Minnesota Humanities Center in partnership with the Minnesota Historical Society; the Board of Water and Soil Resources; the Minnesota Departments of Agriculture\, Health\, and Natural Resources; and University of Minnesota Extension. \nWe are Water MN is funded by the Clean Water\, Land\, & Legacy Fund that was created with the vote of the people of Minnesota on November 4\, 2008. \nRegistration\nThis event is free\, however registration with the Capitol Region Watershed District is required. \nRegister Now
URL:https://www.mnhum.org/event/st-paul-we-are-water-mn-opening-reception-at-capitol-region-watershed-district/
LOCATION:Capitol Region Watershed District\, 595 Aldine St\, St. Paul\, MN\, 55104\, United States
CATEGORIES:Civic Renewal,Exhibit,Free,We Are Water MN
ATTACH;FMTTYPE=image/jpeg:https://www.mnhum.org/wp-content/uploads/2026/04/event_we_are_water_mn__crwd_opening.jpg
ORGANIZER;CN="Rachel Busse-Aswar":MAILTO:rachel@mnhum.org
END:VEVENT
END:VCALENDAR