BEGIN:VCALENDAR
VERSION:2.0
PRODID:-//Minnesota Humanities Center - ECPv6.15.20//NONSGML v1.0//EN
CALSCALE:GREGORIAN
METHOD:PUBLISH
X-WR-CALNAME:Minnesota Humanities Center
X-ORIGINAL-URL:https://www.mnhum.org
X-WR-CALDESC:Events for Minnesota Humanities Center
REFRESH-INTERVAL;VALUE=DURATION:PT1H
X-Robots-Tag:noindex
X-PUBLISHED-TTL:PT1H
BEGIN:VTIMEZONE
TZID:America/Chicago
BEGIN:DAYLIGHT
TZOFFSETFROM:-0600
TZOFFSETTO:-0500
TZNAME:CDT
DTSTART:20250309T080000
END:DAYLIGHT
BEGIN:STANDARD
TZOFFSETFROM:-0500
TZOFFSETTO:-0600
TZNAME:CST
DTSTART:20251102T070000
END:STANDARD
BEGIN:DAYLIGHT
TZOFFSETFROM:-0600
TZOFFSETTO:-0500
TZNAME:CDT
DTSTART:20260308T080000
END:DAYLIGHT
BEGIN:STANDARD
TZOFFSETFROM:-0500
TZOFFSETTO:-0600
TZNAME:CST
DTSTART:20261101T070000
END:STANDARD
BEGIN:DAYLIGHT
TZOFFSETFROM:-0600
TZOFFSETTO:-0500
TZNAME:CDT
DTSTART:20270314T080000
END:DAYLIGHT
BEGIN:STANDARD
TZOFFSETFROM:-0500
TZOFFSETTO:-0600
TZNAME:CST
DTSTART:20271107T070000
END:STANDARD
END:VTIMEZONE
BEGIN:VEVENT
DTSTART;TZID=America/Chicago:20260131T100000
DTEND;TZID=America/Chicago:20260131T180000
DTSTAMP:20260424T150809
CREATED:20260128T212308Z
LAST-MODIFIED:20260128T212308Z
UID:10000617-1769853600-1769882400@www.mnhum.org
SUMMARY:Minneapolis - The Great Northern Festival: Water Bar @ Sauna Village
DESCRIPTION:MHC is excited to bring the Water Bar to The Great Northern Festival\, where water tenders will serve up flights of local drinking waters and spark conversations around stewardship of local water resources. \n“What’s a Water Bar?” you may wonder? A Water Bar is a bar that serves free\, local water. It’s a social space that centers the life-sustaining action of drinking water. It’s a table to gather around. It’s a space for quenching thirst\, for questioning water\, for sharing and encountering stories\, and for being and becoming part of a community. \nJoin us inside the Riverplace building next to the Sauna Village before or after your steam.
URL:https://www.mnhum.org/event/minneapolis-the-great-northern-festival-water-bar-sauna-village/
LOCATION:Riverplace Courtyard\, 1 SE Main St\, Minneapolis\, 55414\, United States
CATEGORIES:Civic Renewal,Free,Kid Friendly,We Are Water MN
ATTACH;FMTTYPE=image/jpeg:https://www.mnhum.org/wp-content/uploads/2026/01/event_great_northern_water_bar_2026.jpg
ORGANIZER;CN="Rachel Busse-Aswar":MAILTO:rachel@mnhum.org
END:VEVENT
END:VCALENDAR